BEGIN:VCALENDAR
VERSION:2.0
PRODID:-//Kalendar događanja Dubrovnika - ECPv6.1.1//NONSGML v1.0//EN
CALSCALE:GREGORIAN
METHOD:PUBLISH
X-ORIGINAL-URL:https://kalendar.dubrovnik.hr
X-WR-CALDESC:Događanja za Kalendar događanja Dubrovnika
REFRESH-INTERVAL;VALUE=DURATION:PT1H
X-Robots-Tag:noindex
X-PUBLISHED-TTL:PT1H
BEGIN:VTIMEZONE
TZID:Europe/Zagreb
BEGIN:DAYLIGHT
TZOFFSETFROM:+0100
TZOFFSETTO:+0200
TZNAME:CEST
DTSTART:20260329T010000
END:DAYLIGHT
BEGIN:STANDARD
TZOFFSETFROM:+0200
TZOFFSETTO:+0100
TZNAME:CET
DTSTART:20261025T010000
END:STANDARD
END:VTIMEZONE
BEGIN:VEVENT
DTSTART;TZID=Europe/Zagreb:20260420T110000
DTEND;TZID=Europe/Zagreb:20260510T190000
DTSTAMP:20260420T054833
CREATED:20260402T152831Z
LAST-MODIFIED:20260415T062911Z
UID:10010952-1776682800-1778439600@kalendar.dubrovnik.hr
SUMMARY:Izložba Lene Kramarić\, C kao ciklus?
DESCRIPTION:U Galeriji Otok\, Art radionice Lazareti\, radnim danima od ponedjeljka do petka u vremenu od 11 do 19 sati  možete pogledati izložbu pod nazivom C KAO CIKLUS? akademske umjetnice Lene Kramarić.\n\nSanjarski\, introspektivan izričaj u Crvenom se ciklusu nastavlja prepoznavati kao karakterističan za Lenino slikarstvo. Elegantni crtež u kombinaciji s ponegdje jarkom\, a ponegdje nježnijom paletom boja kontinuirano zajednički stvaraju površine platna koje se otkrivaju kroz brojne slojeve.\n….\nZa Kramarić\, slika nije samo plošni prizor nego je i materija. Struktura\, tekstura\, ogrebotine\, oštećenja – sve ono što “narušava” površinu – kod Lene je istovremeno i gradi. Slojevi\, uključujući fragilne tragove salvete\, ostaju vidljivi\, kao da umjetnica odbija sakriti proces svog rada. Dapače\, ona inzistira na tome da prikaže ranjivosti materijala koji se talože jedan na drugoga. Površina slike tako postaje mjesto memorije\, gdje se svaki zahvat bilježi kao trag postojanja.\n….\nSlikarstvo Leni Kramarić ne nudi razrješenja. Ono se kreće između svjesnog i nesvjesnog\, između potrebe za formom i njezina stalnog uslojavanja. U tom prostoru napetosti nastaje slika — kao trag procesa\, kao zapis stanja\, kao pokušaj da se ono neizrecivo ipak zadrži na površini. U konačnici\, slikarski svemir Lene Kramarić funkcionira poput otvorenog teksta: promatrač ga ne čita linearno\, nego ga nastanjuje\, vraća mu se i u njemu prepoznaje vlastite lomove i uzdizanja.\n(iz teksta Anite Ruso Brečić)\n\nTehnički postav: Nikša VukosavićKustosica: Anita Ruso BrečićProdukcija: Lena Kramarić / UO Genijator i Art radionica Lazareti\, 2026\nIzložba ostaje otvorena do 03. 05. 2026.Radno vrijeme: PON – PET 11 – 19 sati\nFinancijska podrška:Grad Dubrovnik\, Ministarstvo kulture i medija Republike Hrvatske i Dubrovačko neretvanska Županija
URL:https://kalendar.dubrovnik.hr/event/64880/2026-04-20/
LOCATION:Lazaret\, DUBROVNIK\, Dubrovačko - neretvanska županija\, 20000\, Croatia (Local Name: Hrvatska)
CATEGORIES:Izložbe,KULTURA,Suvremene umjetničke prakse
ATTACH;FMTTYPE=image/jpeg:https://kalendar.dubrovnik.hr/wp-content/uploads/2026/04/C-kao-ciklus-1.jpg
ORGANIZER;CN="Art%20radionica%20Lazareti":MAILTO:arl@du.t-com.hr
GEO:42.6586378;18.1013637
END:VEVENT
BEGIN:VEVENT
DTSTART;TZID=Europe/Zagreb:20260421T200000
DTEND;TZID=Europe/Zagreb:20260421T213000
DTSTAMP:20260420T054834
CREATED:20260313T084003Z
LAST-MODIFIED:20260313T084007Z
UID:10008978-1776801600-1776807000@kalendar.dubrovnik.hr
SUMMARY:Izvorišta u Teatru: Damir Imamović trio
DESCRIPTION:‘Izvorišta u Teatru’ je novi koncertni program koji Dubrovčanima donosi world music\, jazz i blues koncerte\, a nema pravog načina za pokrenuti cijeli ciklus od koncerta već dokazanog ljubimca dubrovačke publike\, proslavljenog sevdalijskog pjevača Damira Imamovića. On će u Kazalištu Marina Držića nastupiti sa svojim triom u kojem će\, osim njega\, svirati turski majstor na kamenčeu Derya Turkan i slovenski kontrabasist Žiga Golob. \nDamira Imamovića ne treba posebno predstavljati. Odrastao je u obitelji sevdalijskih bardova\, djeda Zaima i oca Nedžada\, a u svijet tradicijske glazbe uplovio je početkom 21. stoljeća. Na početku je djelovao u sklopu Damir Imamović Tria s kojim je snimio albume “Damir Imamović Trio svira standarde” (2006.) i “Abrašević Live” (2008.). Uslijedila su dva samostalna albuma – “Damir Imamović” (2010.) i “Svrzina kuća” (2011.)\, da bi nakon toga osnovao Sevdah Takht Damira Imamovića s kojim je 2012. objavio istoimeni album. \nIako je od početka svoje karijere privlačio pažnju međunarodne glazbene javnosti\, ključna godina za međunarodnu karijeru bila je 2016. kada je sa Sevdah Takhtom objavio album “Dvojka” za Glitterbeat Records\, a kojeg je producirao Chris Eckman. Damir Imamović iz albuma u album dobiva sve veću pažnju pa je album “Singer Of Tales” 2020. godine objavila još jedna velika izdavačka kuća – Wrasse Records. Damir ga je snimio s praktično All-Star postavom: uz njega su svirali američki basist Greg Cohen (Tom Waits\, David Byrne\, John Zorn\, Elvis Costello\, Tricky…)\, kamenče virtuoz Derya Türkan\, sigurno jedan od najvažnijih turskih glazbenika\, te sjajna bh. violinistica Ivana Đurić. Album je producirao Joe Boyd (Pink Floyd\, R.E.M.\, Nick Drake…). \nTo nije bio i vrhunac njegove izdavačke karijere. Naime\, prošle godine je njegov novi album “The World And All That It Holds” objavila ugledna izdavačka kuća Smithsonian Folkways\, a Imamović je jedan od rijetkih europskih izvođača kojem je Smithsonian objavio album. Zanimljivost kod ovog albuma je činjenica da ga je Damir napisao kao svojevrstan soundtrack novom istoimenom romanu Aleksandra Hemona. Damir je čitao Hemonov rukopis u njegovom nastajanju te skladao ovaj album koji je prošle godine završio na mnogim svjetskim top-listama u samom vrhu world music produkcije. \nDamir Imamović se sa svojim triom vraća u Dubrovnik kako bi nas još jednom odveo u čaroban sevdalijski svijet. \n‘Imamović’s moving voice\, simultaneously delicate and strong\, is given space to breathe throughout. This is folk music that connects lightning-bolt moments of emotion through the centuries\, illuminating hidden stories and shimmering with electricity.” Guardian (Folk album of the month)
URL:https://kalendar.dubrovnik.hr/event/izvorista-u-teatru-damir-imamovic-trio/
LOCATION:Kazalište Marina Držića\, DUBROVNIK\, Dubrovačko - neretvanska županija\, 20000\, Croatia (Local Name: Hrvatska)
CATEGORIES:Koncerti,KULTURA
ATTACH;FMTTYPE=image/jpeg:https://kalendar.dubrovnik.hr/wp-content/uploads/2026/03/Velika-stavka-Damir-by-Edvin-Kalić-2.jpeg
ORGANIZER;CN="Kazali%C5%A1te%20Marina%20Dr%C5%BEi%C4%87a":MAILTO:ured@kmd.hr
GEO:42.6405461;18.110627
END:VEVENT
END:VCALENDAR