BEGIN:VCALENDAR
VERSION:2.0
PRODID:-//Kalendar događanja Dubrovnika - ECPv6.1.1//NONSGML v1.0//EN
CALSCALE:GREGORIAN
METHOD:PUBLISH
X-WR-CALNAME:Kalendar događanja Dubrovnika
X-ORIGINAL-URL:https://kalendar.dubrovnik.hr
X-WR-CALDESC:Događanja za Kalendar događanja Dubrovnika
REFRESH-INTERVAL;VALUE=DURATION:PT1H
X-Robots-Tag:noindex
X-PUBLISHED-TTL:PT1H
BEGIN:VTIMEZONE
TZID:Europe/Zagreb
BEGIN:DAYLIGHT
TZOFFSETFROM:+0100
TZOFFSETTO:+0200
TZNAME:CEST
DTSTART:20260329T010000
END:DAYLIGHT
BEGIN:STANDARD
TZOFFSETFROM:+0200
TZOFFSETTO:+0100
TZNAME:CET
DTSTART:20261025T010000
END:STANDARD
END:VTIMEZONE
BEGIN:VEVENT
DTSTART;TZID=Europe/Zagreb:20260423T110000
DTEND;TZID=Europe/Zagreb:20260513T190000
DTSTAMP:20260423T125942
CREATED:20260402T152831Z
LAST-MODIFIED:20260415T062911Z
UID:10010955-1776942000-1778698800@kalendar.dubrovnik.hr
SUMMARY:Izložba Lene Kramarić\, C kao ciklus?
DESCRIPTION:U Galeriji Otok\, Art radionice Lazareti\, radnim danima od ponedjeljka do petka u vremenu od 11 do 19 sati  možete pogledati izložbu pod nazivom C KAO CIKLUS? akademske umjetnice Lene Kramarić.\n\nSanjarski\, introspektivan izričaj u Crvenom se ciklusu nastavlja prepoznavati kao karakterističan za Lenino slikarstvo. Elegantni crtež u kombinaciji s ponegdje jarkom\, a ponegdje nježnijom paletom boja kontinuirano zajednički stvaraju površine platna koje se otkrivaju kroz brojne slojeve.\n….\nZa Kramarić\, slika nije samo plošni prizor nego je i materija. Struktura\, tekstura\, ogrebotine\, oštećenja – sve ono što “narušava” površinu – kod Lene je istovremeno i gradi. Slojevi\, uključujući fragilne tragove salvete\, ostaju vidljivi\, kao da umjetnica odbija sakriti proces svog rada. Dapače\, ona inzistira na tome da prikaže ranjivosti materijala koji se talože jedan na drugoga. Površina slike tako postaje mjesto memorije\, gdje se svaki zahvat bilježi kao trag postojanja.\n….\nSlikarstvo Leni Kramarić ne nudi razrješenja. Ono se kreće između svjesnog i nesvjesnog\, između potrebe za formom i njezina stalnog uslojavanja. U tom prostoru napetosti nastaje slika — kao trag procesa\, kao zapis stanja\, kao pokušaj da se ono neizrecivo ipak zadrži na površini. U konačnici\, slikarski svemir Lene Kramarić funkcionira poput otvorenog teksta: promatrač ga ne čita linearno\, nego ga nastanjuje\, vraća mu se i u njemu prepoznaje vlastite lomove i uzdizanja.\n(iz teksta Anite Ruso Brečić)\n\nTehnički postav: Nikša VukosavićKustosica: Anita Ruso BrečićProdukcija: Lena Kramarić / UO Genijator i Art radionica Lazareti\, 2026\nIzložba ostaje otvorena do 03. 05. 2026.Radno vrijeme: PON – PET 11 – 19 sati\nFinancijska podrška:Grad Dubrovnik\, Ministarstvo kulture i medija Republike Hrvatske i Dubrovačko neretvanska Županija
URL:https://kalendar.dubrovnik.hr/event/64880/2026-04-23/
LOCATION:Lazaret\, DUBROVNIK\, Dubrovačko - neretvanska županija\, 20000\, Croatia (Local Name: Hrvatska)
CATEGORIES:Izložbe,KULTURA,Suvremene umjetničke prakse
ATTACH;FMTTYPE=image/jpeg:https://kalendar.dubrovnik.hr/wp-content/uploads/2026/04/C-kao-ciklus-1.jpg
ORGANIZER;CN="Art%20radionica%20Lazareti":MAILTO:arl@du.t-com.hr
GEO:42.6586378;18.1013637
END:VEVENT
BEGIN:VEVENT
DTSTART;TZID=Europe/Zagreb:20260424T190000
DTEND;TZID=Europe/Zagreb:20261031T203000
DTSTAMP:20260423T125942
CREATED:20260401T122247Z
LAST-MODIFIED:20260401T122247Z
UID:10010944-1777057200-1793478600@kalendar.dubrovnik.hr
SUMMARY:MARIN DRŽIĆ – PRVI ČIN / 500 godina prvog spomena Marina Držića / (1526. – 2026.)
DESCRIPTION:MARIN DRŽIĆ – PRVI ČIN / 500 godina prvog spomena Marina Držića / (1526. – 2026.) \n \nUstanova u kulturi Grada Dubrovnika Dom Marina Držića 24. travnja 2026. u 19. sati upriličit\nće otvorenje izložbe „Marin Držić – prvi čin“ kojom će se obilježiti 500 godina prvog spomena\nMarina Držića (1526. – 2026.)\, u ispravi kojim se on potvrđuje za rektora crkve Svih Svetih\n(Domino) u Dubrovniku\, nastaloj 12. travnja 1526. godine. Navedena isprava čuva se u\nDržavnom arhivu u Dubrovniku\, u fondu Razni zapisi državne kancelarije Dubrovnik.\nBudući da se radi o zaista vrijednom arhivskom dokumentu u kojem je Marin Držić prvi put\nstupio na pozornicu pisane povijesti\, izložba „Marin Držić – prvi čin“ realizirat će se u suradnji\nDoma Marina Držića i Državnog arhiva u Dubrovniku te će centralni eksponat izložbe biti\nnavedena isprava u kojoj se Marin Držić najprije imenuje klerikom te potvrđuje za rektora\npolovice crkve Svih svetih (Domino) u Dubrovniku. Ta je isprava iznimno važna jer se u njoj\nprvi put spominje budući pisac i opisuje događaj u kojem je ne samo sudjelovao\, već mu je\ndonio financijske i društvene posljedice. Bez materijalnih prihoda od crkvenih posjeda Marin\nDržić možda ne bi imao mogućnosti posvetiti se spisateljskom i kazališnom radu te nam u\nnasljeđe ostaviti remek-djela ne samo hrvatske\, već i europske renesansne komediografije. A\nda nije postao rektor Domina\, Dom Marina Držića danas se ne bi nalazio upravo u kući koja je\ns navedenom crkvom činila cjelinu i služila potrebama njezina rektora.\nIako je danas najpoznatiji kao dramski pisac\, te ga se često naziva najvećim hrvatskim\nkomediografom\, Marin Držić je pripadao katoličkom kleru\, te se u arhivskim dokumentima\nspominje najprije kao klerik\, potom đakon\, a od oko 1550. i svećenik. Posljednje godine\nživota proveo je u Veneciji kao kapelan mletačkog nadbiskupa\, a pokopan je u tamošnjoj\ncrkvi Svetih Ivana i Pavla\, zvanoj Zanipoli 1567. godine. Stoga nas posebno veseli što će ova\nizložba tematizirati i tu važnu\, pomalo zanemarenu činjenicu o dum Marinu Držiću.
URL:https://kalendar.dubrovnik.hr/event/marin-drzic-prvi-cin-500-godina-prvog-spomena-marina-drzica-1526-2026/
LOCATION:Dom Marina Držića\, Široka 7\, DUBROVNIK\, Dubrovačko - neretvanska županija\, 20000\, Croatia (Local Name: Hrvatska)
CATEGORIES:Izložbe,KULTURA
ATTACH;FMTTYPE=image/png:https://kalendar.dubrovnik.hr/wp-content/uploads/2026/04/vizual-preview2.png
ORGANIZER;CN="Dom%20Marina%20Dr%C5%BEi%C4%87a":MAILTO:ravnatelj@muzej-marindrzic.eu
GEO:42.6407209;18.1079795
X-APPLE-STRUCTURED-LOCATION;VALUE=URI;X-ADDRESS=Dom Marina Držića Široka 7 DUBROVNIK Dubrovačko - neretvanska županija 20000 Croatia (Local Name: Hrvatska);X-APPLE-RADIUS=500;X-TITLE=Široka 7:geo:18.1079795,42.6407209
END:VEVENT
BEGIN:VEVENT
DTSTART;TZID=Europe/Zagreb:20260425T110000
DTEND;TZID=Europe/Zagreb:20260425T170000
DTSTAMP:20260423T125942
CREATED:20260417T132636Z
LAST-MODIFIED:20260417T132636Z
UID:10011361-1777114800-1777136400@kalendar.dubrovnik.hr
SUMMARY:Razmjena biljaka u Art radionici Lazareti
DESCRIPTION:RAZMJENA BILJAKA!\nZa sve ljubitelje i ljubiteljice\, početnice\, prekaljene vrtlarice\, vikend vrtlare\, obožavatelje prčkanja po zemlji i sve one koji razgovaraju s biljkama i o biljkama\, a i za sve koji još uvijek nisu otkrili druženje s vrtom ili grastama – objavljujemo poziv za sudjelovanje na razmjeni biljaka koja će se održati u subotu i nedjelju\, 25. i 26. 4. do 11 do 17 sati u Art radionici Lazareti.\nRasadite i presadite vaše biljke i dođite u ARL razmijenite i posvojite\, posadite.\n\nVidimo se u subotu i nedjelju\, 25. i 26. 4. od 11 do 17 sati.\n\nŠuška se da bi mogao biti i jedan vintage i second-hand štand\, a i nešto vinila.\nPoslije razmjene biljaka u subotu družit ćemo se uz vinile – i to kroz film i uživo. U 19 sati gledamo film FUNK YU mladog dubrovačkog redatelja Franka Dujmića iz 2024.\nA nakon filma slijedi NOĆ VINILA I GLAZBENI VREMEPLOV koji priređuju splitski DJ-i Tony Marasović i Božo Gabrić.\nUlaz je slobodan.\nProgram omogućili Ministarstvo kulture i medija RH i Turistička zajednica Grada Dubrovnika.\nHvala svima i vidimo se!
URL:https://kalendar.dubrovnik.hr/event/razmjena-biljaka-u-art-radionici-lazareti/
LOCATION:Lazaret\, DUBROVNIK\, Dubrovačko - neretvanska županija\, 20000\, Croatia (Local Name: Hrvatska)
CATEGORIES:Obiteljska zabava,performans / prezentacija,Radionice,Zabava
ATTACH;FMTTYPE=image/jpeg:https://kalendar.dubrovnik.hr/wp-content/uploads/2026/04/razmjena-biljaka.jpg
ORGANIZER;CN="Art%20radionica%20Lazareti":MAILTO:arl@du.t-com.hr
GEO:42.6586378;18.1013637
END:VEVENT
BEGIN:VEVENT
DTSTART;TZID=Europe/Zagreb:20260425T190000
DTEND;TZID=Europe/Zagreb:20260425T235900
DTSTAMP:20260423T125942
CREATED:20260417T133942Z
LAST-MODIFIED:20260417T141353Z
UID:10011363-1777143600-1777161540@kalendar.dubrovnik.hr
SUMMARY:Ploče i film: FUNK YU\, NOĆ VINILA I GLAZBENI VREMEPLOV u Art radionici Lazareti
DESCRIPTION:U subotu 25. 4. nakon grasti i biljaka na red dolaze ploče i film\, uz ples i razgovor.\nGledat ćemo film FUNK YU\, slušati ploče i proći kroz glazbeni vremeplov sa DJ Tonyjem Marasovićem i DJ Božom Gabrićem.\nRaspored:\n– u 19 h – projekcija filma „FUNK YU“ (2024.)\, mladog dubrovačkog redatelja Franka Dujmića\n– nakon filma\, oko 20:30 h – Noć vinila i Glazbeni vremeplov:DJ Tony Marasović & DJ Božo Gabrić (ST)\n\nFUNK YU (2024.)U središtu filma potraga je za rijetkim singlom „Ulica Jorgovana / Zlatokosa“\, danas kultnim primjerkom jugoslavenskog funka koji je u vrijeme izlaska prošao ispod radara mainstreama. Kao strastveni kolekcionar\, redatelj kreće na putovanje kroz prostor bivše Jugoslavije\, susrećući raznolike aktere vinilne scene\, od Podgorice i Zagreba do Ljubljane\, Beograda\, Skoplja i Rijeke\, istražujući fenomen „diggerske“ opsesije i kulture sakupljanja.\nFilm donosi duhovito i vizualno razigrano glazbeno putovanje\, koje je\, kako ističe kritika (Tena Šarčević\, glazba.hr)\, obilježeno jasnom estetikom i i pažnjom prema detalju.\nRežija i scenarij: Franko DujmićUloge: Jerko Marčić\, Franko Dujmić\, Peđa Radović\, Tošo Filipovski\, David Blažević\, Jaka Batič\, Borja Močnik\, Igor Večerić\, Borko Bojović\, Vojislav Božičković\, Tomislav Bader\, Leo Hekman\, Eduard WerftKamera: Frane PamićMontaž: Danijel BrlasOblikovanje zvuka: Jovo KljajićScenografija: Frane PamićProducenti: Tamara Babun\, Matija DrnikovićAnimacija: Mia Murat\, Vedran Štefan\, Marko Belić\, Franko DujmićProdukcija: Wolfgang i Dolly (HR)Koproducenti: Mladen Ivanović (Videa Production)\, Dubravko Robić (Robson Studio)Koprodukcija: Videa Productions (ME)\, Robson Studio (HR)\n\nNOĆ VINILA I GLAZBENI VREMEPLOV:\nDvojac DJ Tony Marasović i DJ Božo Gabrić\, tajnovito kažu da će puštati „kombinaciju svega\, stranog\, domaćeg i raznog\, s probranih gramofonskih ploča na vrhunskom zvučnom sistemu“.\nDovode nam i svoj projekt „Glazbeni vremeplov“\, svojevrsni vodič kroz povijest nosača zvuka i kulture slušanja\, u sklopu kojeg ćemo između ostalog vidjeti kolekcionarske primjerke gramofonskih ploča\, prelistati kultne glazbene knjige…\nUlaz je slobodan.\nProgram omogućili Ministarstvo kulture i medija RH i Turistička zajednica Grada Dubrovnika.
URL:https://kalendar.dubrovnik.hr/event/noc-vinila-i-glazbeni-vremeplov-u-art-radionici-lazareti/
LOCATION:Lazaret\, DUBROVNIK\, Dubrovačko - neretvanska županija\, 20000\, Croatia (Local Name: Hrvatska)
CATEGORIES:Edukativna,Koncerti,KULTURA,Noćni život,Ostala glazbeno-scenska,sajam rabljenih predmeta,Suvremene umjetničke prakse,Zabava
ATTACH;FMTTYPE=image/jpeg:https://kalendar.dubrovnik.hr/wp-content/uploads/2026/04/NOC-VINILA.jpg
ORGANIZER;CN="Art%20radionica%20Lazareti":MAILTO:arl@du.t-com.hr
GEO:42.6586378;18.1013637
END:VEVENT
BEGIN:VEVENT
DTSTART;TZID=Europe/Zagreb:20260425T163000
DTEND;TZID=Europe/Zagreb:20260425T180000
DTSTAMP:20260423T125942
CREATED:20260226T195021Z
LAST-MODIFIED:20260226T195025Z
UID:10008938-1777134600-1777140000@kalendar.dubrovnik.hr
SUMMARY:Vasilisa Premudra
DESCRIPTION:Gostujuća predstava za djecu Dječjeg kazališta Branimir Mihaljević iz Osijeka.\n\n \n\n„Kao i svaka klasična bajka\, Vasilisa Premudra\, kroz lepezu zanimljivih likova\, priča uzbudljivu priču o vječnoj borbi dobra i zla. Orao\, Baba Jaga\, Morski car i mnogi drugi zanimljivi likovi vode nas na put u čarobni svijet mistične slavenske mitologije. Ova bajka afi rmira različitost na brojne načine\, a klizni i promjenjivi identiteti otvaraju mogućnost reinterpretacije i čitanje bajke u novom ključu\, potičući djecu na prihvaćanje različitosti u suvremenom društvu. Uzbudljiva fabula\, koja počinje ratom životinja i prati fantastično putovanje Vasilise i Ivanuške\, najmlađe će gledatelje ostaviti bez daha.“\n\n \nPaolo Tišljarić
URL:https://kalendar.dubrovnik.hr/event/vasilisa-premudra/2026-04-25/1/
LOCATION:Kazalište Marina Držića\, DUBROVNIK\, Dubrovačko - neretvanska županija\, 20000\, Croatia (Local Name: Hrvatska)
CATEGORIES:Kazalište,KULTURA
ATTACH;FMTTYPE=image/jpeg:https://kalendar.dubrovnik.hr/wp-content/uploads/2026/02/vasilisa-premudra-021.jpg
ORGANIZER;CN="Kazali%C5%A1te%20Marina%20Dr%C5%BEi%C4%87a":MAILTO:ured@kmd.hr
GEO:42.6405461;18.110627
END:VEVENT
BEGIN:VEVENT
DTSTART;TZID=Europe/Zagreb:20260425T190000
DTEND;TZID=Europe/Zagreb:20260425T200000
DTSTAMP:20260423T125942
CREATED:20260330T112150Z
LAST-MODIFIED:20260401T105101Z
UID:10010940-1777143600-1777147200@kalendar.dubrovnik.hr
SUMMARY:Otvorenje izložbe "Zbirka Nikšić" u Ljetnikovcu Bunić - Kaboga
DESCRIPTION:Dubrovački muzeji u subotu\, 25. travnja 2026. u 19 sati otvorit će izložbu ”Zbirka Nikšić” autorica Lucije Vuković i Viktorije Žuvele. Izložba predstavlja vrijednu zaštićenu zbirku inventara vile Giorgi-Bona (Nikšić) na Pilama koja je u Dubrovačke muzeje pristigla donacijom i otkupom tijekom 2024. godine. Na izložbi će se u novom muzeološkom kontekstu predstaviti raznovrsna građa koja datira od 17. do 20. stoljeća\, a riječ je o slikama\, namještaju kao i uporabnim i ukrasnim predmetima od keramike i porculana te metala.
URL:https://kalendar.dubrovnik.hr/event/otvorenje-izlozbe-zbirka-niksic-u-ljetnikovcu-bunic-kaboga/
LOCATION:Ljetnikovac Bunić Kaboga\, Batahovina b.b.\, Sustjepan\, Dubrovačko - neretvanska županija\, 20236\, Croatia (Local Name: Hrvatska)
CATEGORIES:Izložbe,KULTURA
ATTACH;FMTTYPE=image/jpeg:https://kalendar.dubrovnik.hr/wp-content/uploads/2026/03/IMG-20260330-WA0009.jpg
GEO:42.6689701;18.0873194
X-APPLE-STRUCTURED-LOCATION;VALUE=URI;X-ADDRESS=Ljetnikovac Bunić Kaboga Batahovina b.b. Sustjepan Dubrovačko - neretvanska županija 20236 Croatia (Local Name: Hrvatska);X-APPLE-RADIUS=500;X-TITLE=Batahovina b.b.:geo:18.0873194,42.6689701
END:VEVENT
END:VCALENDAR