BEGIN:VCALENDAR
VERSION:2.0
PRODID:-//Kalendar događanja Dubrovnika - ECPv6.1.1//NONSGML v1.0//EN
CALSCALE:GREGORIAN
METHOD:PUBLISH
X-WR-CALNAME:Kalendar događanja Dubrovnika
X-ORIGINAL-URL:https://kalendar.dubrovnik.hr
X-WR-CALDESC:Događanja za Kalendar događanja Dubrovnika
REFRESH-INTERVAL;VALUE=DURATION:PT1H
X-Robots-Tag:noindex
X-PUBLISHED-TTL:PT1H
BEGIN:VTIMEZONE
TZID:Europe/Zagreb
BEGIN:DAYLIGHT
TZOFFSETFROM:+0100
TZOFFSETTO:+0200
TZNAME:CEST
DTSTART:20260329T010000
END:DAYLIGHT
BEGIN:STANDARD
TZOFFSETFROM:+0200
TZOFFSETTO:+0100
TZNAME:CET
DTSTART:20261025T010000
END:STANDARD
END:VTIMEZONE
BEGIN:VEVENT
DTSTART;TZID=Europe/Zagreb:20260426T180000
DTEND;TZID=Europe/Zagreb:20260426T193000
DTSTAMP:20260426T050244
CREATED:20251212T143344Z
LAST-MODIFIED:20251212T143820Z
UID:10008558-1777226400-1777231800@kalendar.dubrovnik.hr
SUMMARY:'Memories of Humanity' Ivana Miloglav
DESCRIPTION:‘Memories of Humanity’\nIvana Miloglav \nOtvorenje izložbe održati će se 18. prosinca u 18h u Galeriji Flora\, Šetalište kralja Zvonimira 32.\nIzložba se može pogledati do 23. prosinca 2025. svaki dan od 16 – 18 sati. \nIzložba je realizirana uz potporu Grada Dubrovnika. \n 
URL:https://kalendar.dubrovnik.hr/event/memories-of-humanity-ivana-miloglav/2026-04-26/
LOCATION:Galerija Flora\, Šetalište Kralja Zvonimira\, DUBROVNIK\, Dubrovačko - neretvanska županija\, 20000\, Croatia (Local Name: Hrvatska)
CATEGORIES:Izložbe
ATTACH;FMTTYPE=image/png:https://kalendar.dubrovnik.hr/wp-content/uploads/2025/12/Memories-of-Humanity.png
GEO:42.6564072;18.0723509
X-APPLE-STRUCTURED-LOCATION;VALUE=URI;X-ADDRESS=Galerija Flora Šetalište Kralja Zvonimira DUBROVNIK Dubrovačko - neretvanska županija 20000 Croatia (Local Name: Hrvatska);X-APPLE-RADIUS=500;X-TITLE=Šetalište Kralja Zvonimira:geo:18.0723509,42.6564072
END:VEVENT
BEGIN:VEVENT
DTSTART;VALUE=DATE:20260426
DTEND;VALUE=DATE:20260427
DTSTAMP:20260426T050244
CREATED:20260326T091254Z
LAST-MODIFIED:20260415T063448Z
UID:10010990-1777161600-1777247999@kalendar.dubrovnik.hr
SUMMARY:SUSPENZIJE IDENTITETA: Margareta Lekić\, Tihomir Matijević\, Josipa Stojanović\, Vlatka Škoro
DESCRIPTION:
URL:https://kalendar.dubrovnik.hr/event/suspenzije-identiteta-margareta-lekic-tihomir-matijevic-josipa-stojanovic-vlatka-skoro/2026-04-26/
LOCATION:Galerija Flora\, Šetalište Kralja Zvonimira\, DUBROVNIK\, Dubrovačko - neretvanska županija\, 20000\, Croatia (Local Name: Hrvatska)
CATEGORIES:Izložbe,KULTURA
ATTACH;FMTTYPE=image/jpeg:https://kalendar.dubrovnik.hr/wp-content/uploads/2026/03/Flora-plakati_2026_Osijek_WEB-scaled.jpg
GEO:42.6564072;18.0723509
X-APPLE-STRUCTURED-LOCATION;VALUE=URI;X-ADDRESS=Galerija Flora Šetalište Kralja Zvonimira DUBROVNIK Dubrovačko - neretvanska županija 20000 Croatia (Local Name: Hrvatska);X-APPLE-RADIUS=500;X-TITLE=Šetalište Kralja Zvonimira:geo:18.0723509,42.6564072
END:VEVENT
BEGIN:VEVENT
DTSTART;TZID=Europe/Zagreb:20260426T110000
DTEND;TZID=Europe/Zagreb:20260426T170000
DTSTAMP:20260426T050244
CREATED:20260417T132857Z
LAST-MODIFIED:20260417T132857Z
UID:10011362-1777201200-1777222800@kalendar.dubrovnik.hr
SUMMARY:Razmjena biljaka u Art radionici Lazareti
DESCRIPTION:RAZMJENA BILJAKA!\nZa sve ljubitelje i ljubiteljice\, početnice\, prekaljene vrtlarice\, vikend vrtlare\, obožavatelje prčkanja po zemlji i sve one koji razgovaraju s biljkama i o biljkama\, a i za sve koji još uvijek nisu otkrili druženje s vrtom ili grastama – objavljujemo poziv za sudjelovanje na razmjeni biljaka koja će se održati u subotu i nedjelju\, 25. i 26. 4. do 11 do 17 sati u Art radionici Lazareti.\nRasadite i presadite vaše biljke i dođite u ARL razmijenite i posvojite\, posadite.\n\nVidimo se u subotu i nedjelju\, 25. i 26. 4. od 11 do 17 sati.\n\nProgram omogućili Ministarstvo kulture i medija RH i Turistička zajednica Grada Dubrovnika.\nHvala svima i vidimo se!
URL:https://kalendar.dubrovnik.hr/event/razmjena-biljaka-u-art-radionici-lazareti-2/
LOCATION:Lazaret\, DUBROVNIK\, Dubrovačko - neretvanska županija\, 20000\, Croatia (Local Name: Hrvatska)
CATEGORIES:Eko akcije,Obiteljska zabava,OSTALO,Radionice,Suvremene umjetničke prakse,Zabava
ATTACH;FMTTYPE=image/jpeg:https://kalendar.dubrovnik.hr/wp-content/uploads/2026/04/razmjena-biljaka-1.jpg
ORGANIZER;CN="Art%20radionica%20Lazareti":MAILTO:arl@du.t-com.hr
GEO:42.6586378;18.1013637
END:VEVENT
END:VCALENDAR