BEGIN:VCALENDAR
VERSION:2.0
PRODID:-//Kalendar događanja Dubrovnika - ECPv6.1.1//NONSGML v1.0//EN
CALSCALE:GREGORIAN
METHOD:PUBLISH
X-WR-CALNAME:Kalendar događanja Dubrovnika
X-ORIGINAL-URL:https://kalendar.dubrovnik.hr
X-WR-CALDESC:Događanja za Kalendar događanja Dubrovnika
REFRESH-INTERVAL;VALUE=DURATION:PT1H
X-Robots-Tag:noindex
X-PUBLISHED-TTL:PT1H
BEGIN:VTIMEZONE
TZID:Europe/Zagreb
BEGIN:DAYLIGHT
TZOFFSETFROM:+0100
TZOFFSETTO:+0200
TZNAME:CEST
DTSTART:20260329T010000
END:DAYLIGHT
BEGIN:STANDARD
TZOFFSETFROM:+0200
TZOFFSETTO:+0100
TZNAME:CET
DTSTART:20261025T010000
END:STANDARD
END:VTIMEZONE
BEGIN:VEVENT
DTSTART;TZID=Europe/Zagreb:20260424T110000
DTEND;TZID=Europe/Zagreb:20260514T190000
DTSTAMP:20260424T092759
CREATED:20260402T152831Z
LAST-MODIFIED:20260415T062911Z
UID:10010956-1777028400-1778785200@kalendar.dubrovnik.hr
SUMMARY:Izložba Lene Kramarić\, C kao ciklus?
DESCRIPTION:U Galeriji Otok\, Art radionice Lazareti\, radnim danima od ponedjeljka do petka u vremenu od 11 do 19 sati  možete pogledati izložbu pod nazivom C KAO CIKLUS? akademske umjetnice Lene Kramarić.\n\nSanjarski\, introspektivan izričaj u Crvenom se ciklusu nastavlja prepoznavati kao karakterističan za Lenino slikarstvo. Elegantni crtež u kombinaciji s ponegdje jarkom\, a ponegdje nježnijom paletom boja kontinuirano zajednički stvaraju površine platna koje se otkrivaju kroz brojne slojeve.\n….\nZa Kramarić\, slika nije samo plošni prizor nego je i materija. Struktura\, tekstura\, ogrebotine\, oštećenja – sve ono što “narušava” površinu – kod Lene je istovremeno i gradi. Slojevi\, uključujući fragilne tragove salvete\, ostaju vidljivi\, kao da umjetnica odbija sakriti proces svog rada. Dapače\, ona inzistira na tome da prikaže ranjivosti materijala koji se talože jedan na drugoga. Površina slike tako postaje mjesto memorije\, gdje se svaki zahvat bilježi kao trag postojanja.\n….\nSlikarstvo Leni Kramarić ne nudi razrješenja. Ono se kreće između svjesnog i nesvjesnog\, između potrebe za formom i njezina stalnog uslojavanja. U tom prostoru napetosti nastaje slika — kao trag procesa\, kao zapis stanja\, kao pokušaj da se ono neizrecivo ipak zadrži na površini. U konačnici\, slikarski svemir Lene Kramarić funkcionira poput otvorenog teksta: promatrač ga ne čita linearno\, nego ga nastanjuje\, vraća mu se i u njemu prepoznaje vlastite lomove i uzdizanja.\n(iz teksta Anite Ruso Brečić)\n\nTehnički postav: Nikša VukosavićKustosica: Anita Ruso BrečićProdukcija: Lena Kramarić / UO Genijator i Art radionica Lazareti\, 2026\nIzložba ostaje otvorena do 03. 05. 2026.Radno vrijeme: PON – PET 11 – 19 sati\nFinancijska podrška:Grad Dubrovnik\, Ministarstvo kulture i medija Republike Hrvatske i Dubrovačko neretvanska Županija
URL:https://kalendar.dubrovnik.hr/event/64880/2026-04-24/
LOCATION:Lazaret\, DUBROVNIK\, Dubrovačko - neretvanska županija\, 20000\, Croatia (Local Name: Hrvatska)
CATEGORIES:Izložbe,KULTURA,Suvremene umjetničke prakse
ATTACH;FMTTYPE=image/jpeg:https://kalendar.dubrovnik.hr/wp-content/uploads/2026/04/C-kao-ciklus-1.jpg
ORGANIZER;CN="Art%20radionica%20Lazareti":MAILTO:arl@du.t-com.hr
GEO:42.6586378;18.1013637
END:VEVENT
BEGIN:VEVENT
DTSTART;TZID=Europe/Zagreb:20260424T190000
DTEND;TZID=Europe/Zagreb:20261031T203000
DTSTAMP:20260424T092759
CREATED:20260401T122247Z
LAST-MODIFIED:20260401T122247Z
UID:10010944-1777057200-1793478600@kalendar.dubrovnik.hr
SUMMARY:MARIN DRŽIĆ – PRVI ČIN / 500 godina prvog spomena Marina Držića / (1526. – 2026.)
DESCRIPTION:MARIN DRŽIĆ – PRVI ČIN / 500 godina prvog spomena Marina Držića / (1526. – 2026.) \n \nUstanova u kulturi Grada Dubrovnika Dom Marina Držića 24. travnja 2026. u 19. sati upriličit\nće otvorenje izložbe „Marin Držić – prvi čin“ kojom će se obilježiti 500 godina prvog spomena\nMarina Držića (1526. – 2026.)\, u ispravi kojim se on potvrđuje za rektora crkve Svih Svetih\n(Domino) u Dubrovniku\, nastaloj 12. travnja 1526. godine. Navedena isprava čuva se u\nDržavnom arhivu u Dubrovniku\, u fondu Razni zapisi državne kancelarije Dubrovnik.\nBudući da se radi o zaista vrijednom arhivskom dokumentu u kojem je Marin Držić prvi put\nstupio na pozornicu pisane povijesti\, izložba „Marin Držić – prvi čin“ realizirat će se u suradnji\nDoma Marina Držića i Državnog arhiva u Dubrovniku te će centralni eksponat izložbe biti\nnavedena isprava u kojoj se Marin Držić najprije imenuje klerikom te potvrđuje za rektora\npolovice crkve Svih svetih (Domino) u Dubrovniku. Ta je isprava iznimno važna jer se u njoj\nprvi put spominje budući pisac i opisuje događaj u kojem je ne samo sudjelovao\, već mu je\ndonio financijske i društvene posljedice. Bez materijalnih prihoda od crkvenih posjeda Marin\nDržić možda ne bi imao mogućnosti posvetiti se spisateljskom i kazališnom radu te nam u\nnasljeđe ostaviti remek-djela ne samo hrvatske\, već i europske renesansne komediografije. A\nda nije postao rektor Domina\, Dom Marina Držića danas se ne bi nalazio upravo u kući koja je\ns navedenom crkvom činila cjelinu i služila potrebama njezina rektora.\nIako je danas najpoznatiji kao dramski pisac\, te ga se često naziva najvećim hrvatskim\nkomediografom\, Marin Držić je pripadao katoličkom kleru\, te se u arhivskim dokumentima\nspominje najprije kao klerik\, potom đakon\, a od oko 1550. i svećenik. Posljednje godine\nživota proveo je u Veneciji kao kapelan mletačkog nadbiskupa\, a pokopan je u tamošnjoj\ncrkvi Svetih Ivana i Pavla\, zvanoj Zanipoli 1567. godine. Stoga nas posebno veseli što će ova\nizložba tematizirati i tu važnu\, pomalo zanemarenu činjenicu o dum Marinu Držiću.
URL:https://kalendar.dubrovnik.hr/event/marin-drzic-prvi-cin-500-godina-prvog-spomena-marina-drzica-1526-2026/
LOCATION:Dom Marina Držića\, Široka 7\, DUBROVNIK\, Dubrovačko - neretvanska županija\, 20000\, Croatia (Local Name: Hrvatska)
CATEGORIES:Izložbe,KULTURA
ATTACH;FMTTYPE=image/png:https://kalendar.dubrovnik.hr/wp-content/uploads/2026/04/vizual-preview2.png
ORGANIZER;CN="Dom%20Marina%20Dr%C5%BEi%C4%87a":MAILTO:ravnatelj@muzej-marindrzic.eu
GEO:42.6407209;18.1079795
X-APPLE-STRUCTURED-LOCATION;VALUE=URI;X-ADDRESS=Dom Marina Držića Široka 7 DUBROVNIK Dubrovačko - neretvanska županija 20000 Croatia (Local Name: Hrvatska);X-APPLE-RADIUS=500;X-TITLE=Široka 7:geo:18.1079795,42.6407209
END:VEVENT
BEGIN:VEVENT
DTSTART;TZID=Europe/Zagreb:20260429T190000
DTEND;TZID=Europe/Zagreb:20260429T200000
DTSTAMP:20260424T092759
CREATED:20260420T172838Z
LAST-MODIFIED:20260422T161429Z
UID:10011371-1777489200-1777492800@kalendar.dubrovnik.hr
SUMMARY:Predstavljanje znanstveno - umjetničke monografije Melite Čavlović i Marka Ercegovića
DESCRIPTION:Pozivamo vas na promociju znanstveno – umjetničke monografije Melite Čavlović i Marka Ercegovića \nSnimak postojećeg stanja: rijeka\, pruga\, ulica \n\n\nu srijedu\, 29. travnja 2026.\, u 19 sati u Art radionici Lazareti\nKnjiga je objavljena u suizdavaštvu Marka Ercegovića i Muzeja za umjetnost i obrt.\nSnimak postojećeg stanja: rijeka\, pruga\, ulica jedinstvena je znanstveno-umjetnička monografija koja kroz spoj analitičkog teksta Melite Čavlović i fotografskog istraživanja Marka Ercegovića donosi slojevitu interpretaciju nejednakosti\, konflikata i neravnomjernog razvoja zagrebačkog Trnja i Vukovarske ulice. Polazeći od modernističkog arhitektonskog nasljeđa\, publikacija zahvaća širi povijesni i prostorni kontekst\, prateći transformacije grada — od jasno definiranih urbanističkih koncepata do njihovih dugoročnih\, često neželjenih posljedica vidljivih u gradskom tkivu\, uvjetima stanovanja i organizaciji svakodnevice. U tom procesu politika se prepoznaje kao jedan od ključnih čimbenika koji oblikuju prostorne i društvene odnose ove središnje gradske zone.\nPosebnost ove monografije leži u dvostrukoj interpretaciji: tekst i fotografija djeluju ravnopravno\, ne ilustriraju se nego međusobno propituju i nadopunjuju. Proizašla iz zajedničkih razgovora\, analiza i terenskog rada autora\, publikacija otvara kritičku perspektivu grada i nudi svježe\, promišljeno viđenje Vukovarske ulice\, razumljivo i stručnoj i široj publici.\n\nO knjizi će govoriti: autori\, dr. sc. Melita Čavlović\, docentica na Arhitektonskom fakultetu u Zagrebu i Marko Ercegović\, umjetnik i fotograf; i urednica\, dr. sc. Iva Prosoli\, kustosica u MUO.\nO knjizi:\nAutori knjige: doc. dr. sc. Melita ČavlovićMarko ErcegovićAutor kritičkog eseja: Tomislav MedakUrednica: dr.sc. Iva ProsoliRecenzenti: dr.sc. Aleksandar Bededr.sc. Lana Lovrenčićprof. emeritus dr. sc. Andrej UchytilDizajn: Igor Kuduz\nIz teksta autorice knjige Melite ČavlovićUlica grada Vukovara\, kako joj je današnji naziv\, osobito njezin odsječak između Savske ceste i Avenije Marina Držića\, u arhitektonskoj i urbanističkoj historiografiji predstavlja sinegdohu modernizacije šireg trnjanskog prostora. Unatoč dostatnoj koherentnosti i jasnoći označenoj simboličkim postavom visokih građevina na zapadnom i istočnom kraju ne posustaju rasprave o njezinoj formalnoj dovršenosti i urbanističkoj artikuliranosti. Pitanje je to koje postaje sve aktualnije njezinim napredovanjem i izgrađivanjem prema istoku koje sa sobom ne donosi onu razinu logičnosti i konzistentnosti kojom je ulica prethodno planirana. Ovaj danas više od dva i pol kilometra dugačak potez koji „vodi niotkuda nikamo”\, od samih početaka vjerno evidentiran fotografskim i filmskim medijem\, locus je poslijeratne modernizacije grada. (…)\n(…) Prvi Novi Zagreb\, prostor južno od karakteristične povijesne mreže donjogradskih blokova\, mjesto je prolaska široke magistralne prometnice uzduž koje su se nakon Drugog svjetskog rata žurno postavljale značajne građevine koje su trebale uprizoriti željno očekivanu bolju budućnost. Njihova je prisutnost trebala naočigled reprezentirati centar novoga grada koji se trebao materijalizirati udomljavanjem gradskih institucija i republičkih ministarstava. Jednako je važno uz upravnu i administrativnu inauguraciju osi bilo zbrinuti pridošlo stanovništvo u funkcionalnim stanovima. Novo stanovništvo činilo je populaciju dotad nenaviklu na život u gradu te je stajalo u klasnoj opreci prema stanovnicima Donjega grada. Društveni sraz imao je i svoj vizualni korelat u smislu da je mreži donjogradskih blokova proturječio moderan i radikalno drugačiji pristup smještanja samostalnih građevina u slobodnom prostoru i uzduž ulice. Kontrast je s vremenom postao ustaljeni oblik karakterizacije glavnih problema ovog suburbanog teritorija\, jasno definiranog željezničkom prugom\, Savskom cestom\, rijekom Savom i Držićevom ulicom. Taj vazda problematičan i nehigijenski prostor te otet kontroli gradske uprave uzet je za žarište modernizacije i uzdignut u projektivni centar Novog Zagreba. (…)\n(…) Ambicija je (…) u svakom pogledu premašivala društvenu stvarnost. (…)\nIz kritičkog eseja Tomislava Medaka:Da bi se nešto izgradilo u prostoru potrebna je moć koju je američki ekonomski povjesničar Adam Tooze nazvao projektnom moći. Iniciranje zahvata u prostoru je zahtjevno i iziskuje stvaranje prostorno-planskih\, administrativno-proceduralnih\, projektantskih\, tehnoloških i financijskih preduvjeta. Kao što pokazuje povijest Vukovarske\, u ključnoj fazi realizacije inicijalnih objekata i naselja uz bulevar nakon Drugog svjetskog rata\, Grad i Republika nisu imali dovoljno moći da saberu kapacitete kojima bi većim zahvatima oblikovali pojas oko bulevara u cjelini. Nedostajalo je sredstava u javnim fondovima\, izvlaštenja vlasnika postojećih objekata su se pokazala preskupima\, očekivanja urbanista\, projektanata i javnosti su se razmimoilazila\, raspoloživa građevinska tehnologija nije omogućavala dovoljno brzu i jeftinu stanogradnju\, a s kasnijim dokidanjem centraliziranog financiranja stanogradnje građevinski sustavi su se našli u situaciji u kojoj su sami morali osigurati većinu preduvjeta\, prvenstveno naći samoupravna poduzeća koja bi uložila kapital u realizaciju projekata. Iako su nepobitno postojali instrumenti i resursi za gradnju velikih četvrti – primjerice\, učinkovita komasacija\, društveno vlasništvo nad prostorom i relativno neizgrađen prostor – kakve danas nemamo\, nepovoljni početni uvjeti rezultirali su točkastim realizacijama postavivši situacije u prostoru kojima su se kasnije planske osnove i realizacije morale prilagođavati. Tipologija današnjeg Trnja odraz je različitih odnosa projektne moći kroz pojedina razdoblja: predratni sloj obiteljskih kuća često supstandardne kvalitete\, veliki industrijski pogoni nastali uz prugu\, ansambli visokokvalitetne i standardizirane socijalističke stanogradnje\, reprezentativni modernistički objekti javne namjene građeni između pedesetih i sedamdesetih\, točkasta stanogradnja utisnuta nakon devedesetih na čestice obiteljskih kuća te poslovni neboderi i pripadajuće poslovne zone novijeg datuma. (…)\nIz Pogovora urednice knjige Ive Prosoli:(…) Dvoje autora\, Melita Čavlović\, znanstvenica\, povjesničarka arhitekture i docentica na Arhitektonskom fakultetu u Zagrebu i Marko Ercegović\, fotograf i umjetnik\, ovom su knjigom postavili brojna pitanja na primjeru Vukovarske ulice i njezinog neposrednog okruženja i donijeli višeslojni prikaz spomenutog područja. Svaki u svojem mediju suočili su se s problematikom urbanog (ne)razvoja: zatečenim stanjem\, sukobima\, napretkom i zastojima\, pretpostavkama i oprekama\, očekivanjima\, zabludama i realizacijama modernističkog razdoblja\, klasnim razlikama između većinom doseljenih stanovnika novih modernih zgrada te postojećih žitelja stihijski izgrađenih obiteljskih kuća\, tj. odnosom planske ineplanske gradnje. Pritom su dokazali da je grad živi organizam\, istovremeno ovisan o više političkih\, društvenih i prirodnih čimbenika\, koji se međusobno isprepliću. (…)\n\n\n  \n  \n 
URL:https://kalendar.dubrovnik.hr/event/promocija-knjige-marka-ercegovica/
LOCATION:Lazaret\, DUBROVNIK\, Dubrovačko - neretvanska županija\, 20000\, Croatia (Local Name: Hrvatska)
CATEGORIES:KULTURA,Predstavljanje knjige,Suvremene umjetničke prakse
ATTACH;FMTTYPE=image/jpeg:https://kalendar.dubrovnik.hr/wp-content/uploads/2026/04/snimak-postojeceg-stanja.jpg
GEO:42.6586378;18.1013637
END:VEVENT
END:VCALENDAR