BEGIN:VCALENDAR
VERSION:2.0
PRODID:-//Kalendar događanja Dubrovnika - ECPv6.1.1//NONSGML v1.0//EN
CALSCALE:GREGORIAN
METHOD:PUBLISH
X-WR-CALNAME:Kalendar događanja Dubrovnika
X-ORIGINAL-URL:https://kalendar.dubrovnik.hr
X-WR-CALDESC:Događanja za Kalendar događanja Dubrovnika
REFRESH-INTERVAL;VALUE=DURATION:PT1H
X-Robots-Tag:noindex
X-PUBLISHED-TTL:PT1H
BEGIN:VTIMEZONE
TZID:Europe/Zagreb
BEGIN:DAYLIGHT
TZOFFSETFROM:+0100
TZOFFSETTO:+0200
TZNAME:CEST
DTSTART:20260329T010000
END:DAYLIGHT
BEGIN:STANDARD
TZOFFSETFROM:+0200
TZOFFSETTO:+0100
TZNAME:CET
DTSTART:20261025T010000
END:STANDARD
END:VTIMEZONE
BEGIN:VEVENT
DTSTART;TZID=Europe/Zagreb:20260427T110000
DTEND;TZID=Europe/Zagreb:20260517T190000
DTSTAMP:20260425T161738
CREATED:20260402T152831Z
LAST-MODIFIED:20260415T062911Z
UID:10010957-1777287600-1779044400@kalendar.dubrovnik.hr
SUMMARY:Izložba Lene Kramarić\, C kao ciklus?
DESCRIPTION:U Galeriji Otok\, Art radionice Lazareti\, radnim danima od ponedjeljka do petka u vremenu od 11 do 19 sati  možete pogledati izložbu pod nazivom C KAO CIKLUS? akademske umjetnice Lene Kramarić.\n\nSanjarski\, introspektivan izričaj u Crvenom se ciklusu nastavlja prepoznavati kao karakterističan za Lenino slikarstvo. Elegantni crtež u kombinaciji s ponegdje jarkom\, a ponegdje nježnijom paletom boja kontinuirano zajednički stvaraju površine platna koje se otkrivaju kroz brojne slojeve.\n….\nZa Kramarić\, slika nije samo plošni prizor nego je i materija. Struktura\, tekstura\, ogrebotine\, oštećenja – sve ono što “narušava” površinu – kod Lene je istovremeno i gradi. Slojevi\, uključujući fragilne tragove salvete\, ostaju vidljivi\, kao da umjetnica odbija sakriti proces svog rada. Dapače\, ona inzistira na tome da prikaže ranjivosti materijala koji se talože jedan na drugoga. Površina slike tako postaje mjesto memorije\, gdje se svaki zahvat bilježi kao trag postojanja.\n….\nSlikarstvo Leni Kramarić ne nudi razrješenja. Ono se kreće između svjesnog i nesvjesnog\, između potrebe za formom i njezina stalnog uslojavanja. U tom prostoru napetosti nastaje slika — kao trag procesa\, kao zapis stanja\, kao pokušaj da se ono neizrecivo ipak zadrži na površini. U konačnici\, slikarski svemir Lene Kramarić funkcionira poput otvorenog teksta: promatrač ga ne čita linearno\, nego ga nastanjuje\, vraća mu se i u njemu prepoznaje vlastite lomove i uzdizanja.\n(iz teksta Anite Ruso Brečić)\n\nTehnički postav: Nikša VukosavićKustosica: Anita Ruso BrečićProdukcija: Lena Kramarić / UO Genijator i Art radionica Lazareti\, 2026\nIzložba ostaje otvorena do 03. 05. 2026.Radno vrijeme: PON – PET 11 – 19 sati\nFinancijska podrška:Grad Dubrovnik\, Ministarstvo kulture i medija Republike Hrvatske i Dubrovačko neretvanska Županija
URL:https://kalendar.dubrovnik.hr/event/64880/2026-04-27/
LOCATION:Lazaret\, DUBROVNIK\, Dubrovačko - neretvanska županija\, 20000\, Croatia (Local Name: Hrvatska)
CATEGORIES:Izložbe,KULTURA,Suvremene umjetničke prakse
ATTACH;FMTTYPE=image/jpeg:https://kalendar.dubrovnik.hr/wp-content/uploads/2026/04/C-kao-ciklus-1.jpg
ORGANIZER;CN="Art%20radionica%20Lazareti":MAILTO:arl@du.t-com.hr
GEO:42.6586378;18.1013637
END:VEVENT
END:VCALENDAR