BEGIN:VCALENDAR
VERSION:2.0
PRODID:-//Kalendar događanja Dubrovnika - ECPv6.1.1//NONSGML v1.0//EN
CALSCALE:GREGORIAN
METHOD:PUBLISH
X-WR-CALNAME:Kalendar događanja Dubrovnika
X-ORIGINAL-URL:https://kalendar.dubrovnik.hr
X-WR-CALDESC:Događanja za Kalendar događanja Dubrovnika
REFRESH-INTERVAL;VALUE=DURATION:PT1H
X-Robots-Tag:noindex
X-PUBLISHED-TTL:PT1H
BEGIN:VTIMEZONE
TZID:Europe/Zagreb
BEGIN:DAYLIGHT
TZOFFSETFROM:+0100
TZOFFSETTO:+0200
TZNAME:CEST
DTSTART:20230326T010000
END:DAYLIGHT
BEGIN:STANDARD
TZOFFSETFROM:+0200
TZOFFSETTO:+0100
TZNAME:CET
DTSTART:20231029T010000
END:STANDARD
BEGIN:DAYLIGHT
TZOFFSETFROM:+0100
TZOFFSETTO:+0200
TZNAME:CEST
DTSTART:20240331T010000
END:DAYLIGHT
BEGIN:STANDARD
TZOFFSETFROM:+0200
TZOFFSETTO:+0100
TZNAME:CET
DTSTART:20241027T010000
END:STANDARD
END:VTIMEZONE
BEGIN:VEVENT
DTSTART;TZID=Europe/Zagreb:20231231T210000
DTEND;TZID=Europe/Zagreb:20240101T020000
DTSTAMP:20260426T022725
CREATED:20231018T085852Z
LAST-MODIFIED:20231018T085903Z
UID:10003231-1704056400-1704074400@kalendar.dubrovnik.hr
SUMMARY:Doček Nove godine: Zdravko Čolić
DESCRIPTION:Doček Nove godine\nZDRAVKO ČOLIĆ\nAnte Gelo bend\nPravu senzaciju priređuje ovogodišnji\, jubilarni 10. Dubrovački zimski festival – spektakularni doček Nove godine uz nastup glazbene legende i jedne od najvećih zvijezda regije\, Zdravka Čolića!
URL:https://kalendar.dubrovnik.hr/event/docek-nove-godine-zdravko-colic/
LOCATION:DUBROVNIK\, Dubrovačko - neretvanska županija\, 20000\, Hrvatska
CATEGORIES:Festivali,Zabava,Zimski festival
ATTACH;FMTTYPE=image/jpeg:https://kalendar.dubrovnik.hr/wp-content/uploads/2023/10/380586209_1049096966306108_1405927733991110327_n.jpg
ORGANIZER;CN="Grad%20Dubrovnik":MAILTO:mkaticic@dubrovnik.hr
GEO:42.6586378;18.1013637
END:VEVENT
BEGIN:VEVENT
DTSTART;TZID=Europe/Zagreb:20240101T120000
DTEND;TZID=Europe/Zagreb:20240101T133000
DTSTAMP:20260426T022725
CREATED:20231018T090111Z
LAST-MODIFIED:20231018T090123Z
UID:10003232-1704110400-1704115800@kalendar.dubrovnik.hr
SUMMARY:Novogodišnji koncert uz kamenice i pjenušac
DESCRIPTION:
URL:https://kalendar.dubrovnik.hr/event/novogodisnji-koncert-uz-kamenice-i-pjenusac/
LOCATION:Stradun\, DUBROVNIK\, Dubrovačko - neretvanska županija\, 20000\, Hrvatska
CATEGORIES:Festivali,Zimski festival
ATTACH;FMTTYPE=image/jpeg:https://kalendar.dubrovnik.hr/wp-content/uploads/2023/10/380586209_1049096966306108_1405927733991110327_n.jpg
GEO:42.6413421;18.1090464
END:VEVENT
BEGIN:VEVENT
DTSTART;TZID=Europe/Zagreb:20240101T120000
DTEND;TZID=Europe/Zagreb:20240101T130000
DTSTAMP:20260426T022725
CREATED:20230810T113508Z
LAST-MODIFIED:20231102T132317Z
UID:10003021-1704110400-1704114000@kalendar.dubrovnik.hr
SUMMARY:NOVOGODIŠNJI KONCERT (uz kamenice i pjenušac)
DESCRIPTION:NOVOGODIŠNJI KONCERT\n01.01. ponedjeljak\, na Stradunu u 12 sati \n\nDubrovački simfonijski orkestar\nDirigent: Ivan Josip Skender\nSolisti: Marta Hut-sopran\, Roko Radovan-tenor\n\n\nPROGRAM:\nStrauss & operne arije \nUlaz slobodan \n  \nKoncert je organiziran u suradnji sa Gradom Dubrovnikom i Turističkom zajednicom grada Dubrovnika
URL:https://kalendar.dubrovnik.hr/event/novogodisnji-koncert/
LOCATION:Stradun\, DUBROVNIK\, Dubrovačko - neretvanska županija\, 20000\, Hrvatska
CATEGORIES:Festivali,Koncerti,KULTURA,Zimski festival
ATTACH;FMTTYPE=image/jpeg:https://kalendar.dubrovnik.hr/wp-content/uploads/2023/08/Orlandov-bal_DSO-11-696x464-1.jpg
GEO:42.6413421;18.1090464
END:VEVENT
BEGIN:VEVENT
DTSTART;TZID=Europe/Zagreb:20240101T210000
DTEND;TZID=Europe/Zagreb:20240101T230000
DTSTAMP:20260426T022725
CREATED:20231018T090656Z
LAST-MODIFIED:20231018T090709Z
UID:10003233-1704142800-1704150000@kalendar.dubrovnik.hr
SUMMARY:Klapa Šufit
DESCRIPTION:KLAPA ŠUFIT\nkoncert\nUobičajeno je prvog dana nove godine na Stradunu zapjevati uz dalmatinsku klapsku pjesmu\, pa će tako u večernjim satima 1. siječnja 2024. nastupiti klapa Šufit.
URL:https://kalendar.dubrovnik.hr/event/klapa-sufit/
LOCATION:Stradun\, DUBROVNIK\, Dubrovačko - neretvanska županija\, 20000\, Hrvatska
CATEGORIES:Festivali,Zimski festival
ATTACH;FMTTYPE=image/jpeg:https://kalendar.dubrovnik.hr/wp-content/uploads/2023/10/380586209_1049096966306108_1405927733991110327_n.jpg
GEO:42.6413421;18.1090464
END:VEVENT
BEGIN:VEVENT
DTSTART;TZID=Europe/Zagreb:20240106T200000
DTEND;TZID=Europe/Zagreb:20240106T233000
DTSTAMP:20260426T022725
CREATED:20231018T090905Z
LAST-MODIFIED:20231116T132145Z
UID:10003234-1704571200-1704583800@kalendar.dubrovnik.hr
SUMMARY:Jelena Rozga
DESCRIPTION:
URL:https://kalendar.dubrovnik.hr/event/jelena-rozga/
LOCATION:Stradun\, DUBROVNIK\, Dubrovačko - neretvanska županija\, 20000\, Hrvatska
CATEGORIES:Festivali,Zimski festival
ATTACH;FMTTYPE=image/jpeg:https://kalendar.dubrovnik.hr/wp-content/uploads/2023/10/380586209_1049096966306108_1405927733991110327_n.jpg
GEO:42.6413421;18.1090464
END:VEVENT
END:VCALENDAR