BEGIN:VCALENDAR
VERSION:2.0
PRODID:-//Kalendar događanja Dubrovnika - ECPv6.1.1//NONSGML v1.0//EN
CALSCALE:GREGORIAN
METHOD:PUBLISH
X-ORIGINAL-URL:https://kalendar.dubrovnik.hr
X-WR-CALDESC:Događanja za Kalendar događanja Dubrovnika
REFRESH-INTERVAL;VALUE=DURATION:PT1H
X-Robots-Tag:noindex
X-PUBLISHED-TTL:PT1H
BEGIN:VTIMEZONE
TZID:Europe/Zagreb
BEGIN:DAYLIGHT
TZOFFSETFROM:+0100
TZOFFSETTO:+0200
TZNAME:CEST
DTSTART:20240331T010000
END:DAYLIGHT
BEGIN:STANDARD
TZOFFSETFROM:+0200
TZOFFSETTO:+0100
TZNAME:CET
DTSTART:20241027T010000
END:STANDARD
END:VTIMEZONE
BEGIN:VEVENT
DTSTART;TZID=Europe/Zagreb:20240725T213000
DTEND;TZID=Europe/Zagreb:20240725T230000
DTSTAMP:20260422T040638
CREATED:20240216T111349Z
LAST-MODIFIED:20240714T130201Z
UID:10004305-1721943000-1721948400@kalendar.dubrovnik.hr
SUMMARY:LADO | Ansambl narodnih plesova i pjesama Hrvatske
DESCRIPTION:Punih sedamdeset i pet godina repertoar Ansambla LADO oblikovan je i temeljen na vrhunskim koreografskim i glazbenim djelima kojima se na zavidnoj estetskoj\, umjetničkoj\, izvedbenoj i profesionalnoj razini interpretira plesna\, glazbena i odjevna baština hrvatskoga sela. \nIz svog bogatog  repertoara LADO u ovom  plesnom koncertu pred publiku donosi neke od svojih najpoznatijih\, najizvođenijih i uvijek rado viđenih točaka– Ladarke – koreografiju koja predstavlja svojevrsnu „himnu“ i zaštitni znak Ansambla\, Linđo\, dubrovačko-primorsku poskočicu\,  Krčki tanac\, Vrličko kolo i Bunjevačko momačko kolo sve od reda neponovljive\, antologijske koreografije Zvonimira Ljevakovića\,  Ej sviraj Pavo – pjesme i plesove iz Baranje te dinamične Zagorske drmešare i impresivne Podravske svate. \nHrvatska je svjetski fenomen po broju zaštićenih nematerijalnih kulturnih dobara što dodatno obvezuje Ansambl LADO u njegovoj misiji očuvanja i prezentiranja baštinjenih glazbeno –plesnih fenomena. Kada je o hrvatskoj zaštićenoj nematerijalnoj kulturnoj baštini riječ\, u ovom programu moći ćemo uživati u osebujnim međimurskim popevkama\, nijemom kolu s područja Dalmatinske zagore\, dvoglasju tijesnih intervala Istre i Hrvatskog primorja\, zvucima  gajdi\, lijerice\, sopila\, cimbala… \nEnergične i nadahnute izvedbe Ansambla LADO i koreografska ostvarenja i scenske interpretacije tako bliske ishodištu nikoga ne ostavljaju ravnodušnim. Vjerujem da će tako biti i ovaj put. \n  \nKrunoslav Šokac \n                                                                                   umjetnički voditelj Ansambla LADO \n\nPROGRAM:\n  \n1. Kamen goro prozeleni rano (Običaji Hrvata zapadne Hercegovine) \nKoreografija i glazbena obrada: Vidoslav Bagur \n  \n2. Valpovačko kolo (Slavonija) \nKoreografija: Zvonimir Ljevaković Glazbena obrada: Božidar Potočnik \n  \n3. Lički plesovi \nKoreografija i glazbena obrada: dr. sc. Ivan Ivančan \n  \n4. Ej\, sviraj Pavo – pjesme i plesovi iz Baranje \nKoreografija: Krunoslav Šokac Glazbena obrada: Duško Topić \n  \n5. Dalmatinsko kolo poskočica – Linđo (Dubrovačko primorje) \nKoreografija i glazbena obrada: Zvonimir Ljevaković \n  \n6. Zagorski drmeš \nKoreografija: Senka Jurina Glazbena obrada: Zdravko Završki \n  \n7. Sa šibenskih otoka (Središnja Dalmacija) \nKoreografija i glazbena obrada: dr. sc. Ivan Ivančan \n  \n8. Da bi se zrušile te legradske gore (Međimurje) \nGlazbena obrada: Božidar Potočnik \n  \nBožakov čardaš (Zelinsko prigorje) \nGlazbena obrada: Alan Kanski \n  \n9. Podravski svati \nKoreografija: dr. sc. Ivan Ivančan \nGlazbena obrada: dr. sc. Ivan Ivančan – Marijan Makar \n— \n  \n(c) Petra Slobodnjak
URL:https://kalendar.dubrovnik.hr/event/lado-ansambl-narodnih-plesova-i-pjesama-hrvatske/
LOCATION:Park Gradac\, Liechtensteinov put 3\, DUBROVNIK\, Dubrovačko - neretvanska županija\, 20000\, Croatia (Local Name: Hrvatska)
CATEGORIES:Dubrovačke ljetne igre,Festivali,Folklor,KULTURA
ATTACH;FMTTYPE=image/jpeg:https://kalendar.dubrovnik.hr/wp-content/uploads/2024/02/Lado-c-Petra-Slobodnjak-1-scaled.jpg
GEO:42.6453391;18.091174
X-APPLE-STRUCTURED-LOCATION;VALUE=URI;X-ADDRESS=Park Gradac Liechtensteinov put 3 DUBROVNIK Dubrovačko - neretvanska županija 20000 Croatia (Local Name: Hrvatska);X-APPLE-RADIUS=500;X-TITLE=Liechtensteinov put 3:geo:18.091174,42.6453391
END:VEVENT
END:VCALENDAR