BEGIN:VCALENDAR
VERSION:2.0
PRODID:-//Kalendar događanja Dubrovnika - ECPv6.1.1//NONSGML v1.0//EN
CALSCALE:GREGORIAN
METHOD:PUBLISH
X-ORIGINAL-URL:https://kalendar.dubrovnik.hr
X-WR-CALDESC:Događanja za Kalendar događanja Dubrovnika
REFRESH-INTERVAL;VALUE=DURATION:PT1H
X-Robots-Tag:noindex
X-PUBLISHED-TTL:PT1H
BEGIN:VTIMEZONE
TZID:Europe/Zagreb
BEGIN:DAYLIGHT
TZOFFSETFROM:+0100
TZOFFSETTO:+0200
TZNAME:CEST
DTSTART:20230326T010000
END:DAYLIGHT
BEGIN:STANDARD
TZOFFSETFROM:+0200
TZOFFSETTO:+0100
TZNAME:CET
DTSTART:20231029T010000
END:STANDARD
BEGIN:DAYLIGHT
TZOFFSETFROM:+0100
TZOFFSETTO:+0200
TZNAME:CEST
DTSTART:20240331T010000
END:DAYLIGHT
BEGIN:STANDARD
TZOFFSETFROM:+0200
TZOFFSETTO:+0100
TZNAME:CET
DTSTART:20241027T010000
END:STANDARD
TZID:Europe/Paris
BEGIN:DAYLIGHT
TZOFFSETFROM:+0100
TZOFFSETTO:+0200
TZNAME:CEST
DTSTART:20220327T010000
END:DAYLIGHT
BEGIN:STANDARD
TZOFFSETFROM:+0200
TZOFFSETTO:+0100
TZNAME:CET
DTSTART:20221030T010000
END:STANDARD
END:VTIMEZONE
BEGIN:VEVENT
DTSTART;TZID=Europe/Zagreb:20230220T163000
DTEND;TZID=Europe/Zagreb:20230220T173000
DTSTAMP:20260422T192325
CREATED:20230220T091818Z
LAST-MODIFIED:20230220T093511Z
UID:10000941-1676910600-1676914200@kalendar.dubrovnik.hr
SUMMARY:"Dječji pogled"\, otvaranje izložbe
DESCRIPTION:Državni Arhiv u Dubrovniku i Hrvatska kinoteka HDA u suradnji s javnom ustanovom Kinematografi Dubrovnik u tjednu drugog dijela zimskog odmora  organizira program za učenike naših škola s ciljem promocije i prezentacije nacionalne filmske baštine. \nIzložba „Dječji pogled“ koja će se otvoriti 20. veljače u 16\,30 sati u atriju palače Sponza\, izbor je 21 plakata za 24 dugometražna i kratkometražna dječja filma nastala u razdoblju od 1953. do 2006. godine koji svojim vizualnim rješenjima ne samo da uspješno promoviraju film za koji su rađeni već i govore o vremenu svog nastanka. \nKako se filmski plakati uvijek vežu uz film\, pripremili smo i filmski program u kinu Sloboda od 20. – 24. veljače od 17 sati\, tijekom kojeg ćemo prikazati odabrane naslove digitalno restauriranih dječjih filmova poput „Družbe Pere Kvržice“ (1970) i „Vuka samotnjak“ (1972) Obrada Gluščevića\, „Vlaka u snijegu“ (1976) Mate Relje\, „Tajne starog tavana“ (1984) Vladimira Tadeja te „Sinjeg galeba“ (1953) Branka Bauera. \nProjekcije su besplatne za sve posjetitelje 😊 \nVeselimo se i vašem dolasku i praćenju naših aktivnosti! \n 
URL:https://kalendar.dubrovnik.hr/event/djecji-pogled-otvaranje-izlozbe/
LOCATION:Atrij palače Sponza\, DUBROVNIK\, Dubrovačko - neretvanska županija\, 20000\, Hrvatska
CATEGORIES:Edukativna,FILM,Izložbe,KULTURA
ATTACH;FMTTYPE=image/png:https://kalendar.dubrovnik.hr/wp-content/uploads/2023/02/plakat-za-izlozbu-717x1024-1.png
ORGANIZER;CN="Dr%C5%BEavni%20arhiv%20u%20Dubrovniku":MAILTO:dad@dad.hr
GEO:42.6586378;18.1013637
END:VEVENT
BEGIN:VEVENT
DTSTART;TZID=Europe/Paris:20220326T120000
DTEND;TZID=Europe/Paris:20220326T130000
DTSTAMP:20260422T192325
CREATED:20220715T220000Z
LAST-MODIFIED:20220715T220000Z
UID:10000825-1648296000-1648299600@kalendar.dubrovnik.hr
SUMMARY:Bach in the Subways: Drveni puhački kvintet DSO-a
DESCRIPTION:Bach in the Subways međunarodni je pokret koji je pokrenuo violončelist Dale Henderson koji sije sjeme budućim generacijama ljubitelja klasične glazbe stvarajući svijest javnosti i entuzijazam za umjetničku formu.\nSvake godine 21. ožujka J.S. Bachov rođendan\, glazbenici slave Bach in the Subways Day nudeći besplatne nastupe u podzemnim željeznicama i javnim prostorima diljem svijeta. \nDrveni puhački kvintet DSO-a\, održati će koncert u Sponzi 26. ožujka u podne.
URL:https://kalendar.dubrovnik.hr/event/bach-in-the-subways-drveni-puhacki-kvintet-dso-a/
LOCATION:Atrij palače Sponza\, DUBROVNIK\, Dubrovačko - neretvanska županija\, 20000\, Hrvatska
ATTACH;FMTTYPE=image/jpeg:https://kalendar.dubrovnik.hr/wp-content/uploads/2022/07/Sponza2.jpg
ORGANIZER;CN="Dubrova%C4%8Dki%20simfonijski%20orkestar":MAILTO:sales@dso.hr
GEO:42.6586378;18.1013637
END:VEVENT
BEGIN:VEVENT
DTSTART;TZID=Europe/Paris:20220327T111500
DTEND;TZID=Europe/Paris:20220327T120000
DTSTAMP:20260422T192325
CREATED:20220715T220000Z
LAST-MODIFIED:20220715T220000Z
UID:10000206-1648379700-1648382400@kalendar.dubrovnik.hr
SUMMARY:Bach in the Subways - GUDAČKI KOMORNI ANSAMBL & PUHAČKI KVINTET DSO-A
DESCRIPTION:Bach in the Subways međunarodni je pokret koji je pokrenuo violončelist Dale Henderson koji sije sjeme budućim generacijama ljubitelja klasične glazbe stvarajući svijest javnosti i entuzijazam za umjetničku formu.\nSvake godine 21. ožujka J.S. Bachov rođendan\, glazbenici slave Bach in the Subways Day nudeći besplatne nastupe u podzemnim željeznicama i javnim prostorima diljem svijeta. \nGudački komorni ansambl i puhački kvintet DSO-a\, 27. ožujka.\, održati će koncert u Sponzi s početkom u 11. 15 sati.
URL:https://kalendar.dubrovnik.hr/event/bach-in-the-subways-gudacki-komorni-ansambl-puhacki-kvintet-dso-a/
LOCATION:Atrij palače Sponza\, DUBROVNIK\, Dubrovačko - neretvanska županija\, 20000\, Hrvatska
ATTACH;FMTTYPE=image/jpeg:https://kalendar.dubrovnik.hr/wp-content/uploads/2022/07/Sponza2-1.jpg
ORGANIZER;CN="Dubrova%C4%8Dki%20simfonijski%20orkestar":MAILTO:sales@dso.hr
GEO:42.6586378;18.1013637
END:VEVENT
BEGIN:VEVENT
DTSTART;TZID=Europe/Paris:20220712T210000
DTEND;TZID=Europe/Paris:20220712T220000
DTSTAMP:20260422T192325
CREATED:20220715T220000Z
LAST-MODIFIED:20220715T220000Z
UID:10001099-1657659600-1657663200@kalendar.dubrovnik.hr
SUMMARY:Otvorenje izložbe | Izvor Pende: Odgovor
DESCRIPTION:Izvor Pende: Odgovor\n\n\n\n\nOtvorenje izložbe\nIzvor Pende: Odgovor\nKroz ciklus slika pod nazivom Odgovor\, dubrovački umjetnik Izvor Pende prezentirati će trideset recentnih radova\, koloristički snažnih apstraktnih ulja velikog formata. \n  \nIzvor Pende\, hvaljen zbog nevjerojatno snažne produkcije ujednačene visoke kvalitete u rangu najvećih hrvatskih majstora apstrakcije\, jedinstven je po svom koloritu i kompozicijama koje je međunarodna umjetnička scena već odavno prepoznala. Pende je svoje umijeće usavršavao na studiju slikarstva pri Umjetničkoj akademiji u Dusseldorfu\, u klasi Karin Risse i Markusa Lupertza. Od 2003. godine izlaže na samostalnim i skupnim izložbama diljem svijeta. Danas mu je stalna baza Dubrovnik\, a ima vjerni krug kolekcionara koji prate njegov rad. Sa suprugom kiparicom Marijanom Pende i umjetnikom Slavenom Toljem izlagao je na 58. venecijanskom bijenalu. \nIzložba će biti otvorena do 6. kolovoza\, a ulaz je besplatan. \n \n  \nFoto: Boris Berc\, © Nacionalni muzej moderne umjetnosti\, Zagreb
URL:https://kalendar.dubrovnik.hr/event/otvorenje-izlozbe-izvor-pende-odgovor/
LOCATION:Atrij palače Sponza\, DUBROVNIK\, Dubrovačko - neretvanska županija\, 20000\, Hrvatska
ATTACH;FMTTYPE=image/jpeg:https://kalendar.dubrovnik.hr/wp-content/uploads/2022/07/NMMU-Izvor-Pende-MUTUAL-COMBAT-41360.jpg
ORGANIZER;CN="Dubrova%C4%8Dke%20ljetne%20igre":MAILTO:info@dubrovnik-festival.hr
GEO:42.6586378;18.1013637
END:VEVENT
BEGIN:VEVENT
DTSTART;TZID=Europe/Paris:20220715T203000
DTEND;TZID=Europe/Paris:20220715T220000
DTSTAMP:20260422T192325
CREATED:20220715T220000Z
LAST-MODIFIED:20220715T220000Z
UID:10000277-1657917000-1657922400@kalendar.dubrovnik.hr
SUMMARY:Iza scene | Predstavljanje umjetnika: ARDIAN HALIMI
DESCRIPTION:Iza scene | Predstavljanje umjetnika: \nARDIAN HALIMI\, skladatelj\nU sklopu dvotjedne rezidencije na projektu #synergy: Sharpening the capacities of the classical music industry in the Western Balkans sufinanciranog sredstvima programa Europske unije Kreativna Europa\, a u sklopu festivala partnera projekta\, odabrani skladatelji predstavit će sebe i svoj rad lokalnim zajednicama. \n— \nProjekt #Synergy\, sufinanciran sredstvima programa Europske unije Kreativna Europa\, okuplja šest značajnih festivala iz regije: KotorArt Don Brankovi dani muzike (Crna Gora)\, Dubrovačke ljetne igre (Hrvatska)\, Centar beogradskih festivala (Srbija)\, Ljubljana Festival (Slovenija)\, Vox Baroque (Albanija) i Chopin Piano Fest Priština (Kosovo). Cilj mu je ojačati kapacitete i razmjenu znanja na regionalnoj i europskoj razini\, razvijati nove vještine i povezati djelatnike u kulturi\, prvenstveno misleći na one koji rade u sektorima glazbenih festivala i klasične glazbe te potaknuti skladatelje da pišu nova djela nadahnuta lokalnim naslijeđem partnerskih zemalja\, kao i olakšavanje umrežavanja i suradnje između mladih glazbenika\, skladatelja i organizacija vezanih za klasičnu glazbu na zapadnom Balkanu. \n  \n  \n—
URL:https://kalendar.dubrovnik.hr/event/iza-scene-predstavljanje-umjetnika-ardian-halimi/
LOCATION:Atrij palače Sponza\, DUBROVNIK\, Dubrovačko - neretvanska županija\, 20000\, Hrvatska
ATTACH;FMTTYPE=image/jpeg:https://kalendar.dubrovnik.hr/wp-content/uploads/2022/07/Ardian-Halimi.jpg
ORGANIZER;CN="Dubrova%C4%8Dke%20ljetne%20igre":MAILTO:info@dubrovnik-festival.hr
GEO:42.6586378;18.1013637
END:VEVENT
BEGIN:VEVENT
DTSTART;TZID=Europe/Paris:20220720T203000
DTEND;TZID=Europe/Paris:20220720T220000
DTSTAMP:20260422T192325
CREATED:20220715T220000Z
LAST-MODIFIED:20220715T220000Z
UID:10000285-1658349000-1658354400@kalendar.dubrovnik.hr
SUMMARY:Iza scene | Predstavljanje umjetnika: NINA PEROVIĆ
DESCRIPTION:Iza scene | Predstavljanje umjetnika: \nNINA PEROVIĆ\, skladateljica\nU sklopu dvotjedne rezidencije na projektu #synergy: Sharpening the capacities of the classical music industry in the Western Balkans sufinanciranog sredstvima programa Europske unije Kreativna Europa\, a u sklopu festivala partnera projekta\, odabrani skladatelji predstavit će sebe i svoj rad lokalnim zajednicama. \n— \nProjekt #Synergy\, sufinanciran sredstvima programa Europske unije Kreativna Europa\, okuplja šest značajnih festivala iz regije: KotorArt Don Brankovi dani muzike (Crna Gora)\, Dubrovačke ljetne igre (Hrvatska)\, Centar beogradskih festivala (Srbija)\, Ljubljana Festival (Slovenija)\, Vox Baroque (Albanija) i Chopin Piano Fest Priština (Kosovo). Cilj mu je ojačati kapacitete i razmjenu znanja na regionalnoj i europskoj razini\, razvijati nove vještine i povezati djelatnike u kulturi\, prvenstveno misleći na one koji rade u sektorima glazbenih festivala i klasične glazbe te potaknuti skladatelje da pišu nova djela nadahnuta lokalnim naslijeđem partnerskih zemalja\, kao i olakšavanje umrežavanja i suradnje između mladih glazbenika\, skladatelja i organizacija vezanih za klasičnu glazbu na zapadnom Balkanu. \n  \n  \n—
URL:https://kalendar.dubrovnik.hr/event/iza-scene-predstavljanje-umjetnika-nina-perovic/
LOCATION:Atrij palače Sponza\, DUBROVNIK\, Dubrovačko - neretvanska županija\, 20000\, Hrvatska
ATTACH;FMTTYPE=image/jpeg:https://kalendar.dubrovnik.hr/wp-content/uploads/2022/07/Nina-Perovic.jpg
ORGANIZER;CN="Dubrova%C4%8Dke%20ljetne%20igre":MAILTO:info@dubrovnik-festival.hr
GEO:42.6586378;18.1013637
END:VEVENT
BEGIN:VEVENT
DTSTART;TZID=Europe/Zagreb:20230707T200000
DTEND;TZID=Europe/Zagreb:20230707T210000
DTSTAMP:20260422T192325
CREATED:20230703T114029Z
LAST-MODIFIED:20230703T114029Z
UID:10002514-1688760000-1688763600@kalendar.dubrovnik.hr
SUMMARY:PREDSTAVLJANJE KNJIGE MARINA DRŽIĆA „NOVELA OD STANCA“ U ENGLESKOM PRIJEVODU
DESCRIPTION:DOM MARINA DRŽIĆA \nPREDSTAVLJANJE KNJIGE MARINA DRŽIĆA „NOVELA OD STANCA“ U ENGLESKOM PRIJEVODU FILIPA KRENUSA \nPALAČA SPONZA \nPETAK\, 7. SRPNJA 2023. \n  \nS ponosom objavljujemo kako će se engleski prijevod cjelovitog teksta Držićeve „Novele od Stanca“ u izdanju Doma Marina Držića predstaviti 7. srpnja 2023. u Palači Sponza u sklopu Midsummer Scene Festivala. \nEngleski naziv djela je „Old Stan or A Fool Fooled“\, a prevoditelj je Filip Krenus koji se već istaknuo cjelovitim prijevodom „Dunda Maroja“\, također tiskanog u okviru izdavačke djelatnosti Doma Marina Držića. \nPosebnost ovog izdanja ilustriranog crtežima akademskog slikara Duje Medića je i bogati popratni materijal koji uključuje uvodnu riječ Patricka Spottiswoodea (jednog od utemeljitelja kazališta Shakespeareov Globe u Londonu)\, predgovor prevoditelja Krenusa\, kratku povijest Velike Onofrijeve fontane\, životopis Marina Držića\, završnu riječ Philipa Parra (ravnatelja Međunarodnog Shakespeareovog festivala u Yorku) te zemljovid Dubrovnika kako bi se čitatelj mogao lakše snaći. \nDržićeva komedija o starom seljaku Stancu\, prvi put objavljena 1551. godine je duhovita drama u potpunosti napisana u stihovima. Prevedena prvi put nakon 471 godine od strane Filipa Krenusa – opet\, u cijelosti u stihovima – predstava prati Stančeve nesreće koje bismo mogli povezati sa Shakespeareovim likovima Bottomom ili čak Falstaffom pa je ova drama dokaz Držićevog neobičnog srodstva s engleskim dramatičarem. \n„Novela od Stanca“\, jednočinka pokladne tematike\, napisana je za pir dubrovačkog vlastelina Martolice Džamanjića\, na kojemu je i praizvedena i tako se uklapa u renesansnu kazališnu tradiciju čijim je dijelom bio i Shakespeare. Zapletom i komičnom obradom ova komedija ima dodira sa Shakespeareovim „Veselim ženama windsorskim“ i „Snom Ivanjske noći“. Kako je ovo jedina Držićeva komedija koja je sačuvana u cijelosti i budući da je u cijelosti napisana u stihu\, ovaj komad predstavit će našeg komediografa publici na novi i svjež način. Cilj je njegovu živost\, maštu i komediografski genij pretočiti na svjetski nadjezik i tako ga otvoriti najširoj publici. Kako u uvodniku knjige „Old Stan or A Fool Fooled“ navodi Patrick Spottiswoode za nadati se je kako će ovaj prijevod rezultirati kazališnim izvedbama Držićeve „Novele od Stanca“ engleskom jeziku.
URL:https://kalendar.dubrovnik.hr/event/predstavljanje-knjige-marina-drzica-novela-od-stanca-u-engleskom-prijevodu/
LOCATION:Atrij palače Sponza\, DUBROVNIK\, Dubrovačko - neretvanska županija\, 20000\, Hrvatska
CATEGORIES:KULTURA,Predstavljanje knjige
ATTACH;FMTTYPE=image/jpeg:https://kalendar.dubrovnik.hr/wp-content/uploads/2023/07/B1-Old-Stan.jpg
ORGANIZER;CN="Dom%20Marina%20Dr%C5%BEi%C4%87a":MAILTO:ravnatelj@muzej-marindrzic.eu
GEO:42.6586378;18.1013637
END:VEVENT
BEGIN:VEVENT
DTSTART;TZID=Europe/Zagreb:20230711T210000
DTEND;TZID=Europe/Zagreb:20230711T220000
DTSTAMP:20260422T192325
CREATED:20230327T095741Z
LAST-MODIFIED:20230525T081822Z
UID:10002124-1689109200-1689112800@kalendar.dubrovnik.hr
SUMMARY:Otvorenje izložbe | Fadil Vejzović: Laka je mlados
DESCRIPTION:Naslov izložbe inspiriran je stihom iz Novele od Stanca Marina Držića. Slike su izvedene u kombiniranoj tehnici na papiru\, dimenzija 70×100. \n  \nFadil Vejzović rođen je u Sarajevu 1943. godine. Akademiju likovnih umjetnosti u Zagrebu završava 1966. godine u klasi profesora Raula Goldonija\, čiji je bio dugogodišnji suradnik. Od 1969. djelovao je samostalno i kao član grupe “Brezovica”\, a 1970. upisuje postdiplomski studij grafike i slikarstva na Akademie der bildende Kunste u Nürnbergu koji završava 1975. godine. Godinu kasnije počinje raditi u magazinu “Start” kao ilustrator i grafički urednik\, gdje ostaje 10 godina. Izlagao je na brojnim izložbama u zemlji i inozemstvu\, a za svoj umjetnički rad dobio je mnoge važne nagrade. Posebno priznanje 19. Zagrebačkog salona primio je 1984. godine\, 1990. osvojio je nagradu Hrvatskog bienala grafike u Splitu\, a 1993. nagradu 17. Zagrebačke izložbe grafike. Plaketom Lalin na prvom međunarodnom Salonu grafike na Rabu nagrađen je 2001. godine\, a od 2007. njegova su djela u stalnom postavu Moderne galerije Zagreb. Proslavljeni slikar i grafičar preminuo je u listopadu 2022. godine u Zagrebu. \n  \nUlaz slobodan.
URL:https://kalendar.dubrovnik.hr/event/otvorenje-izlozbe-fadil-vejzovic-laka-je-mlados/
LOCATION:Atrij palače Sponza\, DUBROVNIK\, Dubrovačko - neretvanska županija\, 20000\, Hrvatska
CATEGORIES:Izložbe,KULTURA
ATTACH;FMTTYPE=image/jpeg:https://kalendar.dubrovnik.hr/wp-content/uploads/2023/03/LAKA-JE-MLADOS-RSZ.jpg
GEO:42.6586378;18.1013637
END:VEVENT
BEGIN:VEVENT
DTSTART;TZID=Europe/Zagreb:20230801T210000
DTEND;TZID=Europe/Zagreb:20230801T220000
DTSTAMP:20260422T192325
CREATED:20230327T095937Z
LAST-MODIFIED:20230523T092034Z
UID:10002126-1690923600-1690927200@kalendar.dubrovnik.hr
SUMMARY:Otvorenje izložbe | Romana Milutin Fabris: Dubrovačka rapsodija
DESCRIPTION:Crtačka energija i istančanost geste vidna je na svakoj slici Romane Milutin Fabris\, koja neumorno nastavlja svoj umjetnički dijalog s Gradom i bilježi ga svojom jedinstvenom slikarskom gestom… \nAndrija Seifried
URL:https://kalendar.dubrovnik.hr/event/otvorenje-izlozbe-romana-milutin-fabris-dubrovacka-rapsodija-2/
LOCATION:Atrij palače Sponza\, DUBROVNIK\, Dubrovačko - neretvanska županija\, 20000\, Hrvatska
CATEGORIES:Izložbe,KULTURA
ATTACH;FMTTYPE=image/jpeg:https://kalendar.dubrovnik.hr/wp-content/uploads/2023/03/Romana-Milutin-Fabris-1-1.jpeg
GEO:42.6586378;18.1013637
END:VEVENT
BEGIN:VEVENT
DTSTART;TZID=Europe/Zagreb:20240712T210000
DTEND;TZID=Europe/Zagreb:20240712T220000
DTSTAMP:20260422T192325
CREATED:20240208T092833Z
LAST-MODIFIED:20240229T125413Z
UID:10004252-1720818000-1720821600@kalendar.dubrovnik.hr
SUMMARY:Otvorenje izložbe | Mara Bratoš: Lopudski portreti
DESCRIPTION:Lopudski portreti Mare Bratoš  nastajali su tijekom 25 godina te prate mediteransko sazrijevanje mlade lopudske djevojke. Projekt istražuje žensku snagu i autentičnost odrastanja na dubrovačkom otoku Lopudu. \nTri serije radova Mare Bratoš – iz 1998.\, 2003. i 2023. godine – prikazuju transformaciju samog društva i regije\, kroz osobnu priču o djevojci i njenoj vlastitoj transformaciji u ovom društvu. To je priča koja posebno ima poseban odjek u mediteranskoj regiji gdje je napuštanje domova u potrazi za boljim životom rezultiralo brojnim napuštenim selima i otocima na obali. Stoga je važna veza koja se ovdje uspostavlja na razini fotografkinje i snimanog subjekta\, tadašnje mlade djevojke i danas zrele\, odrasle žene. Žene su se tradicionalno doživljavale kao pasivni promatrači većih povijesnih događaja\, žrtve koje nose sav teret brige\, no snimani subjekt ovdje predstavlja transformaciju\, nekoga tko je vidio i iskusio što se događa s njezinom obitelji na vlastitoj koži. Snimani subjekt\, ovdje simbolizira ženu u mediteranskom kraju koja trpi žrtvu svoje obitelji i pretvara se iz pasivnog promatrača u aktivnog sudionika društva\, boreći se za vrijednosti zajednice. \n  \nFotografija (c) Mara Bratoš
URL:https://kalendar.dubrovnik.hr/event/otvorenje-izlozbe-mara-bratos-lopudski-portreti/
LOCATION:Atrij palače Sponza\, DUBROVNIK\, Dubrovačko - neretvanska županija\, 20000\, Hrvatska
CATEGORIES:Dubrovačke ljetne igre,Festivali,Izložbe,KULTURA
ATTACH;FMTTYPE=image/jpeg:https://kalendar.dubrovnik.hr/wp-content/uploads/2024/02/1-Naslovna-fotografija-_-MB.jpg
GEO:42.6586378;18.1013637
END:VEVENT
BEGIN:VEVENT
DTSTART;TZID=Europe/Zagreb:20240725T210000
DTEND;TZID=Europe/Zagreb:20240725T220000
DTSTAMP:20260422T192325
CREATED:20240312T113522Z
LAST-MODIFIED:20240714T130705Z
UID:10004535-1721941200-1721944800@kalendar.dubrovnik.hr
SUMMARY:Predstavljanje knjige | Hrvoje Juvančić: Razgovori o Jupi
DESCRIPTION:Predstavljanje knjige\nHrvoje Juvančić: Razgovori o Jupi\n  \n  \nJoško Juvančić Jupa (1936.-2021.)\, jedan je od najpoznatijih hrvatskih\, a zasigurno je najveći dubrovački kazališni redatelj druge polovice 20. stoljeća. “Rosenkrantz i Guilderstern su mrtvi”\, “Dubrovačka trilogija”\, “Daleka zemlja”\, “Ecce homo”\, “Ribarske svađe” ili “Ekvinocijo”\, tek su neke od najuspješnijih Jupinih režija. Tijekom 55 godišnjeg rada u kazalištu\, uz redateljsku\, Juvančić je ostvario i iznimnu pedagošku\, kao i karijeru vrlo uspješnog umjetničkog ravnatelja drame na Dubrovačkim ljetnim igrama. \nPromocija knjige “Razgovori o Jupi”\, koju je nakon režije dokumentarnog filma o velikom redatelju\, također napisao i priredio redateljev sin Hrvoje Juvančić\, biti će prilika prisjetiti se ne samo Jupe\, nego i zlatnih vremena Dubrovačkih ljetnih igara i općenito života Dubrovnika u 20. stoljeću. \nNa promociji će govoriti: Matko Sršen\, Senka Bulić\, Krešimir Dolenčić\, Perica Martinović i autor\, te će biti prikazani ulomci iz najpoznatijih Jupinih predstava. \n 
URL:https://kalendar.dubrovnik.hr/event/predstavljanje-knjige-hrvoje-juvancic-razgovori-o-jupi/
LOCATION:Atrij palače Sponza\, DUBROVNIK\, Dubrovačko - neretvanska županija\, 20000\, Hrvatska
CATEGORIES:Dubrovačke ljetne igre,Festivali,KULTURA,Predstavljanje knjige
ATTACH;FMTTYPE=image/jpeg:https://kalendar.dubrovnik.hr/wp-content/uploads/2024/03/KORICA-Razgovori-o-Jupi-1_page-0001.jpg
GEO:42.6586378;18.1013637
END:VEVENT
BEGIN:VEVENT
DTSTART;TZID=Europe/Zagreb:20240803T213000
DTEND;TZID=Europe/Zagreb:20240803T230000
DTSTAMP:20260422T192325
CREATED:20240219T074901Z
LAST-MODIFIED:20240430T065434Z
UID:10004329-1722720600-1722726000@kalendar.dubrovnik.hr
SUMMARY:Otvorenje izložbe | Josip Ivanović: Od auta do kaosa
DESCRIPTION:OTVORENJE IZLOŽBE\n\nJosip Ivanović: Od auta do kaosa\n  \nJosip Ivanović slikar je koji osluškuje ritam vremena i tako postaje čisti “Homo Urbans” kod kojeg se odvija izuzetna likovna transofrmacija početnog motiva. Taj početni motiv auta\, bio je povod da razigra želju\, svoj slikarski senzibilitet i ambiciju izričaja u kolorističkom zamahu u kojem je zasigurno i uspio.
URL:https://kalendar.dubrovnik.hr/event/otvorenje-izlozbe-josip-ivanovic-od-auta-do-kaosa/
LOCATION:Atrij palače Sponza\, DUBROVNIK\, Dubrovačko - neretvanska županija\, 20000\, Hrvatska
CATEGORIES:Dubrovačke ljetne igre,Festivali,Izložbe,KULTURA
ATTACH;FMTTYPE=image/jpeg:https://kalendar.dubrovnik.hr/wp-content/uploads/2024/02/Ivanovic.jpg
GEO:42.6586378;18.1013637
END:VEVENT
BEGIN:VEVENT
DTSTART;TZID=Europe/Zagreb:20240809T210000
DTEND;TZID=Europe/Zagreb:20240809T220000
DTSTAMP:20260422T192325
CREATED:20240513T073618Z
LAST-MODIFIED:20240715T072248Z
UID:10004694-1723237200-1723240800@kalendar.dubrovnik.hr
SUMMARY:Predavanje | Kroz povijest dubrovačke ambijentalnosti
DESCRIPTION:PREDAVANJE\nKroz povijest dubrovačke ambijentalnosti\nKronološka šetnja kroz najvažnije dramske naslove povijesti Dubrovačkih ljetnih Igara kroz koje se mogu iščitavati karakteristike onoga što se zvalo dubrovačka ambijentalnost i obilježilo je\, kao jedan od formativnih elemenata\, povijest našeg najpoznatijeg i najstarijeg ljetnog festivala. Predavanje je reminiscentnog ali i edukativnog karaktera\, jer u posljednjih tridesetak godina ambijentalnost na kojoj je izgrađen mit o Igrama\, utkavši se u kolektivnu memoriju Dubrovčana\, postepeno iščezava. \nU isto vrijeme\, pojmom ambijentalnosti se u javnosti često barata\, a da ga se dovoljno ne razumije\, kao i usporedbama Igara s velikim europskim festivalima poput Salzburga\, Avignona ili Edinburgha. \nPredavačica Petra Jelača\, kazališna kritičarka koja već dva desetljeća prati dramski program Dubrovačkih ljetnih igara\, provest će publiku kronološkom šetnjom kroz najvažnije ambijentalne postaje iz povijesti Igara\, te nastojati dočarati u čemu je bila tajna i posebnost dubrovačke dramske ambijentalnosti u odnosu na ostale europske\, te što je toliko oduševljavalo i kritiku i publiku. \nBit će razgovora i o mogućnostima suvremenih čitanja i prilagodbi tog fenomena\, a publika je\, kako ona koja se sjeća postaja ove kronološke šetnje\, tako i ona koja o njima možda po prvi puta sluša\, pozvana da se uključi svojim komentarima. \n  \n— \nPredavačica: Petra Jelača
URL:https://kalendar.dubrovnik.hr/event/predavanje-kroz-povijest-dubrovacke-ambijentalnosti/
LOCATION:Atrij palače Sponza\, DUBROVNIK\, Dubrovačko - neretvanska županija\, 20000\, Hrvatska
CATEGORIES:Dubrovačke ljetne igre,Edukativna,Festivali,KULTURA,OSTALO,Povijest,Predavanja
ATTACH;FMTTYPE=image/png:https://kalendar.dubrovnik.hr/wp-content/uploads/2024/05/Petra-Jelaca.png
GEO:42.6586378;18.1013637
END:VEVENT
BEGIN:VEVENT
DTSTART;TZID=Europe/Zagreb:20240810T200000
DTEND;TZID=Europe/Zagreb:20240810T213000
DTSTAMP:20260422T192325
CREATED:20240219T073559Z
LAST-MODIFIED:20240715T072608Z
UID:10004325-1723320000-1723325400@kalendar.dubrovnik.hr
SUMMARY:Predstavljanje slikovnice | Luko Paljetak: Luka Sorkočević
DESCRIPTION:Dubrovačke ljetne igre i Ogranak Matice hrvatske u Dubrovniku\nuz 290. obljetnicu rođenja Luke Sorkočevića \n  \nU suradnji s Ogrankom Matice hrvatske u Dubrovniku\, Dubrovačke ljetne igre pridružit će se obilježavanju 290. rođendana skladatelja i poklisara Dubrovačke Republike Luke Sorkočevića prigodnom promocijom slikovnice iz pera jednog od najplodnijih suvremenih hrvatskih književnika\, akademika Luka Paljetka\, pod nazivom „Luka Sorkočević.“ \n 
URL:https://kalendar.dubrovnik.hr/event/promocija-slikovnice-luka-sorkocevic-autora-luka-paljetka/
LOCATION:Atrij palače Sponza\, DUBROVNIK\, Dubrovačko - neretvanska županija\, 20000\, Hrvatska
CATEGORIES:Dubrovačke ljetne igre,Edukativna,Festivali,KULTURA,Obilježavanja,Obiteljska zabava,Povijest,Predavanja,Predstavljanje knjige
ATTACH;FMTTYPE=image/jpeg:https://kalendar.dubrovnik.hr/wp-content/uploads/2024/02/Luka-Sorkocevic-naslovnica-c-Yellow-Yuri-Igor-Jurilj.jpg
GEO:42.6586378;18.1013637
END:VEVENT
BEGIN:VEVENT
DTSTART;TZID=Europe/Zagreb:20240816T210000
DTEND;TZID=Europe/Zagreb:20240816T220000
DTSTAMP:20260422T192325
CREATED:20240715T074725Z
LAST-MODIFIED:20240715T074725Z
UID:10004829-1723842000-1723845600@kalendar.dubrovnik.hr
SUMMARY:Predstavljanje knjige | Srđan Gjivoje: Priča jednoga Zarokaša
DESCRIPTION:Predstavljanje knjige\n\nSrđan Gjivoje: Priča jednoga Zarokaša\n \nPriča jednoga Zarokaša prva je knjiga glazbenika Srđana Gjivoja\, Dubrovčanina koji je dosad svoj Grad pjevao\, a sad ga i piše. U toj autobiografskoj kronici odrastanja u dubrovačkoj Ulici iza Roka autor nam kronološkim redom pripovijeda o onome dijelu svojega dječaštva koji se odvijao vanka\, među djecom i među kamenim rubovima same ulice\, nabrajajući imena svojih prijatelja\, ali i ostale čeljadi\, odraslih ljudi koji su u ulici boravili. Nježnim nostalgičnim tonom umjetnika u duši potanko opisuje igre i načine postizanja razbibrige za kojom svaki čovjek poslije kroz život žudi. Dubrovački govor kojim je Gjivoje zapisao taj dio svoje prošlosti autentičan je\, prirodan i protkan žargonizmima iz općega jezika tadašnje mladosti pa je i sam jezik pridonio iskrenosti pripovijedanja i potpunomu čitateljevu povjerenju. Priča jednoga Zarokaša svojim je sadržajem i svojim jezikom ozbiljan prinos proučavanju dubrovačke nematerijalne baštine\, a svojom zabavnošću i prisnošću divan je rego zaljubljenicima u svoj Grad. \n  \nKnjigu će predstaviti: Srđan Gjivoje\, mr.sc. Vinko Rožić\, dr. sc. Vesna Čučić i dr. sc. Ivana Lovrić Jović. \nAutor će ugostiti i zanimljive glazbene goste s kojima će i sam zapjevati i zasvirati pa se događaj može opisati kao književno-glazbena priredba. \n  \n—
URL:https://kalendar.dubrovnik.hr/event/predstavljanje-knjige-srdan-gjivoje-prica-jednoga-zarokasa/
LOCATION:Atrij palače Sponza\, DUBROVNIK\, Dubrovačko - neretvanska županija\, 20000\, Hrvatska
CATEGORIES:Dubrovačke ljetne igre,Festivali,KULTURA,Predstavljanje knjige
ATTACH;FMTTYPE=image/jpeg:https://kalendar.dubrovnik.hr/wp-content/uploads/2024/07/rsz_2.-SG-Naslovnica.jpg
GEO:42.6586378;18.1013637
END:VEVENT
BEGIN:VEVENT
DTSTART;VALUE=DATE:20230221
DTEND;VALUE=DATE:20230227
DTSTAMP:20260422T192325
CREATED:20230220T092055Z
LAST-MODIFIED:20230220T092305Z
UID:10000942-1676937600-1677455999@kalendar.dubrovnik.hr
SUMMARY:Izložba „Dječji pogled“ u Sponzi
DESCRIPTION:Državni Arhiv u Dubrovniku i Hrvatska kinoteka HDA u suradnji s javnom ustanovom Kinematografi Dubrovnik u tjednu drugog dijela zimskog odmora  organizira program za učenike naših škola s ciljem promocije i prezentacije nacionalne filmske baštine. \nIzložba „Dječji pogled“ koja će se otvoriti 20. veljače u 16\,30 sati u atriju palače Sponza\, izbor je 21 plakata za 24 dugometražna i kratkometražna dječja filma nastala u razdoblju od 1953. do 2006. godine koji svojim vizualnim rješenjima ne samo da uspješno promoviraju film za koji su rađeni već i govore o vremenu svog nastanka. \nKako se filmski plakati uvijek vežu uz film\, pripremili smo i filmski program u kinu Sloboda od 20. – 24. veljače od 17 sati\, tijekom kojeg ćemo prikazati odabrane naslove digitalno restauriranih dječjih filmova poput „Družbe Pere Kvržice“ (1970) i „Vuka samotnjak“ (1972) Obrada Gluščevića\, „Vlaka u snijegu“ (1976) Mate Relje\, „Tajne starog tavana“ (1984) Vladimira Tadeja te „Sinjeg galeba“ (1953) Branka Bauera. \nProjekcije su besplatne za sve posjetitelje 😊 \nVeselimo se i vašem dolasku i praćenju naših aktivnosti! \n \n  \n 
URL:https://kalendar.dubrovnik.hr/event/izlozba-djecji-pogled-u-sponzi/
LOCATION:Atrij palače Sponza\, DUBROVNIK\, Dubrovačko - neretvanska županija\, 20000\, Hrvatska
CATEGORIES:Izložbe,KULTURA
ATTACH;FMTTYPE=image/png:https://kalendar.dubrovnik.hr/wp-content/uploads/2023/02/plakat-za-izlozbu-717x1024-1.png
ORGANIZER;CN="Dr%C5%BEavni%20arhiv%20u%20Dubrovniku":MAILTO:dad@dad.hr
GEO:42.6586378;18.1013637
END:VEVENT
END:VCALENDAR