BEGIN:VCALENDAR
VERSION:2.0
PRODID:-//Kalendar događanja Dubrovnika - ECPv6.1.1//NONSGML v1.0//EN
CALSCALE:GREGORIAN
METHOD:PUBLISH
X-ORIGINAL-URL:https://kalendar.dubrovnik.hr
X-WR-CALDESC:Događanja za Kalendar događanja Dubrovnika
REFRESH-INTERVAL;VALUE=DURATION:PT1H
X-Robots-Tag:noindex
X-PUBLISHED-TTL:PT1H
BEGIN:VTIMEZONE
TZID:Europe/Zagreb
BEGIN:DAYLIGHT
TZOFFSETFROM:+0100
TZOFFSETTO:+0200
TZNAME:CEST
DTSTART:20240331T010000
END:DAYLIGHT
BEGIN:STANDARD
TZOFFSETFROM:+0200
TZOFFSETTO:+0100
TZNAME:CET
DTSTART:20241027T010000
END:STANDARD
END:VTIMEZONE
BEGIN:VEVENT
DTSTART;TZID=Europe/Zagreb:20240213T200000
DTEND;TZID=Europe/Zagreb:20240213T233000
DTSTAMP:20260423T005254
CREATED:20240206T081430Z
LAST-MODIFIED:20240206T081604Z
UID:10004238-1707854400-1707867000@kalendar.dubrovnik.hr
SUMMARY:Ultimi od karnevala
DESCRIPTION:Na Ultime od karnevala\, veljun se ove godine vraća u Culture Club Revelin gdje će se za dobru zabavu 13. veljače u 20 sati pobrinuti grupa Taliri uz DJ-a\, a pripremljena je popularna cijena ulaznice i privlačne nagrade najboljim maskama.
URL:https://kalendar.dubrovnik.hr/event/ultimi-od-karnevala/
LOCATION:Culture Club Revelin\, Ulica Svetog Dominika 3\, DUBROVNIK\, Dubrovačko - neretvanska županija\, 20000\, Croatia (Local Name: Hrvatska)
CATEGORIES:Zabava
ATTACH;FMTTYPE=image/jpeg:https://kalendar.dubrovnik.hr/wp-content/uploads/2024/02/Plakat-Ultimi-karnevo-2024-scaled.jpg
ORGANIZER;CN="Grad%20Dubrovnik":MAILTO:mkaticic@dubrovnik.hr
GEO:42.6416325;18.1109116
X-APPLE-STRUCTURED-LOCATION;VALUE=URI;X-ADDRESS=Culture Club Revelin Ulica Svetog Dominika 3 DUBROVNIK Dubrovačko - neretvanska županija 20000 Croatia (Local Name: Hrvatska);X-APPLE-RADIUS=500;X-TITLE=Ulica Svetog Dominika 3:geo:18.1109116,42.6416325
END:VEVENT
END:VCALENDAR