BEGIN:VCALENDAR
VERSION:2.0
PRODID:-//Kalendar događanja Dubrovnika - ECPv6.1.1//NONSGML v1.0//EN
CALSCALE:GREGORIAN
METHOD:PUBLISH
X-WR-CALNAME:Kalendar događanja Dubrovnika
X-ORIGINAL-URL:https://kalendar.dubrovnik.hr
X-WR-CALDESC:Događanja za Kalendar događanja Dubrovnika
REFRESH-INTERVAL;VALUE=DURATION:PT1H
X-Robots-Tag:noindex
X-PUBLISHED-TTL:PT1H
BEGIN:VTIMEZONE
TZID:Europe/Zagreb
BEGIN:DAYLIGHT
TZOFFSETFROM:+0100
TZOFFSETTO:+0200
TZNAME:CEST
DTSTART:20230326T010000
END:DAYLIGHT
BEGIN:STANDARD
TZOFFSETFROM:+0200
TZOFFSETTO:+0100
TZNAME:CET
DTSTART:20231029T010000
END:STANDARD
BEGIN:DAYLIGHT
TZOFFSETFROM:+0100
TZOFFSETTO:+0200
TZNAME:CEST
DTSTART:20240331T010000
END:DAYLIGHT
BEGIN:STANDARD
TZOFFSETFROM:+0200
TZOFFSETTO:+0100
TZNAME:CET
DTSTART:20241027T010000
END:STANDARD
BEGIN:DAYLIGHT
TZOFFSETFROM:+0100
TZOFFSETTO:+0200
TZNAME:CEST
DTSTART:20250330T010000
END:DAYLIGHT
BEGIN:STANDARD
TZOFFSETFROM:+0200
TZOFFSETTO:+0100
TZNAME:CET
DTSTART:20251026T010000
END:STANDARD
BEGIN:DAYLIGHT
TZOFFSETFROM:+0100
TZOFFSETTO:+0200
TZNAME:CEST
DTSTART:20260329T010000
END:DAYLIGHT
BEGIN:STANDARD
TZOFFSETFROM:+0200
TZOFFSETTO:+0100
TZNAME:CET
DTSTART:20261025T010000
END:STANDARD
TZID:Europe/Paris
BEGIN:DAYLIGHT
TZOFFSETFROM:+0100
TZOFFSETTO:+0200
TZNAME:CEST
DTSTART:20210328T010000
END:DAYLIGHT
BEGIN:STANDARD
TZOFFSETFROM:+0200
TZOFFSETTO:+0100
TZNAME:CET
DTSTART:20211031T010000
END:STANDARD
BEGIN:DAYLIGHT
TZOFFSETFROM:+0100
TZOFFSETTO:+0200
TZNAME:CEST
DTSTART:20220327T010000
END:DAYLIGHT
BEGIN:STANDARD
TZOFFSETFROM:+0200
TZOFFSETTO:+0100
TZNAME:CET
DTSTART:20221030T010000
END:STANDARD
END:VTIMEZONE
BEGIN:VEVENT
DTSTART;TZID=Europe/Zagreb:20230525T140000
DTEND;TZID=Europe/Zagreb:20230525T160000
DTSTAMP:20260420T230832
CREATED:20230517T111435Z
LAST-MODIFIED:20230517T111438Z
UID:10002288-1685023200-1685030400@kalendar.dubrovnik.hr
SUMMARY:Javna tribina o mentalnom zdravlju
DESCRIPTION:
URL:https://kalendar.dubrovnik.hr/event/javna-tribina-o-mentalnom-zdravlju/
LOCATION:Dvorana Ivana Pavla II\, Dubrovnik\, Croatia (Local Name: Hrvatska)
ATTACH;FMTTYPE=image/jpeg:https://kalendar.dubrovnik.hr/wp-content/uploads/2023/05/1684312239.jpg
ORGANIZER;CN="Lukjernica":MAILTO:katica.bendevis@gmail.com
GEO:42.6414178;18.1070562
END:VEVENT
BEGIN:VEVENT
DTSTART;TZID=Europe/Zagreb:20240321T190000
DTEND;TZID=Europe/Zagreb:20240321T200000
DTSTAMP:20260420T230832
CREATED:20240313T132922Z
LAST-MODIFIED:20240314T071656Z
UID:10004546-1711047600-1711051200@kalendar.dubrovnik.hr
SUMMARY:Predstavljanje knjige ''Matijino stoljeće rata'' autora Ivana Šimića
DESCRIPTION:U četvrtak\, 21. ožujka u 19 sati u Dvorani Ivana Pavla II.\, Ogranak Matice hrvatske u Dubrovniku i Ogranak Matice hrvatske u Grudama predstavit će knjigu ”Matijino stoljeće rata” autora Ivana Šimića. \nRoman Matijino stoljeće rata nastao je prema rukopisu koji je ušao u finale najvećeg hrvatskog natječaja za najbolji neobjavljeni roman godine. Epska je to priča o stradanju jedne hercegovačke obitelji kroz četiri generacije. Preplitanjem fikcije i stvarnih događaja\, Šimić donosi svjedočanstva o ljudima i njihovim životnim putovima u zaista širokom vremenskom i prostornom obuhvatu\, čime tragičnu sudbinu naslovne junakinje uvjerljivo smješta u povijesni kontekst koji je tu sudbinu zapravo presudno i odredio. Utoliko je ova knjiga istovremeno i Chronique du xxe siècle\, kako je u podnaslovu i natuknuto\, ali i dirljiva priča o ženi koja je preživjela čak tri rata\, izgubivši u svakom od njih nekoga od svojih najrođenijih. \nKnjigu će predstaviti Dr. Jure Burić\, fra Josip Sopta\, prof. dr. sc. Slavica Stojan i autor knjige Ivan Šimić.
URL:https://kalendar.dubrovnik.hr/event/predstavljanje-knjige-matijino-stoljece-rata-autora-ivana-simica/
LOCATION:Dvorana Ivana Pavla II\, Dubrovnik\, Croatia (Local Name: Hrvatska)
CATEGORIES:Čitateljski klub,KULTURA,OSTALO,Predavanja,Predstavljanje knjige
ATTACH;FMTTYPE=image/png:https://kalendar.dubrovnik.hr/wp-content/uploads/2024/03/Plakat-Matijino-stoljece-rata.png
ORGANIZER;CN="Ogranak%20Matice%20hrvatske%20u%20Dubrovniku":MAILTO:mhdubrovnik@optinet.hr
GEO:42.6414178;18.1070562
END:VEVENT
BEGIN:VEVENT
DTSTART;TZID=Europe/Zagreb:20260115T193000
DTEND;TZID=Europe/Zagreb:20260115T210000
DTSTAMP:20260420T230832
CREATED:20260112T102522Z
LAST-MODIFIED:20260113T143600Z
UID:10008814-1768505400-1768510800@kalendar.dubrovnik.hr
SUMMARY:Tribina ususret sv. Vlahu: Čašćenje svetačkih relikvija od ranoga kršćanstva do naših dana
DESCRIPTION:15.1. – Tribina ususret sv. Vlahu · Dvorana Ivana Pavla II.\, 19:30 \ndr. sc. Ivan Bodrožić\, red. prof.: Čašćenje svetačkih relikvija od ranoga kršćanstva do naših dana
URL:https://kalendar.dubrovnik.hr/event/tribina-ususret-sv-vlahu-cascenje-svetackih-relikvija-od-ranoga-krscanstva-do-nasih-dana/
LOCATION:Dvorana Ivana Pavla II\, Dubrovnik\, Croatia (Local Name: Hrvatska)
CATEGORIES:Javni razgovor
ATTACH;FMTTYPE=image/jpeg:https://kalendar.dubrovnik.hr/wp-content/uploads/2026/01/mPlakat_tribina_2026.jpg
ORGANIZER;CN="Dubrova%C4%8Dka%20biskupija":MAILTO:biskupija@du.t-com.hr
GEO:42.6414178;18.1070562
END:VEVENT
BEGIN:VEVENT
DTSTART;TZID=Europe/Zagreb:20260122T193000
DTEND;TZID=Europe/Zagreb:20260122T210000
DTSTAMP:20260420T230832
CREATED:20260112T102812Z
LAST-MODIFIED:20260113T143605Z
UID:10008815-1769110200-1769115600@kalendar.dubrovnik.hr
SUMMARY:Tribina ususret sv. Vlahu: Čašćenje relikvija hrvatskih svetaca i blaženika i razvijanje kulta čašćenja
DESCRIPTION:22.1. – Tribina ususret sv. Vlahu · Dvorana Ivana Pavla II.\, 19:30 \ndr. sc. Juraj Batelja\, izv. prof.: Čašćenje relikvija hrvatskih svetaca i blaženika i razvijanje kulta čašćenja
URL:https://kalendar.dubrovnik.hr/event/tribina-ususret-sv-vlahu-cascenje-relikvija-hrvatskih-svetaca-i-blazenika-i-razvijanje-kulta-cascenja/
LOCATION:Dvorana Ivana Pavla II\, Dubrovnik\, Croatia (Local Name: Hrvatska)
CATEGORIES:Javni razgovor
ATTACH;FMTTYPE=image/jpeg:https://kalendar.dubrovnik.hr/wp-content/uploads/2026/01/mPlakat_tribina_2026.jpg
ORGANIZER;CN="Dubrova%C4%8Dka%20biskupija":MAILTO:biskupija@du.t-com.hr
GEO:42.6414178;18.1070562
END:VEVENT
BEGIN:VEVENT
DTSTART;TZID=Europe/Zagreb:20260129T193000
DTEND;TZID=Europe/Zagreb:20260129T210000
DTSTAMP:20260420T230832
CREATED:20260112T102954Z
LAST-MODIFIED:20260113T143605Z
UID:10008816-1769715000-1769720400@kalendar.dubrovnik.hr
SUMMARY:Tribina ususret sv. Vlahu: O relikvijarima sv. Vlaha - povodom 1000. obljetnice prijenosa relikvije Parčeve glave u Dubrovnik
DESCRIPTION:29.1. – Tribina ususret sv. Vlahu · Dvorana Ivana Pavla II.\, 19:30 \ndr. sc. Ana Munk\, red. prof.: O relikvijarima sv. Vlaha – povodom 1000. obljetnice prijenosa relikvije Parčeve glave u Dubrovnik
URL:https://kalendar.dubrovnik.hr/event/tribina-ususret-sv-vlahu-o-relikvijarima-sv-vlaha-povodom-1000-obljetnice-prijenosa-relikvije-parceve-glave-u-dubrovnik/
LOCATION:Dvorana Ivana Pavla II\, Dubrovnik\, Croatia (Local Name: Hrvatska)
ATTACH;FMTTYPE=image/jpeg:https://kalendar.dubrovnik.hr/wp-content/uploads/2026/01/mPlakat_tribina_2026.jpg
ORGANIZER;CN="Dubrova%C4%8Dka%20biskupija":MAILTO:biskupija@du.t-com.hr
GEO:42.6414178;18.1070562
END:VEVENT
BEGIN:VEVENT
DTSTART;TZID=Europe/Paris:20211207T190000
DTEND;TZID=Europe/Paris:20211207T200000
DTSTAMP:20260420T230832
CREATED:20220715T220000Z
LAST-MODIFIED:20220715T220000Z
UID:10000211-1638903600-1638907200@kalendar.dubrovnik.hr
SUMMARY:Nikola Obuljen: Kako smo pregovarali s neprijateljem\, predstavljanje knjige
DESCRIPTION:Ogranak Matice hrvatske u Dubrovniku i Hrvatski dokumentacijski memorijanli centar Domovinskog rata predstavljaju knjigu Nikole Čića Obuljena ”Kako smo pregovarali s neprijateljem”. Tema ove memoarske knjige dramatično je razdoblje Domovinskog rata na dubrovačkom području. Memoarska proza je miješani žanr u kojem se susreću i međusobno objedinjuju dokumentarni i književni pristup u prikazu jednog razdoblja koje je sada već 30 godina udaljeno od nas a koje je autor približio autentičnim dokumentima\, dnevničkim zapisima\, fotografijama i pismima\, oslanjajući se u dobroj mjeri i na svoja sjećanja\, promišljanja i emocije povezane s događajima i susretima u kojima je sam sudjelovao. Premalo je knjiga koje se bave tim iznimno teškim\, opasnim\, zastrašujućim\, ali i slavnim danima nedavne hrvatske povijesti. Zato osobitu vrijednost predstavlja ova knjiga čija naracija nema pretenziju predstaviti cjelovitu povijest ratovanja na južnohrvatskom području početkom devedesetih\, iako donosi zbirku važnih dokumenata i zapisanih činjenica o tom važnom razdoblju naš nedavne prošlosti. U ovoj knjizi zabilježena ratna izvješća o pregovorima s neprijateljima\, ratnim događanjima i ratnoj zbilji Dubrovnika i njegove okolice autora Nikole Obuljena autentično su\, potresno i uzbudljivo napisano svjedočanstvo koje  predstavlja važnu kariku u historiografiji Domovinskog rata na južnohrvatskom području. Jednostavnom naracijom koja ima obilježje govornoga jezika autor je uvjerljivo prikazao ratnu svakodnevicu napadnutog Dubrovnika\, nevolje\, brige i strahove njegovih stanovnika bez vode\, struje i gotovo svake mogućnosti komunikacije\, neizvjesnost i strahote neprijateljskih rušilačkih napada\, ali i snagu\, otpornost\, odlučnost i ustrajnost Dubrovčana da se odupru i sačuvaju slobodu. \nPredstavljanje će se održati u utorak\, 7. prosinca 2021.\, u 19 sati –  Dvorani Ivana Pavla II. (Samostan sv. Klare). \nUlaz je besplatan. \n*PREDAVANJE ĆE SE ODRŽATI UZ POŠTIVANJE PROPISANIH EPIDEMIOLOŠKIH\nMJERA TE UZ OBAVEZNO KORIŠTENJE ZAŠTITNIH MASKI I PREDOČENJE DIGITALNE EU COVID POTVRDE. \n 
URL:https://kalendar.dubrovnik.hr/event/nikola-obuljen-kako-smo-pregovarali-s-neprijateljem-predstavljanje-knjige/
LOCATION:Dvorana Ivana Pavla II\, Dubrovnik\, Croatia (Local Name: Hrvatska)
ATTACH;FMTTYPE=image/jpeg:https://kalendar.dubrovnik.hr/wp-content/uploads/2022/07/Plakat-Cico-page-001-scaled-1.jpg
GEO:42.6414178;18.1070562
END:VEVENT
BEGIN:VEVENT
DTSTART;TZID=Europe/Paris:20220205T193000
DTEND;TZID=Europe/Paris:20220205T203000
DTSTAMP:20260420T230832
CREATED:20220715T220000Z
LAST-MODIFIED:20220715T220000Z
UID:10000683-1644089400-1644093000@kalendar.dubrovnik.hr
SUMMARY:Armenia sacra: hodočašće sakralnoj arhitekturi\, predstavljanje knjige
DESCRIPTION:U subotu\, 5. veljače 2022. godine u 19:30 sati u dvorani Ivana Pavla II održat će se predstavljanje knjige Miljenka Domijana “Armenia sacra: hodočašće sakralnoj arhitekturi”. \nKnjigu će uz autora predstaviti Luko Paljetak i Ivan Viđen. Program se realizira pod pokroviteljstvom veleposlanika Republike Armenije. Radi izvanredne epidemiološke situacije u kojoj se nalazimo i ograničenog broja mjesta u dvorani Ivana Pavla II.\, predstavljanje knjige moći ćete pratiti i putem stranice www.festa.hr\, te YouTube kanala Dubrovačke biskupije. \n 
URL:https://kalendar.dubrovnik.hr/event/armenia-sacra-hodocasce-sakralnoj-arhitekturi-predstavljanje-knjige/
LOCATION:Dvorana Ivana Pavla II\, Dubrovnik\, Croatia (Local Name: Hrvatska)
ATTACH;FMTTYPE=image/jpeg:https://kalendar.dubrovnik.hr/wp-content/uploads/2022/07/Pozivnica-Armenia-Sacra-Dubrovnik-page-00122.jpg
ORGANIZER;CN="Dubrova%C4%8Dka%20biskupija":MAILTO:biskupija@du.t-com.hr
GEO:42.6414178;18.1070562
END:VEVENT
BEGIN:VEVENT
DTSTART;TZID=Europe/Zagreb:20230316T190000
DTEND;TZID=Europe/Zagreb:20230316T200000
DTSTAMP:20260420T230832
CREATED:20230313T122959Z
LAST-MODIFIED:20230313T122959Z
UID:10002011-1678993200-1678996800@kalendar.dubrovnik.hr
SUMMARY:Predstavljanje knjige ''Smrt je uvijek u modi'' autora Mihaila Radojičića Shoka
DESCRIPTION:Ogranak Matice hrvatske u Dubrovniku poziva Vas na predstavljanje knjige Mihaila Radojičića Shoka Smrt je uvijek u modi koje organizira u suradnji s Društvom crnogorsko-hrvatskog prijateljstva Dubrovačko-neretvanske županije. \n*** Crnogorski pisac\, scenarist i glumac Mihailo Radojičić Shok nosio je u sebi\, kako je rekao „dvadesetipet godina kao biljeg na duši“ sramnu i tragičnu istinu o agresiji na susjednu Hrvatsku\, na Dubrovnik i njegovu bližu i širu okolicu. Svoje emocionalno opterećenje\, mučni pritisak sramote i neizvjesnosti prouzročen činjenicom da mu je i vlastiti otac sudjelovao u vojnom napadu\, okupaciji i zločinima izvršenim od strane okupatora na teritoriju Republike Hrvatske\, autor Mihailo Radojičić iskazao je romanom neobičnog i kontroverznog naslova Smrt je uvijek u modi. U tom romanu koji ima obilježja postmodernizma autor je otkrio svu bešćutnost ljudske prirode\, njezinu surovost i prevrtljivost. Snaga autorove pisane riječi ispunjena je etičkim odnosom prema životu\, pa se ona istodobno doživljava kao osuda agresije i kao povijesno sudište zločinima koje su agresori počinili u ime svojih mračnih ideala i pod dvoličnim geslima koja su im služila kao lažno opravdanje. Ispunjen mračnim slikama\, tjeskobom i barbarstvom roman je istovremeno protkan istančanom i produhovljenom satirom koja doprinosi tome da se iskustvo života doživljava u ovom romanu u svojoj emocionalnoj punini. *** \nO ovoj knjizi će govoriti Nj. E. Veselko Grubišić\, veleposlanik Republike Hrvatske u Crnoj Gori\, akademik Sreten Vujović\, prof. dr. sc. Slavica Stojan i autor knjige Mihailo Radojičić Shok.\nPredstavljanje knjige održat će se u četvrtak\, 16. ožujka 2023. godine\, u 19 sati – Dvorana Ivana Pavla II.\, Dubrovnik.
URL:https://kalendar.dubrovnik.hr/event/predstavljanje-knjige-smrt-je-uvijek-u-modi-autora-mihaila-radojicica-shoka/
LOCATION:Dvorana Ivana Pavla II\, Dubrovnik\, Croatia (Local Name: Hrvatska)
CATEGORIES:Čitateljski klub,KULTURA,Predstavljanje knjige
ATTACH;FMTTYPE=image/png:https://kalendar.dubrovnik.hr/wp-content/uploads/2023/03/i-2.png
GEO:42.6414178;18.1070562
END:VEVENT
BEGIN:VEVENT
DTSTART;TZID=Europe/Zagreb:20231002T190000
DTEND;TZID=Europe/Zagreb:20231003T200000
DTSTAMP:20260420T230832
CREATED:20230926T081722Z
LAST-MODIFIED:20230926T082247Z
UID:10003187-1696273200-1696363200@kalendar.dubrovnik.hr
SUMMARY:IMA LI ZNANOST GRANICE? Predavanje: Petar Tomev Mitrikeski
DESCRIPTION:Ima li znanost granice? Ogranak Matice hrvatske u Dubrovniku poziva sve zainteresirane na predavanja koje će u ponedjeljak (2.)  i utorak (3. listopada 2023.) održati dr. sc. Petar Tomev Mitrikeski.  \nPrvo predavanje (ponedjeljak\, 2. listopada) održat će s naslovnom temom Onesposobljavanje gena (tehnologija rekombinantne DNA). Sve informacije potrebne za ustroj i funkcioniranje stanice uskladištene su u njenoj nasljednoj tvari tj. molekuli DNA. Iz toga proizlazi jedinstvena spoznaja da kontroliranom promjenom zapisa u DNA možemo utjecati na značajke stanice. To čovječanstvu daje mogućnosti preustroja života. Predavanje nastoji na popularan način pojasniti temeljne postavke tehnologije rekombinantne DNA (tj. genetičkog inženjerstva)\, a namijenjeno je općoj javnosti koja se zanima za učene teme.  \nSmisao života (utorak\, 3. listopada) naslov je predavanja koje će na zabavan način nastojati potaknuti na dublje promišljanje o zbilji koja nas okružuje. Tri su temeljna učena pitanja: Što? – Kako? – Zašto? Prvo je deskriptivno (tiče se razvrstavanja)\, drugo kvantitativno (tiče se mehanizma)\, a treće bitno tj. suštinsko (tiče se smisla). Znanost je uobičajeno vrlo uspješna u odgovaranju na prva dva pitanja\, ali ostaje nemoćna kod trećeg na kojeg je isključivo usmjerena filozofija\, nudeći različite odgovore. Zanimljivo\, premda se ne zanima primarno za niti jedno od ta tri pitanja\, teologija je uvjerena da zna odgovor na treće tj. najteže pitanje. \n*Predavanja će se održati u dvorani Ivana Pavla II.\, Poljana Paska Miličevića 4. \n***\nPetar Tomev Mitrikeski rođen je 1969. godine u Prilepu u Prespansko-pelagonijskoj biskupiji u Makedoniji u kršćanskoj obitelji makedonskih Bugara duže građanske tradicije. Diplomirao\, magistrirao i doktorirao je na Prirodoslovno-matematičkom fakultetu Sveučilišta u Zagrebu iz područja molekularne genetike pod mentorstvom pokojnog prof. dr. sc. Zoran Zgaga (1956.-2011.). Djelatnik je Fakulteta filozofije i religijskih znanosti Sveučilišta u Zagrebu te vanjski suradnik Filozofskog fakulteta Sveučilišta u Zagrebu gdje predaje genetiku (Odsjek za etnologiju i kulturnu antropologiju & Odsjek za psihologiju). Dugogodišnji je suradnik Instituta Ruđer Bošković (Zavod za molekularnu biologiju\, Laboratorij za evolucijsku genetiku\, istraživačka grupa dr. sc. Krunoslava Brčić-Kostića). Područja njegovog znanstvenog interesa su Genetika (molekularna genetika jednostaničnih organizama – rekombinacija i popravak DNA\, genetička transformacija\, populacijska genetika/genomika i kvantitativna genetika)\, Povijest i filozofija biologije te Odnos znanosti i kršćanstva.
URL:https://kalendar.dubrovnik.hr/event/ima-li-znanost-granice-predavanje-petar-tomev-mitrikeski/2023-10-02/
LOCATION:Dvorana Ivana Pavla II\, Dubrovnik\, Croatia (Local Name: Hrvatska)
CATEGORIES:Edukativna,KULTURA,Predavanja
ATTACH;FMTTYPE=image/png:https://kalendar.dubrovnik.hr/wp-content/uploads/2023/09/Plakat-za-tisak.png
ORGANIZER;CN="Ogranak%20Matice%20hrvatske%20u%20Dubrovniku":MAILTO:mhdubrovnik@optinet.hr
GEO:42.6414178;18.1070562
END:VEVENT
BEGIN:VEVENT
DTSTART;TZID=Europe/Zagreb:20231003T190000
DTEND;TZID=Europe/Zagreb:20231003T200000
DTSTAMP:20260420T230832
CREATED:20230926T081722Z
LAST-MODIFIED:20230926T082247Z
UID:10003188-1696359600-1696363200@kalendar.dubrovnik.hr
SUMMARY:IMA LI ZNANOST GRANICE? Predavanje: Petar Tomev Mitrikeski
DESCRIPTION:Ima li znanost granice? Ogranak Matice hrvatske u Dubrovniku poziva sve zainteresirane na predavanja koje će u ponedjeljak (2.)  i utorak (3. listopada 2023.) održati dr. sc. Petar Tomev Mitrikeski.  \nPrvo predavanje (ponedjeljak\, 2. listopada) održat će s naslovnom temom Onesposobljavanje gena (tehnologija rekombinantne DNA). Sve informacije potrebne za ustroj i funkcioniranje stanice uskladištene su u njenoj nasljednoj tvari tj. molekuli DNA. Iz toga proizlazi jedinstvena spoznaja da kontroliranom promjenom zapisa u DNA možemo utjecati na značajke stanice. To čovječanstvu daje mogućnosti preustroja života. Predavanje nastoji na popularan način pojasniti temeljne postavke tehnologije rekombinantne DNA (tj. genetičkog inženjerstva)\, a namijenjeno je općoj javnosti koja se zanima za učene teme.  \nSmisao života (utorak\, 3. listopada) naslov je predavanja koje će na zabavan način nastojati potaknuti na dublje promišljanje o zbilji koja nas okružuje. Tri su temeljna učena pitanja: Što? – Kako? – Zašto? Prvo je deskriptivno (tiče se razvrstavanja)\, drugo kvantitativno (tiče se mehanizma)\, a treće bitno tj. suštinsko (tiče se smisla). Znanost je uobičajeno vrlo uspješna u odgovaranju na prva dva pitanja\, ali ostaje nemoćna kod trećeg na kojeg je isključivo usmjerena filozofija\, nudeći različite odgovore. Zanimljivo\, premda se ne zanima primarno za niti jedno od ta tri pitanja\, teologija je uvjerena da zna odgovor na treće tj. najteže pitanje. \n*Predavanja će se održati u dvorani Ivana Pavla II.\, Poljana Paska Miličevića 4. \n***\nPetar Tomev Mitrikeski rođen je 1969. godine u Prilepu u Prespansko-pelagonijskoj biskupiji u Makedoniji u kršćanskoj obitelji makedonskih Bugara duže građanske tradicije. Diplomirao\, magistrirao i doktorirao je na Prirodoslovno-matematičkom fakultetu Sveučilišta u Zagrebu iz područja molekularne genetike pod mentorstvom pokojnog prof. dr. sc. Zoran Zgaga (1956.-2011.). Djelatnik je Fakulteta filozofije i religijskih znanosti Sveučilišta u Zagrebu te vanjski suradnik Filozofskog fakulteta Sveučilišta u Zagrebu gdje predaje genetiku (Odsjek za etnologiju i kulturnu antropologiju & Odsjek za psihologiju). Dugogodišnji je suradnik Instituta Ruđer Bošković (Zavod za molekularnu biologiju\, Laboratorij za evolucijsku genetiku\, istraživačka grupa dr. sc. Krunoslava Brčić-Kostića). Područja njegovog znanstvenog interesa su Genetika (molekularna genetika jednostaničnih organizama – rekombinacija i popravak DNA\, genetička transformacija\, populacijska genetika/genomika i kvantitativna genetika)\, Povijest i filozofija biologije te Odnos znanosti i kršćanstva.
URL:https://kalendar.dubrovnik.hr/event/ima-li-znanost-granice-predavanje-petar-tomev-mitrikeski/2023-10-03/
LOCATION:Dvorana Ivana Pavla II\, Dubrovnik\, Croatia (Local Name: Hrvatska)
CATEGORIES:Edukativna,KULTURA,Predavanja
ATTACH;FMTTYPE=image/png:https://kalendar.dubrovnik.hr/wp-content/uploads/2023/09/Plakat-za-tisak.png
ORGANIZER;CN="Ogranak%20Matice%20hrvatske%20u%20Dubrovniku":MAILTO:mhdubrovnik@optinet.hr
GEO:42.6414178;18.1070562
END:VEVENT
BEGIN:VEVENT
DTSTART;TZID=Europe/Zagreb:20250202T163000
DTEND;TZID=Europe/Zagreb:20250202T173000
DTSTAMP:20260420T230832
CREATED:20250123T124527Z
LAST-MODIFIED:20250123T124528Z
UID:10006048-1738513800-1738517400@kalendar.dubrovnik.hr
SUMMARY:"Mreža ljubavi"\, predstavljanje zbrike pjesama Miha Katičića
DESCRIPTION:Izdavač zbirke je Društvo dubrovačkih pisaca\, a predstavit će je Boris Njavro i Pavo Jančić. Nastupit će Zbor Male braće.
URL:https://kalendar.dubrovnik.hr/event/mreza-ljubavi-predstavljanje-zbrike-pjesama-miha-katicica/
LOCATION:Dvorana Ivana Pavla II\, Dubrovnik\, Croatia (Local Name: Hrvatska)
CATEGORIES:Predstavljanje knjige
ATTACH;FMTTYPE=image/jpeg:https://kalendar.dubrovnik.hr/wp-content/uploads/2025/01/MK-MREZA-LJUBAVI-OMOT-page-001.jpg
ORGANIZER;CN="Dru%C5%A1tvo%20dubrova%C4%8Dkih%20pisaca":MAILTO:boris.njavro@du.t-com.hr
GEO:42.6414178;18.1070562
END:VEVENT
BEGIN:VEVENT
DTSTART;VALUE=DATE:20260116
DTEND;VALUE=DATE:20260119
DTSTAMP:20260420T230832
CREATED:20260112T103607Z
LAST-MODIFIED:20260112T103607Z
UID:10008818-1768521600-1768780799@kalendar.dubrovnik.hr
SUMMARY:Tečaj ikonopisanja
DESCRIPTION:Tečaj ikonopisanja u Dubrovniku održat će se od petka 16. do nedjelje 18. siječnja 2026. uz stručno vodstvo Hrvatske udruge ikonopisaca „Josip Ružić”. Organizator tečaja je Vijeće za kulturu i znanost Dubrovačke biskupije.\n\nSvi koji žele sudjelovati i naučiti kako pisati ikonu trebaju se prijaviti putem e-maila: tecajikonopisanja@gmail.com
URL:https://kalendar.dubrovnik.hr/event/tecaj-ikonopisanja/
LOCATION:Dvorana Ivana Pavla II\, Dubrovnik\, Croatia (Local Name: Hrvatska)
CATEGORIES:Edukativna,Radionice
ATTACH;FMTTYPE=image/jpeg:https://kalendar.dubrovnik.hr/wp-content/uploads/2026/01/1000082658.jpg
GEO:42.6414178;18.1070562
END:VEVENT
END:VCALENDAR