BEGIN:VCALENDAR
VERSION:2.0
PRODID:-//Kalendar događanja Dubrovnika - ECPv6.1.1//NONSGML v1.0//EN
CALSCALE:GREGORIAN
METHOD:PUBLISH
X-ORIGINAL-URL:https://kalendar.dubrovnik.hr
X-WR-CALDESC:Događanja za Kalendar događanja Dubrovnika
REFRESH-INTERVAL;VALUE=DURATION:PT1H
X-Robots-Tag:noindex
X-PUBLISHED-TTL:PT1H
BEGIN:VTIMEZONE
TZID:Europe/Zagreb
BEGIN:DAYLIGHT
TZOFFSETFROM:+0100
TZOFFSETTO:+0200
TZNAME:CEST
DTSTART:20220327T010000
END:DAYLIGHT
BEGIN:STANDARD
TZOFFSETFROM:+0200
TZOFFSETTO:+0100
TZNAME:CET
DTSTART:20221030T010000
END:STANDARD
BEGIN:DAYLIGHT
TZOFFSETFROM:+0100
TZOFFSETTO:+0200
TZNAME:CEST
DTSTART:20230326T010000
END:DAYLIGHT
BEGIN:STANDARD
TZOFFSETFROM:+0200
TZOFFSETTO:+0100
TZNAME:CET
DTSTART:20231029T010000
END:STANDARD
BEGIN:DAYLIGHT
TZOFFSETFROM:+0100
TZOFFSETTO:+0200
TZNAME:CEST
DTSTART:20240331T010000
END:DAYLIGHT
BEGIN:STANDARD
TZOFFSETFROM:+0200
TZOFFSETTO:+0100
TZNAME:CET
DTSTART:20241027T010000
END:STANDARD
BEGIN:DAYLIGHT
TZOFFSETFROM:+0100
TZOFFSETTO:+0200
TZNAME:CEST
DTSTART:20250330T010000
END:DAYLIGHT
BEGIN:STANDARD
TZOFFSETFROM:+0200
TZOFFSETTO:+0100
TZNAME:CET
DTSTART:20251026T010000
END:STANDARD
BEGIN:DAYLIGHT
TZOFFSETFROM:+0100
TZOFFSETTO:+0200
TZNAME:CEST
DTSTART:20260329T010000
END:DAYLIGHT
BEGIN:STANDARD
TZOFFSETFROM:+0200
TZOFFSETTO:+0100
TZNAME:CET
DTSTART:20261025T010000
END:STANDARD
TZID:Europe/Paris
BEGIN:DAYLIGHT
TZOFFSETFROM:+0100
TZOFFSETTO:+0200
TZNAME:CEST
DTSTART:20220327T010000
END:DAYLIGHT
BEGIN:STANDARD
TZOFFSETFROM:+0200
TZOFFSETTO:+0100
TZNAME:CET
DTSTART:20221030T010000
END:STANDARD
END:VTIMEZONE
BEGIN:VEVENT
DTSTART;TZID=Europe/Zagreb:20230518T203000
DTEND;TZID=Europe/Zagreb:20230518T220000
DTSTAMP:20260420T213327
CREATED:20230509T100604Z
LAST-MODIFIED:20230511T113139Z
UID:10001230-1684441800-1684447200@kalendar.dubrovnik.hr
SUMMARY:Predstavljanje pjesničko-grafičke mape „Hommage Tonku Maroeviću“
DESCRIPTION:Predstavljanje pjesničko-grafičke mape Hommage Tonku Maroeviću održat će se u četvrtak\, 18. svibnja u 20 sati u Galeriji Dulčić Masle Pulitika. \nMapu čine grafički listovi 33 hrvatska likovna umjetnika koji su kroz različite grafičke tehnike ispričali svoj doživljaj prerano umrlog akademika. Stihove u mapi napisao je bard hrvatske književnosti akademik Luko Paljetak. Ovo bibliofilsko izdanje umjetnički je oproštaj od velikog Tonka\, ali i pokušaj da se njegov lik\, stihom i grafikom\, na osobit način sačuva u hrvatskoj kulturi.
URL:https://kalendar.dubrovnik.hr/event/predstavljanje-pjesnicko-graficke-mape-hommage-tonku-maroevicu/
LOCATION:Galerija Dulčić Masle Pulitika\, Držićeva poljana 1\, DUBROVNIK\, Dubrovačko - neretvanska županija\, 20000\, Croatia (Local Name: Hrvatska)
CATEGORIES:KULTURA,Predstavljanje knjige
ORGANIZER;CN="Umjetni%C4%8Dka%20galerija%20Dubrovnik":MAILTO:info@momad.hr
GEO:42.6399206;18.1105435
X-APPLE-STRUCTURED-LOCATION;VALUE=URI;X-ADDRESS=Galerija Dulčić Masle Pulitika Držićeva poljana 1 DUBROVNIK Dubrovačko - neretvanska županija 20000 Croatia (Local Name: Hrvatska);X-APPLE-RADIUS=500;X-TITLE=Držićeva poljana 1:geo:18.1105435,42.6399206
END:VEVENT
BEGIN:VEVENT
DTSTART;TZID=Europe/Zagreb:20230708T200000
DTEND;TZID=Europe/Zagreb:20230708T230000
DTSTAMP:20260420T213327
CREATED:20230628T083003Z
LAST-MODIFIED:20230628T083003Z
UID:10002496-1688846400-1688857200@kalendar.dubrovnik.hr
SUMMARY:Dubrovnik u znaku Katalonije – nastup senzacionalnih „ljudskih tornjeva“ i svjetski poznata izložba fotografija
DESCRIPTION:Ovog ljeta Dubrovnik će biti prožet katalonskom kulturom i tradicijom. Brojni katalonski i lokalni partneri udružili su se kako bi omogućili prvo regionalno gostovanje spektakularnih „castellersa“. Više od 200 Katalonaca is skupine Minyons de Terrassa nastupati će na otvorenom stvarajući tornjeve od ljudskih tijela koje je UNESCO proglasio nematrijalnom svjetskom kulturnom baštinom.\n„Ljudski tornjevi“ kolektivna su vještina koja se prakticira na javnim mjestima u izvedbi osoba okupljenih u organizaciju „Colla castellera“. „Colla castellera“ predstavlja prostor solidarnosti\, društvene kohezije i integracije. Minyons de Terrassa grupa je sastavljena od više stotina članova svih dobi\, dječaka\, žena\, djevojčica\, muškaraca – ujedinjenih zajedničkim ciljem stvaranja tornjeva.\nMotivi gostovanje\, osim promocije katalonske tradicionalne kulture i vrijednosti\, su brojni. S Dubrovnikom Kataloniju vežu institucionalni projekti na najvišem nivou kao što su zajednička strategija na razvoju mediteranske makroregije i projekti održivog turizma. Turneja\, koje će se nakon Hrvatske preseliti u Sarajevo\, započinje upravo u Dubrovniku\, povijesnom emblemu slobode i kulture\, a danas svjetskom turističkom središtu. U ozračju 74. Dubrovačkih ljetnih igara i Diplomatskog foruma na kojem se okuplja svjetska politička elita\, Minyons de Terrassa nastupiti će nadomak senzacionalnih zidina\, 8. srpnja\, u 20:00 sati\, u staroj luci (Ul. kneza Damjana Jude 2). Nastup je otvoren za javnost i besplatan.\nIstoga dana\, 8. srpnja\, u 21:30 sati\, u Galeriji Dulčić Masle Pulitika (Poljana Marina Držića 1) predstavit će se izložba fotografija “Katalonija iz zraka”. Izložbu će otvoriti zamjenica gradonačelnika\, Jelka Tepšić\, kustosica Umjetničke galerije Dubrovnik Jelena Tamindžija Donnart i delegat Vlade Katalonije u jugoistočnoj Europi\, Eric Hauck. Radovi poznatog francuskog fotografa Yanna Arthus-Bertranda koji su obišli svijet prikazuju najljepše katalonske prirodne i arhitektonske atrakcije. Autor predstavlja svoju viziju vrlo specifičnog prostora Katalonije. Pritom je rabio različita mjerila\, od prostranih krajolika do arhitektonskih bisera. Izložba će biti otvorena do 20. kolovoza 2023.\nNastup i izložba realizirani su uz pomoć: Grad Dubrovnik\, Turistička zajednica Grada Dubrovnika\, Dubrovačko-neretvanska županija.
URL:https://kalendar.dubrovnik.hr/event/dubrovnik-u-znaku-katalonije-nastup-senzacionalnih-ljudskih-tornjeva-i-svjetski-poznata-izlozba-fotografija/
LOCATION:Galerija Dulčić Masle Pulitika\, Držićeva poljana 1\, DUBROVNIK\, Dubrovačko - neretvanska županija\, 20000\, Croatia (Local Name: Hrvatska)
CATEGORIES:Izložbe,KULTURA,Ostala glazbeno-scenska
ATTACH;FMTTYPE=image/jpeg:https://kalendar.dubrovnik.hr/wp-content/uploads/2023/06/Minyons-de-Terrassa.jpg
ORGANIZER;CN="Umjetni%C4%8Dka%20galerija%20Dubrovnik":MAILTO:info@momad.hr
GEO:42.6399206;18.1105435
X-APPLE-STRUCTURED-LOCATION;VALUE=URI;X-ADDRESS=Galerija Dulčić Masle Pulitika Držićeva poljana 1 DUBROVNIK Dubrovačko - neretvanska županija 20000 Croatia (Local Name: Hrvatska);X-APPLE-RADIUS=500;X-TITLE=Držićeva poljana 1:geo:18.1105435,42.6399206
END:VEVENT
BEGIN:VEVENT
DTSTART;TZID=Europe/Zagreb:20241003T190000
DTEND;TZID=Europe/Zagreb:20241003T200000
DTSTAMP:20260420T213327
CREATED:20240923T075157Z
LAST-MODIFIED:20240923T075157Z
UID:10005315-1727982000-1727985600@kalendar.dubrovnik.hr
SUMMARY:Izložba dječjih radova s ciklusa radionica 7 DANA MEDITERANA
DESCRIPTION:Uz aktualnu izložbu „Mediteran u hrvatskom slikarstvu 20. i 21. stoljeća“ koja je nastala u suradnji Dubrovačkih ljetnih igara i Umjetničke galerije Dubrovnik\, Umjetnička galerija Dubrovnik organizirala je program likovnih radionica za djecu. Program je trajao od ponedjeljka\, 19. kolovoza do petka\, 23. kolovoza 2024. u terminu od 10 do 12 sati\, a radionice je vodila Ivona Šimunović\, kustos pedagog Umjetničke galerije Dubrovnik. Maleni kreativci su uz stručno vodstvo kustosice izložbe\, Ivone Šimunović pogledli izložbu te potom izrađivali mala umjetnička djela prema uzoru na viđeno. \nU Galeriji Dulčić Masle Pulitika u četvrtak\, 3. listopada u 19 sati bit će organizirana i izložba odabranih radova svih polaznika.
URL:https://kalendar.dubrovnik.hr/event/izlozba-djecjih-radova-s-ciklusa-radionica-7-dana-mediterana/
LOCATION:Galerija Dulčić Masle Pulitika\, Držićeva poljana 1\, DUBROVNIK\, Dubrovačko - neretvanska županija\, 20000\, Croatia (Local Name: Hrvatska)
CATEGORIES:Izložbe,KULTURA
ATTACH;FMTTYPE=image/jpeg:https://kalendar.dubrovnik.hr/wp-content/uploads/2024/09/izbor-13-scaled.jpg
ORGANIZER;CN="Umjetni%C4%8Dka%20galerija%20Dubrovnik":MAILTO:info@momad.hr
GEO:42.6399206;18.1105435
X-APPLE-STRUCTURED-LOCATION;VALUE=URI;X-ADDRESS=Galerija Dulčić Masle Pulitika Držićeva poljana 1 DUBROVNIK Dubrovačko - neretvanska županija 20000 Croatia (Local Name: Hrvatska);X-APPLE-RADIUS=500;X-TITLE=Držićeva poljana 1:geo:18.1105435,42.6399206
END:VEVENT
BEGIN:VEVENT
DTSTART;TZID=Europe/Zagreb:20241023T203000
DTEND;TZID=Europe/Zagreb:20241023T213000
DTSTAMP:20260420T213327
CREATED:20241011T092417Z
LAST-MODIFIED:20241011T101934Z
UID:10005347-1729715400-1729719000@kalendar.dubrovnik.hr
SUMMARY:IZLOŽBA LUKŠE PEKA „53- PEDESETTROJICA“
DESCRIPTION:IZLOŽBA LUKŠE PEKA „53- PEDESETTROJICA“\nMjesto održavanja: Galerija Dulčić Masle Pulitika\nOrganizacija: Umjetnička galerija Dubrovnik\nVrijeme održavanja: 23.10.2024. u 20:30 sati\nVrijeme trajanja: 23.10. – 24.11.2024. \nDetalji:\nAkademski slikar Lukša Peko rođen je 24. travnja 1941. godine u Dubrovniku. Osnovnu i srednju školu završio je u rodnom gradu. Akademiju likovnih umjetnosti upisao je 1961. godine\, te diplomirao 1965. godine u klasi O. Postružnika i D. Tiljka. Postdiplomski studij na grafičkoj specijalki ALU Zagreb dovršio je nakon studija 1966.-1968. godine u klasi Marijana Detonija. Živi i radi u Dubrovniku.\nGrafička mapa “53- PEDESETTROJICA” u nakladi od 16 primjeraka sadržava ukupno 38 listova papira formata 48×38 cm od čega su 32 lista grafike u tehnici suha igla* 6 listova su tekstovi: naslovni list\, 1 list – umjesto predgovora – Milan Milišić – pjesma Stihovi za pomirenje’\, 2 lista su pogovor Marina Ivanovića\, te na 1 listu biografija Lukše Peka i impresumom s ostalim tehničkim podacima.\nPapir na kojem su otisnute grafike je Fabriano “Tiepolo” 280 gr/ m². Grafike ‘suha igla’ su na cinčanim pločama vel. 40×30 cm. Boja na grafikama je “gris de payne” robne marke Charbonel. Sve grafike je ručno otisnuo sam autor u svom atelieru\, a svaka grafika je otisnuta u 16 primjeraka s oznakom 1-16. Papir na kojem su tiskani tekstovi je Fabriano 5 300 gr/m² Tisak je izveo Nik Trade d.o.o. iz Dubrovnika. Ovitak od ljepenke i knjigovežačkog platna napravila je tiskara ALFA – 2 iz Dubrovnika.
URL:https://kalendar.dubrovnik.hr/event/izlozba-lukse-peka-53-pedesettrojica/
LOCATION:Galerija Dulčić Masle Pulitika\, Držićeva poljana 1\, DUBROVNIK\, Dubrovačko - neretvanska županija\, 20000\, Croatia (Local Name: Hrvatska)
CATEGORIES:Izložbe,KULTURA
ORGANIZER;CN="Umjetni%C4%8Dka%20galerija%20Dubrovnik":MAILTO:info@momad.hr
GEO:42.6399206;18.1105435
X-APPLE-STRUCTURED-LOCATION;VALUE=URI;X-ADDRESS=Galerija Dulčić Masle Pulitika Držićeva poljana 1 DUBROVNIK Dubrovačko - neretvanska županija 20000 Croatia (Local Name: Hrvatska);X-APPLE-RADIUS=500;X-TITLE=Držićeva poljana 1:geo:18.1105435,42.6399206
END:VEVENT
BEGIN:VEVENT
DTSTART;TZID=Europe/Zagreb:20250904T200000
DTEND;TZID=Europe/Zagreb:20250904T220000
DTSTAMP:20260420T213327
CREATED:20250819T113553Z
LAST-MODIFIED:20250819T113553Z
UID:10008160-1757016000-1757023200@kalendar.dubrovnik.hr
SUMMARY:MIHAELA RAŠICA: NEBO NAD DUBROVNIKOM
DESCRIPTION:U novoj seriji radova ulja na platnu\, Mihaela Rašica čini hodačašća gradom svojeg djetinjstva. Slike koje vizualnim kodom podsjećaju na starinsku razglednicu ili poštansku marku s motivima iz  Dubrovnika\, slike su njenog sjećanja na Dubrovnik kakav je bio prije. S obzirom da se njen rodni grad drastično mijenja i postaje destinacija više nego grad\, dok ona većinu godine provede u Zagrebu\, sve joj više postaje daleko lice s razglednice – a ona njemu turisti\, više nego građanin. Takva dinamika čini ove razglednice njenog djetinjstva gorko-slatkim\, vizualni su to kodovi kojima dešifrira sve što vidi u svijetu\, njen je pogled na svijet likovno “dubrovački” odrastajući na vizurama koje se preklapaju jedna preko druge: more iznad kopna i brdo iznad mora. \nKustosica izložbe je Jelena Tamindžija Donnart.
URL:https://kalendar.dubrovnik.hr/event/mihaela-rasica-nebo-nad-dubrovnikom/
LOCATION:Galerija Dulčić Masle Pulitika\, Držićeva poljana 1\, DUBROVNIK\, Dubrovačko - neretvanska županija\, 20000\, Croatia (Local Name: Hrvatska)
CATEGORIES:Izložbe,KULTURA
ATTACH;FMTTYPE=image/jpeg:https://kalendar.dubrovnik.hr/wp-content/uploads/2025/08/d5a142f7-61b9-4ea6-9881-93b6ac48d2d4.jpeg
ORGANIZER;CN="Umjetni%C4%8Dka%20galerija%20Dubrovnik":MAILTO:info@momad.hr
GEO:42.6399206;18.1105435
X-APPLE-STRUCTURED-LOCATION;VALUE=URI;X-ADDRESS=Galerija Dulčić Masle Pulitika Držićeva poljana 1 DUBROVNIK Dubrovačko - neretvanska županija 20000 Croatia (Local Name: Hrvatska);X-APPLE-RADIUS=500;X-TITLE=Držićeva poljana 1:geo:18.1105435,42.6399206
END:VEVENT
BEGIN:VEVENT
DTSTART;TZID=Europe/Zagreb:20250512T200000
DTEND;TZID=Europe/Zagreb:20250512T213000
DTSTAMP:20260420T213327
CREATED:20250408T082230Z
LAST-MODIFIED:20250408T082230Z
UID:10007203-1747080000-1747085400@kalendar.dubrovnik.hr
SUMMARY:SJEĆANJE NA LUKA (povodom godišnjice smrti)
DESCRIPTION:U Galeriji Dulčić Masle Pulitika održat će se prigodni program u povodu godišnjice smrti hrvatskog književnika\, prevoditelja i akademika Luka Paljetka\, pod nazivom SJEĆANJE NA LUKA. Uvodnu riječ će imati ravnatelj Umjetničke galerije Dubrovnik\, Tonko Smokvina\, a o Paljetkovu značaju za hrvatsku književnost će govoriti izv. prof. dr.sc. Katja Bakija\, dok će skladatelj\, šansonijer i aranžer Darko Matičević pripremiti glazbeni dio programa.
URL:https://kalendar.dubrovnik.hr/event/sjecanje-na-luka-povodom-godisnjice-smrti/
LOCATION:Galerija Dulčić Masle Pulitika\, Držićeva poljana 1\, DUBROVNIK\, Dubrovačko - neretvanska županija\, 20000\, Croatia (Local Name: Hrvatska)
CATEGORIES:KULTURA,Ostala glazbeno-scenska
ORGANIZER;CN="Umjetni%C4%8Dka%20galerija%20Dubrovnik":MAILTO:info@momad.hr
GEO:42.6399206;18.1105435
X-APPLE-STRUCTURED-LOCATION;VALUE=URI;X-ADDRESS=Galerija Dulčić Masle Pulitika Držićeva poljana 1 DUBROVNIK Dubrovačko - neretvanska županija 20000 Croatia (Local Name: Hrvatska);X-APPLE-RADIUS=500;X-TITLE=Držićeva poljana 1:geo:18.1105435,42.6399206
END:VEVENT
BEGIN:VEVENT
DTSTART;TZID=Europe/Zagreb:20260217T180000
DTEND;TZID=Europe/Zagreb:20260217T200000
DTSTAMP:20260420T213327
CREATED:20260114T142534Z
LAST-MODIFIED:20260114T142534Z
UID:10008826-1771351200-1771358400@kalendar.dubrovnik.hr
SUMMARY:Predavanje Dubravke Osrečki-Jakelić o Mladenu Tudoru
DESCRIPTION:Vrijeme održavanja: utorak\, 17. veljače 2026.\, 18 sati \nMjesto održavanja: Galerija Dulčić Masle Pulitika \nDubravka Osrečki-Jakelić\, zaslužna muzealka i dugogodišnja voditeljica Zbirke novije fotografije Muzeja za umjetnost i obrt iz Zagreba govorit će o iznimnoj ulozi Mladena Tudora u povijesti hrvatske fotografije\, o specifičnostima njegovog pristupa fotografiji\, ali i vezama i utjecajima Magnumovih fotografa i filmova talijanskog neoralizma. \n„..Uz nezaobilaznoga Henrija Cartiera Bressona\, dominatnu autorsku osobnost Magnuma\, na oblikovanje Tudorovog fotografskog izraza snažan utjecaj imat će i filmovi  talijanskog neorealizma. Pedesetih godina u kultnim filmovima „Kradljivci bicikla“ V. De Sice\, „Ulici“  F. Fellinija i „Čistačima cipela“ R. Rosselinija\, ukazano je na surovost života u poratnom društvu. Dokumentiranje društvene i povijesne stvarnosti\, kroz svakodnevicu i sudbine anonimnih aktera\,  te naglašeno likovno artikuliranje prostora filmske odnosno fotografske slike\, zajednički je nazivnik neorealizma i onovremenog fotožuralizma jasno prepoznatljiv i u fotografijama Mladena Tudora…“ (D.O.J.)
URL:https://kalendar.dubrovnik.hr/event/predavanje-dubravke-osrecki-jakelic-o-mladenu-tudoru/
LOCATION:Galerija Dulčić Masle Pulitika\, Držićeva poljana 1\, DUBROVNIK\, Dubrovačko - neretvanska županija\, 20000\, Croatia (Local Name: Hrvatska)
CATEGORIES:KULTURA
ATTACH;FMTTYPE=image/jpeg:https://kalendar.dubrovnik.hr/wp-content/uploads/2026/01/01-Mladen-Tudor-Rogoznica-1977-scaled.jpg
ORGANIZER;CN="Umjetni%C4%8Dka%20galerija%20Dubrovnik":MAILTO:info@momad.hr
GEO:42.6399206;18.1105435
X-APPLE-STRUCTURED-LOCATION;VALUE=URI;X-ADDRESS=Galerija Dulčić Masle Pulitika Držićeva poljana 1 DUBROVNIK Dubrovačko - neretvanska županija 20000 Croatia (Local Name: Hrvatska);X-APPLE-RADIUS=500;X-TITLE=Držićeva poljana 1:geo:18.1105435,42.6399206
END:VEVENT
BEGIN:VEVENT
DTSTART;TZID=Europe/Paris:20220901T200000
DTEND;TZID=Europe/Paris:20221016T200000
DTSTAMP:20260420T213327
CREATED:20220811T103240Z
LAST-MODIFIED:20220905T055050Z
UID:10000422-1662062400-1665950400@kalendar.dubrovnik.hr
SUMMARY:IZLOŽBA NIKA ANČIĆA
DESCRIPTION:Autor izložbe\, povjesničar umjetnosti i likovni kritičar Stanko Špoljarić za Ančićev rad u izložbenom katalogu između ostaloga napominje: „Niko Ančić nikada se nije rastajao od svoje vjernosti boji videći u njoj i sadržaj\, energiju\, blistavost\, strujanje u dodiru svijeta\, a sam krajolik shvaća i kao savršenstvo stvorenog kojem se nema niti što dodati niti oduzeti\, ali i kao potku koja umjetničkim viđenjem biva utkana u nemjerljivost duhovnog\, a ljepota je nositelj smisla\, upisana u ideje o krajoliku. Niko Ančić nije opterećen stilskim klasificiranjem\, ali možemo spomenuti da u suptilnoj varijanti „pitomijeg“ kolorizma participira i opća načela impresionističke stilistike\, a u žestini slikarskog čina s adekvatnom „potporom“ boje naboj ekspresionističke energije. Ančić je svojim opusom\, kvalitetnim ostvarenjima osvojio vidno mjesto u hrvatskom modernom i suvremenom slikarstvu\, rehabilitiravši stvaranjem krajolik i teme iz njega proizašle\, istinskom umjetničkom uvjerljivošću.“\nIzložba ostaje otvorena do nedjelje\, 16. listopada 2022. \nBIOGRAFIJA: \nNiko Ančić rođen je 1948. godine u Trpnju na Pelješcu. Školovao se u Splitu i Zagrebu. Svoje likovno obrazovanje upotpunjuje na studijskim boravcima u Italiji\, Njemačkoj\, Francuskoj i Španjolskoj. Preko 60 samostalnih izložbi u Zagrebu\, Berlinu\, Pragu\, Milanu\, Heidelbergu\, Bruhlu\, Frankfurtu\, Hamburgu\, Vechti (Bremenu) i brojnim hrvatskim gradovima. Sudjelovao na oko 150 grupnih izložbi u Hrvatskoj i inozemstvu; New Yorku\, Munchenu\, Pragu\, Heidelbergu\, Zagrebu\, Dubrovniku\, Ljubljani\, Palma de Mallorci itd. Surađuje s aukcijskom kućom “HENRY” u Mutterstadtu (Njemačka)\, “BWU – Burener Wirtschafts und Unternehmensberatungsgesellschaft m.b.h.” u Bremenu (Njemačka). Radovi Nika Ančića mogu se pronaći u brojnim galerijama\, muzejima i privatnim kolekcijama diljem svijeta. Živi u Zaprešiću i Santa Maria na Mallorci. Član je HDLU-a i ULSZ.
URL:https://kalendar.dubrovnik.hr/event/izlozba-nika-ancica/
LOCATION:Galerija Dulčić Masle Pulitika\, Držićeva poljana 1\, DUBROVNIK\, Dubrovačko - neretvanska županija\, 20000\, Croatia (Local Name: Hrvatska)
CATEGORIES:Izložbe,KULTURA
ATTACH;FMTTYPE=image/jpeg:https://kalendar.dubrovnik.hr/wp-content/uploads/2022/08/Prica-o-njemu-akrilik-na-platnu-2020.jpg
ORGANIZER;CN="Umjetni%C4%8Dka%20galerija%20Dubrovnik":MAILTO:info@momad.hr
GEO:42.6399206;18.1105435
X-APPLE-STRUCTURED-LOCATION;VALUE=URI;X-ADDRESS=Galerija Dulčić Masle Pulitika Držićeva poljana 1 DUBROVNIK Dubrovačko - neretvanska županija 20000 Croatia (Local Name: Hrvatska);X-APPLE-RADIUS=500;X-TITLE=Držićeva poljana 1:geo:18.1105435,42.6399206
END:VEVENT
BEGIN:VEVENT
DTSTART;TZID=Europe/Zagreb:20221112T180000
DTEND;TZID=Europe/Zagreb:20221126T200000
DTSTAMP:20260420T213327
CREATED:20221111T104649Z
LAST-MODIFIED:20221111T104649Z
UID:10001729-1668276000-1669492800@kalendar.dubrovnik.hr
SUMMARY:OD SUBOTE DO SUBOTE - završna izložba dječjih radova
DESCRIPTION:Završna izložba dječjih radova pod nazivom „Od subote do subote“ bit će otvorena u Galeriji Dulčić Masle Pulitika u subotu\, 12. studenoga u 18 sati.\nIzložba je to svih polaznika likovnih radionica „Pulitikine subote“ koja se priprema upravo u obljetničkoj godini slikareva rođenja\, a čija je kustosica muzejska pedagoginja Umjetničke galerije Dubrovnik\, Ivona Šimunović pod čijim su se mentorstvom u Atelijeru Pulitika u protekle dvije godine i održavale radionice.\nBesplatne likovne radionice za djecu školskog uzrasta održane u pet ciklusa\, polaznicima su donijele pregršt zanimljivosti kroz rad u različitim likovnim tehnikama\, upoznavajući se sa slikarstvom i životom našeg dubrovačkog slikara Đura Pulitike. Kako nam je ova godina obljetnička godina u\, po završetku svih ciklusa likovnih radionica priredit ćemo izložbu radova „Od subote do subote“ svih polaznika likovne radionice u Galeriji Dulčić Masle Pulitika.\nIzložba ostaje otvorena do subote\, 26. studenoga 2022. godine.
URL:https://kalendar.dubrovnik.hr/event/od-subote-do-subote-zavrsna-izlozba-djecjih-radova/
LOCATION:Galerija Dulčić Masle Pulitika\, Držićeva poljana 1\, DUBROVNIK\, Dubrovačko - neretvanska županija\, 20000\, Croatia (Local Name: Hrvatska)
CATEGORIES:Izložbe,KULTURA
ATTACH;FMTTYPE=image/jpeg:https://kalendar.dubrovnik.hr/wp-content/uploads/2022/11/Odsubotedosubote-pozivnica-scaled.jpg
ORGANIZER;CN="Umjetni%C4%8Dka%20galerija%20Dubrovnik":MAILTO:info@momad.hr
GEO:42.6399206;18.1105435
X-APPLE-STRUCTURED-LOCATION;VALUE=URI;X-ADDRESS=Galerija Dulčić Masle Pulitika Držićeva poljana 1 DUBROVNIK Dubrovačko - neretvanska županija 20000 Croatia (Local Name: Hrvatska);X-APPLE-RADIUS=500;X-TITLE=Držićeva poljana 1:geo:18.1105435,42.6399206
END:VEVENT
BEGIN:VEVENT
DTSTART;TZID=Europe/Zagreb:20240628T200000
DTEND;TZID=Europe/Zagreb:20240826T200000
DTSTAMP:20260420T213327
CREATED:20240525T110201Z
LAST-MODIFIED:20240620T091905Z
UID:10004732-1719604800-1724702400@kalendar.dubrovnik.hr
SUMMARY:Otvorenje izložbe Iva Dimnića
DESCRIPTION:Kustosica: Petra Golušić\, muzejska savjetnica Umjetničke galerije Dubrovnik \nMultimedijalni dubrovački umjetnik Ivo Dimnić predstavlja se serijom skulptura i slika nastalom od 2021. – nadalje u kojoj rastvara ontologiju ljudskog bića. Tijelo je minimalističkim rukopisom navedeno i ogoljeno je do srži. Prizori ljudskog bića rastvaraju pogled u duboko mišljenje\, mir\, prazninu uma/slobodu duha\, dostojansvo u poniznosti i dr. Nema maski\, sve je rastvoreno pogledu. Istina ljudskog bića se iskazuje žudnjom za samospoznajom bez koje nema istine. Um je sposoban osloboditi se uvjetovanosti bilo kakve i samo tada je slobodan kako bi otkrio što leži onkraj područja misli (Krishnamurti). Navedenim se bavi autor. Preispituje se tišina\, osamljenost\, odnos muškarca i žene\, potisnuta tama\, sakralne praznine svijeta i unutrašnjosti čovjeka kao i kozmosa. Duhovna aktivnost jest duhovna egzistencija; izriče se oštoumno i profinjeno Ivo Dimnić.
URL:https://kalendar.dubrovnik.hr/event/otvorenje-izlozbe-iva-dimnica/
LOCATION:Galerija Dulčić Masle Pulitika\, Držićeva poljana 1\, DUBROVNIK\, Dubrovačko - neretvanska županija\, 20000\, Croatia (Local Name: Hrvatska)
CATEGORIES:Izložbe,KULTURA
ATTACH;FMTTYPE=image/jpeg:https://kalendar.dubrovnik.hr/wp-content/uploads/2024/05/IVO-DIMIC.jpg
ORGANIZER;CN="Umjetni%C4%8Dka%20galerija%20Dubrovnik":MAILTO:info@momad.hr
GEO:42.6399206;18.1105435
X-APPLE-STRUCTURED-LOCATION;VALUE=URI;X-ADDRESS=Galerija Dulčić Masle Pulitika Držićeva poljana 1 DUBROVNIK Dubrovačko - neretvanska županija 20000 Croatia (Local Name: Hrvatska);X-APPLE-RADIUS=500;X-TITLE=Držićeva poljana 1:geo:18.1105435,42.6399206
END:VEVENT
BEGIN:VEVENT
DTSTART;TZID=Europe/Zagreb:20250715T200000
DTEND;TZID=Europe/Zagreb:20250831T200000
DTSTAMP:20260420T213327
CREATED:20250414T120200Z
LAST-MODIFIED:20250414T120200Z
UID:10007224-1752609600-1756670400@kalendar.dubrovnik.hr
SUMMARY:Bojan Mrđenović - Toplice
DESCRIPTION:Mjesto održavanja: Galerija Dulčić Masle Pulitika (2. kat)\nKustosica izložbe: dr.sc. Rozana Vojvoda\, muzejska savjetnica UGD \nSuvremeni hrvatski fotograf i snimatelj Bojan Mrđenović predstavlja izbor iz serije „Toplice“ koja je nastajala nekoliko godina počevši od 2011.\, te predstavlja kroniku suživota ljudi s odabranim mjestom\, ali i polaznu točku za razmišljanja o društvenim okvirima u kojem su toplice nastale i u kojima traju i danas. Bojan Mrđenović medij fotografije koristi za bilježenje i analitičko propitivanje društvene stvarnosti s čestim naglaskom na poslijeratno i tranzicijsko vrijeme. S obzirom na nesvakidašnji senzibilitet za interakciju ljudi i prostora i vizualne kvalitete zabilježenih prizora s pravom se smatra jednim od najtalentiranijih hrvatskih fotografa mlađe generacije.\n”Serija fotografija nastajala je kroz nekoliko godina\, i predstavlja opservaciju života u toplicama. Kupališno – lječilišni kompleks sagrađen je 1980. godine. Od tada do danas društveno ekonomske okolnosti su se značajno izmijenile\, pa se čini da se trenutno ne uklapaju u viziju razvoja Hrvatske kao luksuzne turističke destinacije. Prekrivene patinom vremena\, pomalo strše kao relikt nekog prošlog sustava. Kretanje kroz prostor ostavlja dojam da su ljudi i prostor organski povezani\, da se procesi odvijaju u vlastitom sporom ritmu\, neopterećeni pitanjima nacionalne ekonomije. Usredotočenost na opuštanje i njegu tijela reflektira sustav socijalne njege i brige\, za koji se čini da se polako i sigurno raspada u korist osobnog razvoja i individualnosti.” (Bojan Mrđenović)\nIzložba je prvo predstavljanje umjetnika u Umjetničkoj galeriji Dubrovnik i prvo predstavljanje serije „Toplice“ dubrovačkoj publici. \nBiografija: \nBojan Mrđenović rođen je 1987. u Virovitici. Diplomirao je na preddiplomskom studiju povijesti umjetnosti i informacijskih znanosti u Zagrebu 2011. Na preddiplomskom studiju filmskog i TV snimanje na Akademiji dramske umjetnosti u Zagrebu diplomirao je 2012. godine\, a na diplomskom 2015. godine. Na istom odsjeku danas je zaposlen kao docent. Bavi se filmom i fotografijom. Na samostalnim izložbama fotografija izlagao je cikluse Dobrodošli\, Budućnost\, Uvozna pustinja\, Toplice\, Grčki dnevnik\, Magistrala\, Priroda\, kemija i društvo te je sudjelovao na brojnim grupnim izložbama u Hrvatskoj i inozemstvu. Ciklusi Toplice i Grčki dnevnik također su objavljeni u obliku knjiga. Dobitnik je prve nagrade festivala Rovinj Photodays u kategoriji Arhitektura i Rektorove nagrade Sveučilišta u Zagrebu. Dobitnik je nagrade Red Carpet Art Award za mlade umjetnike\, te je prvi dobitnik nagrade Marina Viculin za razvoj fotografskog stvaralaštva. \n 
URL:https://kalendar.dubrovnik.hr/event/bojan-mrdenovic-toplice/
LOCATION:Galerija Dulčić Masle Pulitika\, Držićeva poljana 1\, DUBROVNIK\, Dubrovačko - neretvanska županija\, 20000\, Croatia (Local Name: Hrvatska)
CATEGORIES:Izložbe,KULTURA
ATTACH;FMTTYPE=image/jpeg:https://kalendar.dubrovnik.hr/wp-content/uploads/2025/04/Bojan-Mrdenovic-iz-ciklusa-Toplice-2011-2014.jpg
ORGANIZER;CN="Umjetni%C4%8Dka%20galerija%20Dubrovnik":MAILTO:info@momad.hr
GEO:42.6399206;18.1105435
X-APPLE-STRUCTURED-LOCATION;VALUE=URI;X-ADDRESS=Galerija Dulčić Masle Pulitika Držićeva poljana 1 DUBROVNIK Dubrovačko - neretvanska županija 20000 Croatia (Local Name: Hrvatska);X-APPLE-RADIUS=500;X-TITLE=Držićeva poljana 1:geo:18.1105435,42.6399206
END:VEVENT
BEGIN:VEVENT
DTSTART;TZID=Europe/Zagreb:20241211T190000
DTEND;TZID=Europe/Zagreb:20250330T200000
DTSTAMP:20260420T213327
CREATED:20241011T115301Z
LAST-MODIFIED:20241127T135411Z
UID:10005349-1733943600-1743364800@kalendar.dubrovnik.hr
SUMMARY:VLAHO BUKOVAC I  PORTRETI DUBROVAČKIH OBITELJI
DESCRIPTION:Mjesto održavanja: Galerija Dulčić Masle Pulitika \nOrganizacija: Umjetnička galerija Dubrovnik \nAutorice izložbe: dr.sc. Rozana Vojvoda\, muzejska savjetnica UGD\, Lucija Vuković\, viša kustosica\, Dubrovački muzeji
URL:https://kalendar.dubrovnik.hr/event/vlaho-bukovac-i-portreti-dubrovackih-obitelji/
LOCATION:Galerija Dulčić Masle Pulitika\, Držićeva poljana 1\, DUBROVNIK\, Dubrovačko - neretvanska županija\, 20000\, Croatia (Local Name: Hrvatska)
CATEGORIES:Izložbe,KULTURA,Zimski festival
ATTACH;FMTTYPE=image/jpeg:https://kalendar.dubrovnik.hr/wp-content/uploads/2024/10/0008-UGD-002.jpg
ORGANIZER;CN="Umjetni%C4%8Dka%20galerija%20Dubrovnik":MAILTO:info@momad.hr
GEO:42.6399206;18.1105435
X-APPLE-STRUCTURED-LOCATION;VALUE=URI;X-ADDRESS=Galerija Dulčić Masle Pulitika Držićeva poljana 1 DUBROVNIK Dubrovačko - neretvanska županija 20000 Croatia (Local Name: Hrvatska);X-APPLE-RADIUS=500;X-TITLE=Držićeva poljana 1:geo:18.1105435,42.6399206
END:VEVENT
END:VCALENDAR