BEGIN:VCALENDAR
VERSION:2.0
PRODID:-//Kalendar događanja Dubrovnika - ECPv6.1.1//NONSGML v1.0//EN
CALSCALE:GREGORIAN
METHOD:PUBLISH
X-ORIGINAL-URL:https://kalendar.dubrovnik.hr
X-WR-CALDESC:Događanja za Kalendar događanja Dubrovnika
REFRESH-INTERVAL;VALUE=DURATION:PT1H
X-Robots-Tag:noindex
X-PUBLISHED-TTL:PT1H
BEGIN:VTIMEZONE
TZID:Europe/Zagreb
BEGIN:DAYLIGHT
TZOFFSETFROM:+0100
TZOFFSETTO:+0200
TZNAME:CEST
DTSTART:20230326T010000
END:DAYLIGHT
BEGIN:STANDARD
TZOFFSETFROM:+0200
TZOFFSETTO:+0100
TZNAME:CET
DTSTART:20231029T010000
END:STANDARD
END:VTIMEZONE
BEGIN:VEVENT
DTSTART;TZID=Europe/Zagreb:20230305T160000
DTEND;TZID=Europe/Zagreb:20230305T200000
DTSTAMP:20260422T101249
CREATED:20230302T131052Z
LAST-MODIFIED:20230302T133810Z
UID:10001996-1678032000-1678046400@kalendar.dubrovnik.hr
SUMMARY:Gradske ulične igre 2023. - nedjelja\, 5. ožujka
DESCRIPTION:16:00 – Crna kraljica (Gundulićeva poljana)\n18:00 – Treseta (Klub pomoraca)
URL:https://kalendar.dubrovnik.hr/event/gradske-ulicne-igre-2023-nedjelja-5-ozujka/
LOCATION:Gundulićeva poljana\, Gundulićeva poljana\, DUBROVNIK\, Dubrovačko - neretvanska županija\, 20000\, Croatia (Local Name: Hrvatska)
ATTACH;FMTTYPE=image/jpeg:https://kalendar.dubrovnik.hr/wp-content/uploads/2023/03/332380615_874023963871799_6060366222477458369_n.jpg
GEO:42.6402641;18.1100968
X-APPLE-STRUCTURED-LOCATION;VALUE=URI;X-ADDRESS=Gundulićeva poljana Gundulićeva poljana DUBROVNIK Dubrovačko - neretvanska županija 20000 Croatia (Local Name: Hrvatska);X-APPLE-RADIUS=500;X-TITLE=Gundulićeva poljana:geo:18.1100968,42.6402641
END:VEVENT
END:VCALENDAR