BEGIN:VCALENDAR
VERSION:2.0
PRODID:-//Kalendar događanja Dubrovnika - ECPv6.1.1//NONSGML v1.0//EN
CALSCALE:GREGORIAN
METHOD:PUBLISH
X-WR-CALNAME:Kalendar događanja Dubrovnika
X-ORIGINAL-URL:https://kalendar.dubrovnik.hr
X-WR-CALDESC:Događanja za Kalendar događanja Dubrovnika
REFRESH-INTERVAL;VALUE=DURATION:PT1H
X-Robots-Tag:noindex
X-PUBLISHED-TTL:PT1H
BEGIN:VTIMEZONE
TZID:Europe/Zagreb
BEGIN:DAYLIGHT
TZOFFSETFROM:+0100
TZOFFSETTO:+0200
TZNAME:CEST
DTSTART:20240331T010000
END:DAYLIGHT
BEGIN:STANDARD
TZOFFSETFROM:+0200
TZOFFSETTO:+0100
TZNAME:CET
DTSTART:20241027T010000
END:STANDARD
BEGIN:DAYLIGHT
TZOFFSETFROM:+0100
TZOFFSETTO:+0200
TZNAME:CEST
DTSTART:20250330T010000
END:DAYLIGHT
BEGIN:STANDARD
TZOFFSETFROM:+0200
TZOFFSETTO:+0100
TZNAME:CET
DTSTART:20251026T010000
END:STANDARD
END:VTIMEZONE
BEGIN:VEVENT
DTSTART;VALUE=DATE:20240820
DTEND;VALUE=DATE:20240821
DTSTAMP:20260420T213036
CREATED:20240816T120757Z
LAST-MODIFIED:20240816T120757Z
UID:10004884-1724112000-1724198399@kalendar.dubrovnik.hr
SUMMARY:KNJIGE POD STABLIMA: GRUŽ
DESCRIPTION:Dubrovačke knjižnice nastavljaju s cjelodnevnim programima „Knjige pod stablima“ koji će se održati u ponedjeljak\, 19. kolovoza u Cavtatu (Trg dr. Franja Tuđmana) i u utorak\, 20. kolovoza 2024. u Gružu (Park Luja Šoletića). \nDogađanje u Gružu\, 20. kolovoza\, počinje u 10 sati programom za djecu „Čitamo\, slikamo“ kada će Maja Šimleša\, supruga Bruna Šimleše\, predstaviti seriju od pet slikovnica o maloj žirafi Suli – „Suli u avanturi“ te slikovnicu „Slikobasne“ objavljene u izdanju Profila koje je ilustrirao akademski slikar Sven Nemet. Maja Šimleša završila je fakultet talijanskog i španjolskog jezika s književnošću\, simultana je prevoditeljica u Europskom parlamentu. Odmalena je voljela slikovnice i knjige\, a raznorazne priče i scenarije smišljala je i sama. Nakon toga će umjetnici Marta Baće i Robert Kralj održati kreativnu radionicu za okupljenu djecu. \nProgram u Gružu završava u 19 sati kada će Bruno Šimleša predstaviti svoju knjigu „(P)ostati zdrav“. \nBruno Šimleša (1979.) autor je knjiga popularne psihologije i duhovnosti. Knjiga (P)ostati zdrav\, prva je u kojoj fokus stavlja na fizičko zdravlje. Uz ovu\,  objavio je deset knjiga\, a Ljubavologija i U rukavicama mi je ionako prevruće  bile su među najprodavanijim knjigama u Hrvatskoj. Škola života izvorno je objavljena 2009. godine i prodana je u 15 000 primjeraka u Hrvatskoj. Diplomirao je sociologiju  2002. godine na Filozofskom fakultetu Sveučilišta u Zagrebu\, a osim pisanja i držanja predavanja\, vodio je emisiju “Svaki dan\, dobar dan” na Hrvatskoj televiziji.  \nTijekom cijeloga dana posjetitelji imaju priliku uživati u čitanju u hladu te birati među ponuđenim rabljenim knjigama. Svaka odabrana knjiga može postati dio njihove kućne biblioteke. \n„Knjige pod stablima“ je program kojemu je cilj promoviranje i poticanje čitanja\, na raznim „zelenim“gradskim i prigradskim lokacijama uz okupljanje malih i velikih čitatelja te zanimljivih i aktualnih gostiju iz svijeta književnosti. \nProgram se održava uz podršku Grada Dubrovnika i Ministarstva kulture i medija Republike Hrvatske\, a ima za cilj promoviranje i poticanje čitanja.
URL:https://kalendar.dubrovnik.hr/event/knjige-pod-stablima-gruz/
LOCATION:Park Luja Šoletića\, DUBROVNIK\, Dubrovačko - neretvanska županija\, 20000\, Hrvatska
CATEGORIES:Edukativna,KULTURA,Predstavljanje knjige,Radionice
ATTACH;FMTTYPE=image/jpeg:https://kalendar.dubrovnik.hr/wp-content/uploads/2024/08/knjige-pod-stablima-cavtat_gruz_2024.jpg
ORGANIZER;CN="Dubrova%C4%8Dke%20knji%C5%BEnice":MAILTO:press.dkd@gmail.com
GEO:42.6586378;18.1013637
END:VEVENT
BEGIN:VEVENT
DTSTART;VALUE=DATE:20250821
DTEND;VALUE=DATE:20250822
DTSTAMP:20260420T213036
CREATED:20250815T083922Z
LAST-MODIFIED:20250815T083922Z
UID:10008155-1755734400-1755820799@kalendar.dubrovnik.hr
SUMMARY:KNJIGE POD STABLIMA [GRUŽ] Staša Aras & Želimir Periš
DESCRIPTION:Četvrto ovogodišnje cjelodnevno događanje „Knjige pod stablima“ u organizaciji Dubrovačkih knjižnica održat će se u četvrtak\, 21. kolovoza 2025. u parku Luja Šoletića u Gružu. \nPričaonica i kreativna radionica “Valovi mašte” za djecu 3 -7 godina počinje u 10 sati. Čitat će se priče o stanovnicima mora i održat će se kreativna radionica ljetnih motiva s prirodnim materijalima. Jutarnji program vodit će knjižničarka Marjana Leventić. \nOd 17:30 sati pisac Želimir Periš vodit će radionicu stvaranja priče “Kako nastaje priča?” namijenjenu djeci od 6 – 10 godina. Autor knjiga za odrasle i slikovnica za djecu\, s djecom će razgovarati o svijetu priča\, zašto su nam priče potrebne\, uzbudljive\, zanimljive\, a zatim će zajedno smisliti novu priču s novim likovima\, zapletom i raspletom te ju ako požele i oslikati. Priču o dječaku Vjeranu koji suočen s problemom nestanska struje otkriva zanimljivi svijet zabave i vlastite kreativnosti: “Dan kad se ugasio ekran”\, Periš će predstaviti kao primjer kako nastaje priča. Djeco\, ugasite ekrane\, naoružajte se maštom izmišljajte i stvarajte! \nU 19:00 sati u programu za odrasle\, “O piscima i knjigama” govorit će Staša Aras i Želimir Periš. Razgovori o pisanju\, piscima\, knjigama i svemu što publika bude htjela pitati (a oni smisle odgovoriti). \nStašu Aras i Želimira Periša povezuju Zadar\, radionice kreativnog pisanja\, organiziranje i vođenje književnih programa\, stvaranje\, priče\, romani i napokon – Dubrovnik. \nStaša Aras profesorica je hrvatskog jezika i spisateljica. Uz pisanje i vođenje radionica bavi se književnim moderiranjem i organizacijom književnih susreta i festivala te je urednica književnog programa u Art radionici Lazareti\, u Dubrovniku. Piše eseje za Treći program hrvatskog radija te književne kritike i prikaze na portalu Najbolje knjige.Objavila je tri zbirke poezije – “Takve se stvari događaju ljudima” (Algoritam 2014.)\, “Nedolično i vrijedno spomena” (Durieux 2015.) te “Premještanja” (Hena com 2020.)\, knjigu kratkih priča “Meke granice” (Algoritam 2015.) \, roman “Horror vacui” (Hena com\, 2021.) te novi roman “Suhozid” (Hena com\, 2025.) Za kratke priče dobila je nagradu Vranac na festivalu Odakle zovem (Podgorica 2015. i 2016.) i nagradu Mate Raos za najbolju kratku priču. Rukopis “Horror vacui” nagrađen je na trećem natječaju za prozu Trećeg trga i Beogradskog festivala poezije i knjige (2020.). \nŽelimir Periš računalni programer i pisac\, uz radionice kreativnog pisanja i oragnizaciju književnih susreta\, bavi se dizajniranjem igara\, koautor je društvene igre “Fierce Women”\, dosad objavljenu u tisućama primjeraka na hrvatskom\, engleskom\, talijanskom i francuskom jeziku\, te edukativnu videoigru za Narodni muzej Zadar “Ifigenija”. Objavio je zbirke priča “Mučenice” (Algoritam\, 2013. )\, “Žuti bog” – koautorstvo s V. M. Maerom i Z. Perićem (C.A.S.H.\, Pula\, 2020.) i “Gracija od čempresa” (Ocean more\, 2022.); zbirku pjesama “X”(Algoritam\, 2016.); romane: “Mima i kvadratura duga” (Algoritam/24 sata\, 2014.)\, “Mima i vaše kćeri” (24 sata\, 2015.)\, “Mladenka kostonoga” (OceanMore\, 2020.) i slikovnice: “Straška postavlja teška pitanja” i “Straška izvrće neistine” (Fierce Women\, 2021.) te “Dan kad se ugasio ekran” (Naša djeca\, 2024.). Za priče je dobio nagrade Sfera 2002\, Lapis Histriae 2012\, te finala: Lapis Histriae 2013\, Vranac 2014\, FEKP 2014.\, a Mladenka Kostonoga nagrađena je Kočićevim perom\, i nagradom tportala za najbolji hrvatski roman godine 2021. \nTijekom cijeloga dana posjetitelji imaju priliku uživati u čitanju u hladu te mogu birati među ponuđenim rabljenim knjigama. Svaka odabrana knjiga može postati dio njihove kućne biblioteke. \nKnjige pod stablima sufinanciraju Ministarstvo kulture i medija RH te Grad Dubrovnik. \n 
URL:https://kalendar.dubrovnik.hr/event/knjige-pod-stablima-gruz-stasa-aras-zelimir-peris/
LOCATION:Park Luja Šoletića\, DUBROVNIK\, Dubrovačko - neretvanska županija\, 20000\, Hrvatska
CATEGORIES:Edukativna,KULTURA,Radionice
ATTACH;FMTTYPE=image/jpeg:https://kalendar.dubrovnik.hr/wp-content/uploads/2025/08/knjige-pod-stablima-gruz-2025-2.jpg
ORGANIZER;CN="Dubrova%C4%8Dke%20knji%C5%BEnice":MAILTO:press.dkd@gmail.com
GEO:42.6586378;18.1013637
END:VEVENT
END:VCALENDAR