BEGIN:VCALENDAR
VERSION:2.0
PRODID:-//Kalendar događanja Dubrovnika - ECPv6.1.1//NONSGML v1.0//EN
CALSCALE:GREGORIAN
METHOD:PUBLISH
X-ORIGINAL-URL:https://kalendar.dubrovnik.hr
X-WR-CALDESC:Događanja za Kalendar događanja Dubrovnika
REFRESH-INTERVAL;VALUE=DURATION:PT1H
X-Robots-Tag:noindex
X-PUBLISHED-TTL:PT1H
BEGIN:VTIMEZONE
TZID:Europe/Zagreb
BEGIN:DAYLIGHT
TZOFFSETFROM:+0100
TZOFFSETTO:+0200
TZNAME:CEST
DTSTART:20230326T010000
END:DAYLIGHT
BEGIN:STANDARD
TZOFFSETFROM:+0200
TZOFFSETTO:+0100
TZNAME:CET
DTSTART:20231029T010000
END:STANDARD
BEGIN:DAYLIGHT
TZOFFSETFROM:+0100
TZOFFSETTO:+0200
TZNAME:CEST
DTSTART:20240331T010000
END:DAYLIGHT
BEGIN:STANDARD
TZOFFSETFROM:+0200
TZOFFSETTO:+0100
TZNAME:CET
DTSTART:20241027T010000
END:STANDARD
BEGIN:DAYLIGHT
TZOFFSETFROM:+0100
TZOFFSETTO:+0200
TZNAME:CEST
DTSTART:20250330T010000
END:DAYLIGHT
BEGIN:STANDARD
TZOFFSETFROM:+0200
TZOFFSETTO:+0100
TZNAME:CET
DTSTART:20251026T010000
END:STANDARD
BEGIN:DAYLIGHT
TZOFFSETFROM:+0100
TZOFFSETTO:+0200
TZNAME:CEST
DTSTART:20260329T010000
END:DAYLIGHT
BEGIN:STANDARD
TZOFFSETFROM:+0200
TZOFFSETTO:+0100
TZNAME:CET
DTSTART:20261025T010000
END:STANDARD
END:VTIMEZONE
BEGIN:VEVENT
DTSTART;TZID=Europe/Zagreb:20241120T200000
DTEND;TZID=Europe/Zagreb:20241120T220000
DTSTAMP:20260420T212902
CREATED:20241119T141837Z
LAST-MODIFIED:20241119T141839Z
UID:10005490-1732132800-1732140000@kalendar.dubrovnik.hr
SUMMARY:Koncertni serijal "Glazbeni salon": Dubrovački gudački kvartet
DESCRIPTION:
URL:https://kalendar.dubrovnik.hr/event/koncertni-serijal-glazbeni-salon-dubrovacki-gudacki-kvartet/
LOCATION:Slanica\, DUBROVNIK\, Dubrovačko - neretvanska županija\, 20000\, Hrvatska
ATTACH;FMTTYPE=image/jpeg:https://kalendar.dubrovnik.hr/wp-content/uploads/2024/11/Dubrovacki-gudacki-kvartet-plakat-page-001-scaled.jpg
GEO:42.6420117;18.1120765
END:VEVENT
BEGIN:VEVENT
DTSTART;TZID=Europe/Zagreb:20250130T200000
DTEND;TZID=Europe/Zagreb:20250130T210000
DTSTAMP:20260420T212902
CREATED:20250120T002726Z
LAST-MODIFIED:20250122T094647Z
UID:10005999-1738267200-1738270800@kalendar.dubrovnik.hr
SUMMARY:KONCERT U POVODU PROMOCIJE CD-a
DESCRIPTION:KONCERT U POVODU PROMOCIJE CD-a \n30.01. četvrtak\, Slanica u 20 sati \n  \nDubrovački simfonijski orkestar \nIvan Hut\, dirgent \nSolist: Lovro Merčep\, saksofon
URL:https://kalendar.dubrovnik.hr/event/koncert-u-povodu-promocije-cd-a/
LOCATION:Slanica\, DUBROVNIK\, Dubrovačko - neretvanska županija\, 20000\, Hrvatska
CATEGORIES:Koncerti,KULTURA
ATTACH;FMTTYPE=image/jpeg:https://kalendar.dubrovnik.hr/wp-content/uploads/2025/01/20_dvor_dso_1.jpg
GEO:42.6420117;18.1120765
END:VEVENT
BEGIN:VEVENT
DTSTART;TZID=Europe/Zagreb:20250228T200000
DTEND;TZID=Europe/Zagreb:20250228T210000
DTSTAMP:20260420T212902
CREATED:20250121T165757Z
LAST-MODIFIED:20250220T080652Z
UID:10006002-1740772800-1740776400@kalendar.dubrovnik.hr
SUMMARY:10. Međunarodni seminar orkestralnog dirigiranja "Lovro pl. Matačić"
DESCRIPTION:ZAVRŠNI KONCERT SEMINARA\n28.02. petak\, Slanica u 20 sati \n\nDubrovački simfonijski orkestar\nDirigenti: polaznici seminara\nAri Peraza Webb\, violončelo\n\nPROGRAM:\nR. Wagner: Siegfried Idila\, WWV 103\nP. I. Tchaikovsky: Variijacije na rococo teme\, op. 33\nL. van Beethoven: Simfonija br. 4 \nSlobodan ulaz
URL:https://kalendar.dubrovnik.hr/event/13-medunarodni-seminar-orkestralnog-dirigiranja-lovro-pl-matacic/
LOCATION:Slanica\, DUBROVNIK\, Dubrovačko - neretvanska županija\, 20000\, Hrvatska
CATEGORIES:Koncerti,KULTURA
ATTACH;FMTTYPE=image/jpeg:https://kalendar.dubrovnik.hr/wp-content/uploads/2025/01/10TH-MATAČIĆ-CONDUCTING-MASTERCLASS-2025_Lajovic_Dubrovnik_50x70_60x80_700x1000_64x90-01.jpg
GEO:42.6420117;18.1120765
END:VEVENT
BEGIN:VEVENT
DTSTART;TZID=Europe/Zagreb:20250320T193000
DTEND;TZID=Europe/Zagreb:20250320T203000
DTSTAMP:20260420T212902
CREATED:20250121T170638Z
LAST-MODIFIED:20250319T115313Z
UID:10006005-1742499000-1742502600@kalendar.dubrovnik.hr
SUMMARY:KONCERT SA MLADIM GLAZBENICIMA UŠLS-a
DESCRIPTION:KONCERT SA MLADIM GLAZBENICIMA UŠLS-a\n20.03. četvrtak\, Slanica u 19:30 sati \n\nDubrovačkl simfonijski orkestar\nSlobodan Begić\, dirigent\nmladi glazbenici Umjetničke škole Luke Sorkočevića
URL:https://kalendar.dubrovnik.hr/event/koncert-sa-mladim-glazbenicima-usls-a-2/
LOCATION:Slanica\, DUBROVNIK\, Dubrovačko - neretvanska županija\, 20000\, Hrvatska
CATEGORIES:Koncerti,KULTURA
ATTACH;FMTTYPE=image/jpeg:https://kalendar.dubrovnik.hr/wp-content/uploads/2024/02/DSO-I-Umjetnicka-koncert-Revelin-23.3.2023.-by-HC039_thumb-1-1.jpg
GEO:42.6420117;18.1120765
END:VEVENT
BEGIN:VEVENT
DTSTART;TZID=Europe/Zagreb:20251126T200000
DTEND;TZID=Europe/Zagreb:20251126T213000
DTSTAMP:20260420T212902
CREATED:20251103T101247Z
LAST-MODIFIED:20251117T110355Z
UID:10008292-1764187200-1764192600@kalendar.dubrovnik.hr
SUMMARY:Dubrovački gudački kvartet\, koncert u ciklusu "Glazbeni salon"
DESCRIPTION:
URL:https://kalendar.dubrovnik.hr/event/dubrovacki-gudacki-kvartet-koncert-u-ciklusu-glazbeni-salon/
LOCATION:Slanica\, DUBROVNIK\, Dubrovačko - neretvanska županija\, 20000\, Hrvatska
ATTACH;FMTTYPE=image/jpeg:https://kalendar.dubrovnik.hr/wp-content/uploads/2025/11/plakat-2025.-page-001-scaled.jpg
GEO:42.6420117;18.1120765
END:VEVENT
BEGIN:VEVENT
DTSTART;TZID=Europe/Zagreb:20230415T200000
DTEND;TZID=Europe/Zagreb:20230415T213000
DTSTAMP:20260420T212902
CREATED:20230227T120510Z
LAST-MODIFIED:20230412T090605Z
UID:10001981-1681588800-1681594200@kalendar.dubrovnik.hr
SUMMARY:Završni koncert: Međunarodni seminar orkestralnog dirigiranja "Lovro pl. Matačić"
DESCRIPTION:Međunarodni seminar orkestralnog dirigiranja pod ravnanjem glasovitog maestra Uroša Lajovica održavati će se u Gradu od 10. do 15. travnja 2023. Svoja stečena znanja sa seminara\, dirigenti će publici pokazati na završnom koncertu 15. travnja u Slanici. Koncert je zanimljiv publici samom činjenicom da se na koncertu izmjenjuju dirigenti. Na programu seminara\, pa tako i koncerta su djela Mozarta\, Beethovena\, Mendelssohna i Webera.\nUlaz na koncert je slobodan.
URL:https://kalendar.dubrovnik.hr/event/zavrsni-koncert-medunarodni-seminar-orkestralnog-dirigiranja-lovro-pl-matacic/
LOCATION:Slanica\, DUBROVNIK\, Dubrovačko - neretvanska županija\, 20000\, Hrvatska
CATEGORIES:Koncerti
ATTACH;FMTTYPE=image/jpeg:https://kalendar.dubrovnik.hr/wp-content/uploads/2022/07/Uros-Lajovicres.jpg
GEO:42.6420117;18.1120765
END:VEVENT
BEGIN:VEVENT
DTSTART;TZID=Europe/Zagreb:20240224T190000
DTEND;TZID=Europe/Zagreb:20240224T203000
DTSTAMP:20260420T212902
CREATED:20240130T092614Z
LAST-MODIFIED:20240201T104529Z
UID:10004171-1708801200-1708806600@kalendar.dubrovnik.hr
SUMMARY:12. MEĐUNARODNI SEMINAR ORKESTRALNOG DIRIGIRANJA "LOVRO PL. MATAČIĆ"- ZAVRŠNI KONCERT
DESCRIPTION:12. MEĐUNARODNI SEMINAR ORKESTRALNOG DIRIGIRANJA “LOVRO PL. MATAČIĆ”- ZAVRŠNI KONCERT\n24.02. subota\, Slanica u 19 sati \n\nDubrovački simfonijski orkestar\nDirigent: Uroš Lajovic (Slovenija – Austrija)\nDirigenti\, polaznici seminara\n\n\n\nPROGRAM:\n\nG.Rossini:     William Tell\, Overture\nG.Rossini:     La scala di seta\, Overture\nF.Mendelssohn: The Midsummer Night’s Dream
URL:https://kalendar.dubrovnik.hr/event/12-medunarodni-seminar-orkestralnog-dirigiranja-lovro-pl-matacic-zavrsni-koncert/
LOCATION:Slanica\, DUBROVNIK\, Dubrovačko - neretvanska županija\, 20000\, Hrvatska
CATEGORIES:Koncerti,KULTURA
ATTACH;FMTTYPE=image/jpeg:https://kalendar.dubrovnik.hr/wp-content/uploads/2024/01/download.jpg
GEO:42.6420117;18.1120765
END:VEVENT
BEGIN:VEVENT
DTSTART;TZID=Europe/Zagreb:20240411T100000
DTEND;TZID=Europe/Zagreb:20240411T120000
DTSTAMP:20260420T212902
CREATED:20240321T101155Z
LAST-MODIFIED:20240321T101155Z
UID:10004560-1712829600-1712836800@kalendar.dubrovnik.hr
SUMMARY:EDUKATIVNI KONCERTI "RAZVOJ SIMFONIJSKOG ORKESTRA"
DESCRIPTION:EDUKATIVNI KONCERTI “RAZVOJ SIMFONIJSKOG ORKESTRA”\n11.04. četvrtak\, Slanica (Revelin) u 10 sati i 11 sati \n\nDubrovački simfonijski orkestar\nDirigent: Darijan Ivezić\nSolist: Đana Kahriman\n\n 
URL:https://kalendar.dubrovnik.hr/event/edukativni-koncerti-razvoj-simfonijskog-orkestra/
LOCATION:Slanica\, DUBROVNIK\, Dubrovačko - neretvanska županija\, 20000\, Hrvatska
CATEGORIES:Koncerti,KULTURA
ATTACH;FMTTYPE=image/jpeg:https://kalendar.dubrovnik.hr/wp-content/uploads/2024/03/IMG_5730-scaled-1.jpg
GEO:42.6420117;18.1120765
END:VEVENT
BEGIN:VEVENT
DTSTART;TZID=Europe/Zagreb:20251103T193000
DTEND;TZID=Europe/Zagreb:20251103T203000
DTSTAMP:20260420T212902
CREATED:20251022T093256Z
LAST-MODIFIED:20260116T092516Z
UID:10008254-1762198200-1762201800@kalendar.dubrovnik.hr
SUMMARY:Kvintet Zadarskog komornog orkestra
DESCRIPTION:Kvintet Zadarskog komornog orkestra\n3.11. ponedjeljak\, Revelin-Slanica u 19:30 h \nPROGRAM:\nJ. Haydn: Kvartet u G-duru op. 76 br. 1\nF. Schubert: Kvintet u C-duru za dvije violine\, violu i dva violončela D 956
URL:https://kalendar.dubrovnik.hr/event/kvintet-zadarskog-komornog-orkestra/
LOCATION:Slanica\, DUBROVNIK\, Dubrovačko - neretvanska županija\, 20000\, Hrvatska
CATEGORIES:Koncerti,KULTURA
ATTACH;FMTTYPE=image/jpeg:https://kalendar.dubrovnik.hr/wp-content/uploads/2025/10/zadarski-komorni1.jpg
GEO:42.6420117;18.1120765
END:VEVENT
BEGIN:VEVENT
DTSTART;TZID=Europe/Zagreb:20260312T193000
DTEND;TZID=Europe/Zagreb:20260312T203000
DTSTAMP:20260420T212902
CREATED:20260130T102200Z
LAST-MODIFIED:20260304T104325Z
UID:10008872-1773343800-1773347400@kalendar.dubrovnik.hr
SUMMARY:MJESEC MLADEŽI i DSO-a
DESCRIPTION:KONCERT SA UČENICIMA UMJETNIČKE ŠKOLE LUKE SORKOČEVIĆA U SKLOPU MJESECA MLADEŽI\n12.3. četvrtak\, Revelin u 19:30 sati \n\nDubrovački simfonijski orkestar\nSlobodan Begić\, dirigent\nSolisti: učenici Umjetničke škole Luke Sorkočevića
URL:https://kalendar.dubrovnik.hr/event/mjesec-mladezi-i-dso-a/
LOCATION:Slanica\, DUBROVNIK\, Dubrovačko - neretvanska županija\, 20000\, Hrvatska
CATEGORIES:Koncerti,KULTURA
ATTACH;FMTTYPE=image/jpeg:https://kalendar.dubrovnik.hr/wp-content/uploads/2026/01/WhatsApp-Image-2025-03-13-at-19.38.20.jpg
GEO:42.6420117;18.1120765
END:VEVENT
END:VCALENDAR