BEGIN:VCALENDAR
VERSION:2.0
PRODID:-//Kalendar događanja Dubrovnika - ECPv6.1.1//NONSGML v1.0//EN
CALSCALE:GREGORIAN
METHOD:PUBLISH
X-ORIGINAL-URL:https://kalendar.dubrovnik.hr
X-WR-CALDESC:Događanja za Kalendar događanja Dubrovnika
REFRESH-INTERVAL;VALUE=DURATION:PT1H
X-Robots-Tag:noindex
X-PUBLISHED-TTL:PT1H
BEGIN:VTIMEZONE
TZID:Europe/Zagreb
BEGIN:DAYLIGHT
TZOFFSETFROM:+0100
TZOFFSETTO:+0200
TZNAME:CEST
DTSTART:20230326T010000
END:DAYLIGHT
BEGIN:STANDARD
TZOFFSETFROM:+0200
TZOFFSETTO:+0100
TZNAME:CET
DTSTART:20231029T010000
END:STANDARD
BEGIN:DAYLIGHT
TZOFFSETFROM:+0100
TZOFFSETTO:+0200
TZNAME:CEST
DTSTART:20240331T010000
END:DAYLIGHT
BEGIN:STANDARD
TZOFFSETFROM:+0200
TZOFFSETTO:+0100
TZNAME:CET
DTSTART:20241027T010000
END:STANDARD
END:VTIMEZONE
BEGIN:VEVENT
DTSTART;TZID=Europe/Zagreb:20230128T080000
DTEND;TZID=Europe/Zagreb:20230128T200000
DTSTAMP:20260421T013548
CREATED:20230124T073241Z
LAST-MODIFIED:20230124T073319Z
UID:10000839-1674892800-1674936000@kalendar.dubrovnik.hr
SUMMARY:Sveučilište u Dubrovniku u Noći muzeja: Izložba postera i predavanje „Projekt Bunker”
DESCRIPTION:Odjel za umjetnost i restauraciju Sveučilišta u Dubrovniku u suradnji s Državnim arhivom u Rijeci organizira predavanje i izložbu „Projekt Bunker”\, autorica Ive Gobić Vitolović\, Dorijane Malinarić-Macan i Eme Thür\, djelatnica Državnog arhiva u Rijeci. Organizatorski odbor Sveučilišta: Sanja Serhatlić\, Danijela Jemo i Marijana Lujo. Predstavit će se konzervatorsko-restauratorski radovi provedeni u razdoblju od 2012. do 2022. godine\, koji su uz zahvate na adaptaciji trezorskog prostora obuhvaćali fizičko-tehničku zaštitu cjelokupnog trezorskog gradiva\, te složene konzervatorsko-restauratorske radove na odabranom gradivu trezora kao što su riječke povelje\, povelje Augustinskog samostana u Rijeci i bakropisi s portretima papa i vladara. \nIzložba postera i predavanje „Projekt Bunker” – konzervatorsko-restauratorski radovi provedeni u razdoblju od 2012. do 2022. g.\, koji su uz zahvate na adaptaciji trezorskog prostora obuhvaćali fizičko-tehničku zaštitu cjelokupnog trezorskog gradiva. Događanja će se odvijati u zgradi kampusa Sveučilišta u Dubrovniku i putem zoom platforme uživo.
URL:https://kalendar.dubrovnik.hr/event/sveuciliste-u-dubrovniku-u-noci-muzeja-izlozba-postera-i-predavanje-projekt-bunker/2023-01-28/
LOCATION:Sveučilište u Dubrovniku\, Branitelja Dubrovnika 29\, DUBROVNIK\, Dubrovačko - neretvanska županija\, 20000\, Croatia (Local Name: Hrvatska)
CATEGORIES:Noć knjige,Obilježavanja
ATTACH;FMTTYPE=image/jpeg:https://kalendar.dubrovnik.hr/wp-content/uploads/2023/01/Projekt-Bunker-pozivnica.jpg
GEO:42.643515;18.1020806
X-APPLE-STRUCTURED-LOCATION;VALUE=URI;X-ADDRESS=Sveučilište u Dubrovniku Branitelja Dubrovnika 29 DUBROVNIK Dubrovačko - neretvanska županija 20000 Croatia (Local Name: Hrvatska);X-APPLE-RADIUS=500;X-TITLE=Branitelja Dubrovnika 29:geo:18.1020806,42.643515
END:VEVENT
BEGIN:VEVENT
DTSTART;TZID=Europe/Zagreb:20241102T120000
DTEND;TZID=Europe/Zagreb:20241102T180000
DTSTAMP:20260421T013548
CREATED:20241014T133414Z
LAST-MODIFIED:20241014T133943Z
UID:10005350-1730548800-1730570400@kalendar.dubrovnik.hr
SUMMARY:Glazbeni skup 2024.
DESCRIPTION:
URL:https://kalendar.dubrovnik.hr/event/glazbeni-skup-2024/
LOCATION:Sveučilište u Dubrovniku\, Branitelja Dubrovnika 29\, DUBROVNIK\, Dubrovačko - neretvanska županija\, 20000\, Croatia (Local Name: Hrvatska)
CATEGORIES:Edukativna,Javni razgovor,KULTURA,Predavanja,Radionice
ATTACH;FMTTYPE=image/png:https://kalendar.dubrovnik.hr/wp-content/uploads/2024/10/GlazbeniSkupHorizontal2.11.2024.png
ORGANIZER;CN="AVAL%20udruga":MAILTO:avaludruga@gmail.com
GEO:42.643515;18.1020806
X-APPLE-STRUCTURED-LOCATION;VALUE=URI;X-ADDRESS=Sveučilište u Dubrovniku Branitelja Dubrovnika 29 DUBROVNIK Dubrovačko - neretvanska županija 20000 Croatia (Local Name: Hrvatska);X-APPLE-RADIUS=500;X-TITLE=Branitelja Dubrovnika 29:geo:18.1020806,42.643515
END:VEVENT
END:VCALENDAR