BEGIN:VCALENDAR
VERSION:2.0
PRODID:-//Kalendar događanja Dubrovnika - ECPv6.1.1//NONSGML v1.0//EN
CALSCALE:GREGORIAN
METHOD:PUBLISH
X-WR-CALNAME:Kalendar događanja Dubrovnika
X-ORIGINAL-URL:https://kalendar.dubrovnik.hr
X-WR-CALDESC:Događanja za Kalendar događanja Dubrovnika
REFRESH-INTERVAL;VALUE=DURATION:PT1H
X-Robots-Tag:noindex
X-PUBLISHED-TTL:PT1H
BEGIN:VTIMEZONE
TZID:Europe/Zagreb
BEGIN:DAYLIGHT
TZOFFSETFROM:+0100
TZOFFSETTO:+0200
TZNAME:CEST
DTSTART:20230326T010000
END:DAYLIGHT
BEGIN:STANDARD
TZOFFSETFROM:+0200
TZOFFSETTO:+0100
TZNAME:CET
DTSTART:20231029T010000
END:STANDARD
END:VTIMEZONE
BEGIN:VEVENT
DTSTART;TZID=Europe/Zagreb:20230817T100000
DTEND;TZID=Europe/Zagreb:20230817T203000
DTSTAMP:20260421T005051
CREATED:20230718T075611Z
LAST-MODIFIED:20230808T080509Z
UID:10002974-1692266400-1692304200@kalendar.dubrovnik.hr
SUMMARY:"Knjige pod stablima" u Cavtatu
DESCRIPTION:U organizaciji Dubrovačkih knjižnica u srijedu\, 16. kolovoza i u četvrtak 17. kolovoza 2023. u Mokošici i Cavtatu velike i male Dubrovačke očekuje još jedno cjelodnevno druženje “Knjige pod stablima”. Program obuhvaća aktivnosti za djecu i odrasle.  \nU četvrtak\, 17. kolovoza cavtatske “Knjige pod stablima” započet će u 10 sati na Trgu Franja Tuđmana s predstavljanjem slikovnica iz ciklusa “Vremenaste priče” autora Zorana Vakule\, dok će u 11 sati knjižničarka Lucijana Mihaljek održati kreativnu radionicu za djecu.  Tijekom dana\, od 12 do 18 sati posjetitelji su pozvani na druženje i čitanje u hladu gdje će moći kao i u Mokošici\, izabrati ponuđene rabljene knjige. U 18 sati\, uz Anu Vuličević\, učiteljicu iz Helen Doron škole Dubrovnik\, najmlađi će imati priliku kroz interaktivnu priču učiti i vježbati engleski jezik. Za kraj programa u Cavtatu\, s početkom u 19:30\,  Davor Novevski će uz podršku moderatorice Mariele Marković i urednika Davora Deranje\, predstaviti svoj novi roman “Vrtoglavica”.  \nProgram se održava uz potporu Grada Dubrovnika\, Dubrovačko-neretvanske županije\, Općine Konavle i Ministarstva kulture i medija Republike Hrvatske\, a provodi se s ciljem promoviranja i poticanja čitanja.
URL:https://kalendar.dubrovnik.hr/event/knjige-pod-stablima-u-cavtatu/
LOCATION:Trg Franja Tuđmana\, Cavtat\, Trg franje tuđmana bb\, Cavtat\, Dubrovačko - neretvanska županija\, 20210\, Hrvatska
CATEGORIES:Edukativna,KULTURA,Predavanja,Predstavljanje knjige,Radionice
ATTACH;FMTTYPE=image/png:https://kalendar.dubrovnik.hr/wp-content/uploads/2023/07/Knjige_pod_stablima_Cavtat.png
ORGANIZER;CN="Dubrova%C4%8Dke%20knji%C5%BEnice":MAILTO:press.dkd@gmail.com
GEO:42.5812683;18.2175941
X-APPLE-STRUCTURED-LOCATION;VALUE=URI;X-ADDRESS=Trg Franja Tuđmana Cavtat Trg franje tuđmana bb Cavtat Dubrovačko - neretvanska županija 20210 Hrvatska;X-APPLE-RADIUS=500;X-TITLE=Trg franje tuđmana bb:geo:18.2175941,42.5812683
END:VEVENT
END:VCALENDAR