BEGIN:VCALENDAR
VERSION:2.0
PRODID:-//Kalendar događanja Dubrovnika - ECPv6.1.1//NONSGML v1.0//EN
CALSCALE:GREGORIAN
METHOD:PUBLISH
X-ORIGINAL-URL:https://kalendar.dubrovnik.hr
X-WR-CALDESC:Događanja za Kalendar događanja Dubrovnika
REFRESH-INTERVAL;VALUE=DURATION:PT1H
X-Robots-Tag:noindex
X-PUBLISHED-TTL:PT1H
BEGIN:VTIMEZONE
TZID:Europe/Zagreb
BEGIN:DAYLIGHT
TZOFFSETFROM:+0100
TZOFFSETTO:+0200
TZNAME:CEST
DTSTART:20250330T010000
END:DAYLIGHT
BEGIN:STANDARD
TZOFFSETFROM:+0200
TZOFFSETTO:+0100
TZNAME:CET
DTSTART:20251026T010000
END:STANDARD
END:VTIMEZONE
BEGIN:VEVENT
DTSTART;VALUE=DATE:20251002
DTEND;VALUE=DATE:20251005
DTSTAMP:20260424T194811
CREATED:20250924T145819Z
LAST-MODIFIED:20250929T064718Z
UID:10008210-1759363200-1759622399@kalendar.dubrovnik.hr
SUMMARY:Književno-kulturni festival GRAD OD RIJEČI
DESCRIPTION:Grad od riječi 2025 – plakat B1Povodom 70. obljetnice izlaženja časopisa Dubrovnik\, dubrovački ogranak Matice hrvatske s ponosom organizira drugo izdanje književno-kulturnog festivala Grad od riječi\, koji će se održati od 2. do 4. listopada u prostorijama TUP-a u Gružu. \nFestival će okupiti brojne ogranke Matice hrvatske iz cijele zemlje\, kao i suradnike iz lokalnih kulturnih i obrazovnih institucija. Program je bogat i raznolik – posvećen knjizi\, jeziku\, kulturi i baštini – te donosi niz događanja za sve generacije. \nTematski panel: Četvrtak\, 2. listopada u 18 sati Panel o nakladništvu i baštinskoj vrijednosti pisane riječi okuplja Slavicu Stojan\, Paulu Raguž\, Minelu Fuluriju Vučić i Irenu Ipšić. \nSvečano otvorenje: Četvrtak\, 2. listopada u 19 sati Uz glazbeni program\, prigodna obraćanja i dodjelu zahvalnica dugogodišnjim suradnicima časopisa\, okupljenima će se obratiti predsjednik Matice hrvatske Damir Zorić. U sklopu svečanosti bit će predstavljena nova ilustrirana knjiga Marin Držić u dvanaest priča autorice Slavice Stojan\, uz sudjelovanje ilustratora Joška Marušića. \nKulturni program: Petak i subota\, 3. i 4. listopada Posjetitelje očekuju radionice\, književne večeri\, izložbe\, promocije knjiga i susreti s autorima. Festival donosi prostor za dijalog\, stvaralaštvo i zajedničko slavljenje riječi. \nDetaljan program \nCjelokupni raspored događanja dostupan je niže u programu festivala. Svaki dan donosi nove susrete\, inspiracije i prilike za povezivanje kroz književnost i kulturu. \nFestival Grad od riječi nastavlja se razvijati kao značajan kulturni događaj koji promiče vrijednost pisane riječi\, književne baštine i stvaralaštva. Ovogodišnje izdanje dodatno naglašava važnu obljetnicu časopisa koji već sedam desetljeća bilježi\, njeguje i promiče dubrovačku i hrvatsku književnost. \nVidimo se u Dubrovniku – u Gradu od riječi! \n 
URL:https://kalendar.dubrovnik.hr/event/knjizevno-kulturni-festival-grad-od-rijeci/
LOCATION:TUP\, Sv. Križa 3\, DUBROVNIK\, Dubrovačko - neretvanska županija\, 20000\, Hrvatska
CATEGORIES:Festivali,Javni razgovor,KULTURA,Obilježavanja,OSTALO,performans / prezentacija,sajam rukotvorina
ATTACH;FMTTYPE=image/jpeg:https://kalendar.dubrovnik.hr/wp-content/uploads/2025/09/Snimka-zaslona-2025-09-24-165707.jpg
ORGANIZER;CN="Ogranak%20Matice%20hrvatske%20u%20Dubrovniku":MAILTO:mhdubrovnik@optinet.hr
GEO:42.6594928;18.0869592
X-APPLE-STRUCTURED-LOCATION;VALUE=URI;X-ADDRESS=TUP Sv. Križa 3 DUBROVNIK Dubrovačko - neretvanska županija 20000 Hrvatska;X-APPLE-RADIUS=500;X-TITLE=Sv. Križa 3:geo:18.0869592,42.6594928
END:VEVENT
END:VCALENDAR