BEGIN:VCALENDAR
VERSION:2.0
PRODID:-//Kalendar događanja Dubrovnika - ECPv6.1.1//NONSGML v1.0//EN
CALSCALE:GREGORIAN
METHOD:PUBLISH
X-WR-CALNAME:Kalendar događanja Dubrovnika
X-ORIGINAL-URL:https://kalendar.dubrovnik.hr
X-WR-CALDESC:Događanja za Kalendar događanja Dubrovnika
REFRESH-INTERVAL;VALUE=DURATION:PT1H
X-Robots-Tag:noindex
X-PUBLISHED-TTL:PT1H
BEGIN:VTIMEZONE
TZID:Europe/Zagreb
BEGIN:DAYLIGHT
TZOFFSETFROM:+0100
TZOFFSETTO:+0200
TZNAME:CEST
DTSTART:20230326T010000
END:DAYLIGHT
BEGIN:STANDARD
TZOFFSETFROM:+0200
TZOFFSETTO:+0100
TZNAME:CET
DTSTART:20231029T010000
END:STANDARD
BEGIN:DAYLIGHT
TZOFFSETFROM:+0100
TZOFFSETTO:+0200
TZNAME:CEST
DTSTART:20240331T010000
END:DAYLIGHT
BEGIN:STANDARD
TZOFFSETFROM:+0200
TZOFFSETTO:+0100
TZNAME:CET
DTSTART:20241027T010000
END:STANDARD
BEGIN:DAYLIGHT
TZOFFSETFROM:+0100
TZOFFSETTO:+0200
TZNAME:CEST
DTSTART:20250330T010000
END:DAYLIGHT
BEGIN:STANDARD
TZOFFSETFROM:+0200
TZOFFSETTO:+0100
TZNAME:CET
DTSTART:20251026T010000
END:STANDARD
END:VTIMEZONE
BEGIN:VEVENT
DTSTART;TZID=Europe/Zagreb:20241107T160000
DTEND;TZID=Europe/Zagreb:20241107T160000
DTSTAMP:20260421T024837
CREATED:20241104T143201Z
LAST-MODIFIED:20241104T143448Z
UID:10005380-1730995200-1730995200@kalendar.dubrovnik.hr
SUMMARY:Multimedijalna instalacija Nives Sertić\, Pejzaži: Trilogija pogleda\, treći dio
DESCRIPTION:Art radionica Lazareti poziva vas na Tvrđavu Bokar u četvrtak 07. studenog u 16 sati\,na otvorenje multimedijalne instalacije Nives SertićPEJZAŽI: TRILOGIJA POGLEDA\, TREĆI DIO.\n\nMultimedijalnom prostornom instalacijom\, Nives Sertić poziva promatrača na potpuno uranjanje u prirodu – ovaj put u završnoj “trilogiji pogleda” nakon srodnih izložbi u Splitu i Osijeku. Videozapisi projicirani na platna velikih dimenzija unutar kamene opne dubrovačke tvrđave bilježe životvornost i fluidnost vode\, ono što je fragilno i nestalno\, netjelesno\, a istodobno neprocjenjivo i dragocjeno. Izložba pejzaža u Dubrovniku\, rodnom i na neki način ishodišnom mjestu za poetiku umjetnice nije\, kako bi se u prvi mah očekivalo\, posvećena moru i morskim vizurama\, umjesto beskraja plavila\, umjetnica odabire prostorno izmaknutu i\, u suvremenoj umjetnosti\, manje eksploatiranu zelenu oazu izvora rijeke Omble.\nUmjetnica provodi pažljivo osmišljen postav video zapisa\, svojevrsnu radikalnu koreografiju kojom usmjerava gibanja promatrača\, intenzitet pogleda\, ali i taktilne i slušne senzacije. (…) Premda prizori svojom jednostavnošću odaju dojam kao da su se ponudili autorici i sretnim slučajem njene prisutnosti ostali zabilježeni\, riječ je zapravo o dugotrajnom procesu\, o “fokusiranom promatranju” koje autorica često ističe kao polaznu točku svog radnog procesa i svog pristupa pejzažu. (…) Pogled u preostale prirodne oaze\, u ovom slučaju pogled prema izvoru\, koji i fizički signalizira uranjanje u iskonski element vode\, istodobno je prepoznavanje ljepote i suočavanje s njezinom krhkošću i latentnom mogućnošću uništenja u svijetu u kojem vladaju nasilje\, pohlepa i potpuno izokrenute vrijednosti.\n[iz teksta Rozane Vojvoda]\n\nAutorica zapisuje: Treći i završni dio Trilogije uranja nas u temu vode i izvora kroz vizualno poetične i transične kadrove snimljene na izvoru Omble. Promišljajući koliko su okolna ‘tekuća brda’ puna pitke vode previđen element u priči ovog prostora\, dok su zapravo najbitnija komponenta koja mu je dala osnovu za razvoj gospodarstva\, lagodnog života\, a time i visoke kulture življenja. Danas je\, u doba vrlo destruktivnih vizija odnosa prema ovakvim lokacijama kod nas\, ali i vodenim resursima na svijetu općenito\, više nego bitno osvijestiti da bez vode ne samo da nema razvoja\, nego ni samog života. Od misli o mitskoj Arkadiji pa sve do prostora Ariona\, ova instalacija je posveta tim izvorima\, ali i vodi općenito\, njenom neprekidnom kretanju\, toku\, ali i cjelokupnom životu kao transu. Referirajući se također na rano-renesansni dubrovački vodovod\, koji je\, ne samo tehnički genijalan\, nego ga i u umjetničkom smislu možemo čitati kao kinetičku skulpturu\, a koja opet završava na drugom remek-djelu — Onofrijeveoj česmi — koja je\, osim što je vrhunski umjetnički pothvat\, također utjelovljenje vrhunca humanističkog načina razmišljanja i afirmativnog suživota čovjeka sa svojim okolišem.\nSpokoj prirode\, otvoren je za svakoga; markira se. Prema W.J.T. Mitchellu pejzaž je medij razmijene između čovjeka i prirode\, odnosno\, subjekta i drugoga. Izražava potencijalne bezgranične vrijednosti razmijene ljudskog i prirodnog. Pejzaž je istovremeno prisutni prostor i prikazani prostor\, označitelj i označeno prikazivanja prirode\, odnosno\, okvir i ono što okvir obuhvaća pogledom\, osjećajima i razumom. Snimak ponekad gubi izrazitu jasnoću koja išezava i kojom se Sertić vraća. …suština je dakle jedno postojeće ništa\, odnosno jedno jest koje ne može biti fiksirano\, ali može biti označeno.\nUmjetnica radi radove koji svjedoče bitnost prisutnosti prvobitnog i elementarnog u doba koje trpi strahote i razne ugroženosti diljem planete. Vode se užasni ratovi\, dominira ekološka katastrofa\, klimatske promijene i dr. Suptilnost video zapisa je ono što je neophodno u ljudskom biću da bi sačuvalo mir u sebi i svijetu. Pejzaž treba biti povezan čvrsto sa čovjekom koji ga poštuje radi nužnog humanog opstanka. On svojim plemenitim djelovanjem i istinskim prisustvom u njemu postiže suštinsko bivstvovanje. Vidi se promišljenost razuma\, dubina osjećajnosti i duševna osjetilnost u radu Nives Sertić koja markira istinu u njezinoj iskonskoj egzistenciji.\n[iz teksta Petre Golušić]\n\n\nInstalacija na Bokaru može se posjetiti od 07. do 14. studenog od 15 do 19 sati.\n\nNives SertićPEJZAŽI: TRILOGIJA POGLEDA\, TREĆI DIOTvrđava Bokar07. – 14. 11. 2024.Radno vrijeme: 15 – 19 h\n\nTekst: Petra Golušić\, Rozana VojvodaPostav: Nives SertićTehnički postav: Marko Mijatović\, Nikša VukosavićDizajn: Petra Milički\, ParatekstProdukcija i organizacija: Art radionica Lazareti 2024.Izložba je realizirana u sklopu programa Druga mjesta i 35 godina ARL.Zahvaljujemo Društvu prijatelja dubrovačke starine na podršci i omogućavanju realizacije ovog umjetničkog projekta.\n\nRelizaciju omogućili Ministarstvo kulture i medija RH\, Grad Dubrovnik\, Dubrovačke ljetne igre\, Društvo prijatelja dubrovačke starine. Rad ARL podržava Zaklada Kultura nova.\nKontakt ARLa: Frana Supila 8\, Dubrovnike: arl@arl.hrt: 020-324-633fb: @ARL.Dbkig: @arlduw: arl.hr\nKontakt Nives Sertićw: https://nivessertic.come: nives.sertic@gmail.comfb: @nives.sertic.9ig: @n__ves
URL:https://kalendar.dubrovnik.hr/event/multimedijalna-instlacija-nives-sertic-pejzazi-trilogija-pogleda-treci-dio/
LOCATION:Tvrđava Bokar\, Pile gate\, DUBROVNIK\, Dubrovačko - neretvanska županija\, 20000\, Hrvatska
CATEGORIES:Baština,Izložbe,KULTURA,Suvremene umjetničke prakse
ATTACH;FMTTYPE=image/jpeg:https://kalendar.dubrovnik.hr/wp-content/uploads/2024/11/pejzazi-trilogija-pogleda-treci-dio.jpg
ORGANIZER;CN="Art%20radionica%20Lazareti":MAILTO:arl@du.t-com.hr
GEO:42.6586378;18.1013637
X-APPLE-STRUCTURED-LOCATION;VALUE=URI;X-ADDRESS=Tvrđava Bokar Pile gate DUBROVNIK Dubrovačko - neretvanska županija 20000 Hrvatska;X-APPLE-RADIUS=500;X-TITLE=Pile gate:geo:18.1013637,42.6586378
END:VEVENT
BEGIN:VEVENT
DTSTART;TZID=Europe/Zagreb:20230813T213000
DTEND;TZID=Europe/Zagreb:20230813T230000
DTSTAMP:20260421T024837
CREATED:20230327T072114Z
LAST-MODIFIED:20230327T072114Z
UID:10001081-1691962200-1691967600@kalendar.dubrovnik.hr
SUMMARY:Premijera | Maske
DESCRIPTION:Dubrovačke ljetne igre u koprodukciji s Umjetničkom organizacijom Grupa \nmonodrama\nRedatelj i glumac: Dražen Šivak \n  \nFotografija (c) Marko Ercegović
URL:https://kalendar.dubrovnik.hr/event/premijera-maske/2023-08-13/
LOCATION:Tvrđava Bokar\, Pile gate\, DUBROVNIK\, Dubrovačko - neretvanska županija\, 20000\, Hrvatska
CATEGORIES:Kazalište,KULTURA
ATTACH;FMTTYPE=image/jpeg:https://kalendar.dubrovnik.hr/wp-content/uploads/2023/03/16-Drazen-Sivak-c-Marko-Ercegovic.jpg
GEO:42.6586378;18.1013637
X-APPLE-STRUCTURED-LOCATION;VALUE=URI;X-ADDRESS=Tvrđava Bokar Pile gate DUBROVNIK Dubrovačko - neretvanska županija 20000 Hrvatska;X-APPLE-RADIUS=500;X-TITLE=Pile gate:geo:18.1013637,42.6586378
END:VEVENT
BEGIN:VEVENT
DTSTART;TZID=Europe/Zagreb:20250709T213000
DTEND;TZID=Europe/Zagreb:20250709T230000
DTSTAMP:20260421T024837
CREATED:20260226T082344Z
LAST-MODIFIED:20260226T082505Z
UID:10008919-1752096600-1752102000@kalendar.dubrovnik.hr
SUMMARY:Libertas Bells\, otvorenje izložbe Dubravke Lošić
DESCRIPTION:HR  \nOtvorenje izložbe \nDUBRAVKA LOŠIĆ: LIBERTAS BELLS \nTvrđava Bokar \n  \n“U svom svijetu razigrane mašte\, Dubravka Lošić uvijek razlikuje iluziju od stvarnosti\, ispituje i razgrađuje vlastita iskustva unoseći nove elemente i smisao koji je mnogoznačan\, slojevit i bogat. I ovom izložbom\, kao i mnogima do sada\, dodiruje svijet koji je okružuje novo-starim materijalima.” \nAndrija Seifried \n— \nDUBRAVKA LOŠIĆ rođena je 1964. godine u Dubrovniku. Diplomirala je slikarstvo 1988. godine na Akademiji likovnih umjetnosti u Zagrebu u klasi profesora Ferdinanda Kulmera. Paralelno je studirala povijest umjetnosti na Filozofskom fakultetu Sveučilišta u Zagrebu. Izlaže od 1983. godine na samostalnim i skupnim izložbama u Hrvatskoj i inozemstvu. Uz slikarstvo\, instalacije i objekte\, bavi se scenografijom i kostimografijom. \n  \nENG \nExhibition Opening \nDUBRAVKA LOŠIĆ: LIBERTAS BELLS \nBokar Fortress \n  \n“In her world of playful imagination\, Dubravka Losic always distinguishes illusion from reality\, examines and deconstructs her own experiences\, introducing new elements and meaning that is multifaceted\, layered and rich.” \nAndrija Seifried \nDUBRAVKA LOŠIĆ was born in Dubrovnik on August 15th\, 1964. She attended the School of Applied Arts in Zagreb. In parallel\, she studied art history at the Faculty of Humanities and Social Sciences in Zagreb. She has continuously exhibited in Croatia and abroad since 1983\, participating in over 50 solo and more than 100 group exhibitions. In addition to painting\, installations and objects\, she also works in set and costume design.
URL:https://kalendar.dubrovnik.hr/event/libertas-bells-otvorenje-izlozbe-dubravke-losic/
LOCATION:Tvrđava Bokar\, Pile gate\, DUBROVNIK\, Dubrovačko - neretvanska županija\, 20000\, Hrvatska
CATEGORIES:Izložbe
ATTACH;FMTTYPE=image/png:https://kalendar.dubrovnik.hr/wp-content/uploads/2026/02/image001.png
ORGANIZER;CN="Dru%C5%A1tvo%20prijatelja%20dubrova%C4%8Dke%20starine":MAILTO:info@citywallsdubrovnik.hr
GEO:42.6586378;18.1013637
X-APPLE-STRUCTURED-LOCATION;VALUE=URI;X-ADDRESS=Tvrđava Bokar Pile gate DUBROVNIK Dubrovačko - neretvanska županija 20000 Hrvatska;X-APPLE-RADIUS=500;X-TITLE=Pile gate:geo:18.1013637,42.6586378
END:VEVENT
END:VCALENDAR