BEGIN:VCALENDAR
VERSION:2.0
PRODID:-//Kalendar događanja Dubrovnika - ECPv6.1.1//NONSGML v1.0//EN
CALSCALE:GREGORIAN
METHOD:PUBLISH
X-ORIGINAL-URL:https://kalendar.dubrovnik.hr
X-WR-CALDESC:Događanja za Kalendar događanja Dubrovnika
REFRESH-INTERVAL;VALUE=DURATION:PT1H
X-Robots-Tag:noindex
X-PUBLISHED-TTL:PT1H
BEGIN:VTIMEZONE
TZID:Europe/Zagreb
BEGIN:DAYLIGHT
TZOFFSETFROM:+0100
TZOFFSETTO:+0200
TZNAME:CEST
DTSTART:20230326T010000
END:DAYLIGHT
BEGIN:STANDARD
TZOFFSETFROM:+0200
TZOFFSETTO:+0100
TZNAME:CET
DTSTART:20231029T010000
END:STANDARD
BEGIN:DAYLIGHT
TZOFFSETFROM:+0100
TZOFFSETTO:+0200
TZNAME:CEST
DTSTART:20240331T010000
END:DAYLIGHT
BEGIN:STANDARD
TZOFFSETFROM:+0200
TZOFFSETTO:+0100
TZNAME:CET
DTSTART:20241027T010000
END:STANDARD
TZID:Europe/Paris
BEGIN:DAYLIGHT
TZOFFSETFROM:+0100
TZOFFSETTO:+0200
TZNAME:CEST
DTSTART:20210328T010000
END:DAYLIGHT
BEGIN:STANDARD
TZOFFSETFROM:+0200
TZOFFSETTO:+0100
TZNAME:CET
DTSTART:20211031T010000
END:STANDARD
END:VTIMEZONE
BEGIN:VEVENT
DTSTART;TZID=Europe/Zagreb:20231222T200000
DTEND;TZID=Europe/Zagreb:20231222T220000
DTSTAMP:20260420T195354
CREATED:20231018T091052Z
LAST-MODIFIED:20231018T091103Z
UID:10003235-1703275200-1703282400@kalendar.dubrovnik.hr
SUMMARY:Dubrovački božićni koncert
DESCRIPTION:
URL:https://kalendar.dubrovnik.hr/event/dubrovacki-bozicni-koncert-2/
LOCATION:Valamar Lacroma Dubrovnik\, Ul. Iva Dulčića 34\, DUBROVNIK\, Dubrovačko - neretvanska županija\, 20000\, Croatia (Local Name: Hrvatska)
CATEGORIES:Festivali,Zimski festival
ATTACH;FMTTYPE=image/jpeg:https://kalendar.dubrovnik.hr/wp-content/uploads/2023/10/380586209_1049096966306108_1405927733991110327_n.jpg
ORGANIZER;CN="Grad%20Dubrovnik":MAILTO:mkaticic@dubrovnik.hr
GEO:42.6601384;18.0624203
X-APPLE-STRUCTURED-LOCATION;VALUE=URI;X-ADDRESS=Valamar Lacroma Dubrovnik Ul. Iva Dulčića 34 DUBROVNIK Dubrovačko - neretvanska županija 20000 Croatia (Local Name: Hrvatska);X-APPLE-RADIUS=500;X-TITLE=Ul. Iva Dulčića 34:geo:18.0624203,42.6601384
END:VEVENT
BEGIN:VEVENT
DTSTART;VALUE=DATE:20240324
DTEND;VALUE=DATE:20240325
DTSTAMP:20260420T195354
CREATED:20240422T082308Z
LAST-MODIFIED:20240422T082345Z
UID:10004643-1711267200-1711317600@kalendar.dubrovnik.hr
SUMMARY:WADF Svjetsko plesno prvenstvo u artističkim plesovima
DESCRIPTION:U hotelu Valamar Lacroma u Dubrovniku država se WADF (World Artistic Dance Federation) – svjetsko plesno prvenstvo u artističkim plesovima te plesni festival Dubrovnik Ekstravaganza u organizaciji agencije DALMATIA AETERNA doo. Manifestacija se održava uz potporu Grada Dubrovnika\, Turističke zajednice grada Dubrovnika\, Turističe zajednice Dubrovačko-neretvanske županije i Valamar grupacije. \nSlužbeni dio natjecanja započinje 23.3.2024. u 18:00 sati te će se na samom početku prvenstva svim sudionicima i gostima obratit gdin Nils Hakan Carlzon kao predsjednik plesne federacije WADF. Tom prigodom natjecatelje i goste će pozdraviti zamjenica Gradonačelnika gđa Jelka Tepšić. Prije službenog početka natjecanja nastupit će KUD Marko Marojica i Mažoretkinje iz Župe dubrovačke. \nMeđunarodni sudački panel sačinjavaju eminentni domaći i međunarodni plesni stručnjaci na čelu sa hrvatskim plesnim pedagogom g. Markom Cibocijem koji je kreativni direktor cijele manifestacije: “S velikim veseljem isčekujem rasplesani vikend u Dubrovniku. Uvijek mi je velika čast i radost biti dio pozitivne energije povezane sa plesom\, WADF Svjetsko Prvensto u Stage Dance plesnim disciplinama te Dubrovnik Dance Extravaganza Plesni Festival SU zasigurno jedna pozitivna stvar kako za kulturu\, tako i za djecu i mladež. Veselim se ocjenjivati plesne izvedne te biti dio odlične organizacije. Još jednom veliko hvala glavnom organizatoru\, Jeleni Mrčeli na pozivu”. \nU dvodnevnom plesnom programu sudjelovat će plesači iz 11 zemalja koji će se natjecati u različitim dobnim skupinama i plesnim kategorijama a od dubrovačkih klubova nastupit će plesači iz Plesnog studia Lazareti\, Step ‘N Jazz\, Dance studio 3V. \nPojedinci i grupe ponosno će predstavljati svoju zemlju i podržati kulturnu raznolikost te
URL:https://kalendar.dubrovnik.hr/event/wadf-svjetsko-plesno-prvenstvo-u-artistickim-plesovima/2024-03-24/
LOCATION:Valamar Lacroma Dubrovnik\, Ul. Iva Dulčića 34\, DUBROVNIK\, Dubrovačko - neretvanska županija\, 20000\, Croatia (Local Name: Hrvatska)
CATEGORIES:Ostala glazbeno-scenska,Suvremene umjetničke prakse
ATTACH;FMTTYPE=image/png:https://kalendar.dubrovnik.hr/wp-content/uploads/2024/04/Snimka-zaslona-2024-04-22-101525.png
ORGANIZER;CN="Dalmatia%20Aeterna":MAILTO:jelena@dalmatiaaeterna.hr
GEO:42.6601384;18.0624203
X-APPLE-STRUCTURED-LOCATION;VALUE=URI;X-ADDRESS=Valamar Lacroma Dubrovnik Ul. Iva Dulčića 34 DUBROVNIK Dubrovačko - neretvanska županija 20000 Croatia (Local Name: Hrvatska);X-APPLE-RADIUS=500;X-TITLE=Ul. Iva Dulčića 34:geo:18.0624203,42.6601384
END:VEVENT
BEGIN:VEVENT
DTSTART;TZID=Europe/Paris:20211228T200000
DTEND;TZID=Europe/Paris:20211228T220000
DTSTAMP:20260420T195354
CREATED:20220715T220000Z
LAST-MODIFIED:20220715T220000Z
UID:10000346-1640721600-1640728800@kalendar.dubrovnik.hr
SUMMARY:Humanitarni koncert za Covid odjel Opće bolnice Dubrovnik
DESCRIPTION:Humanitarni koncert za Covid odjel Opće bolnice Dubrovnik održat će se u utorak.28. prosinca u 20 sati u Valamar Lacroma Dubrovnik Hotelu\, a nastupit će glazbena diva Tereza Kesovija\, klapa Ragusa i Ženska klapa FA Linđo uz pratnju Dubrovačkog simfonijskog orkestra pod ravnanjem dirigenta Ivana Huta. \nBlagdani su vrijeme zajedništva\, ljubavi i razumijevanja\, a u ovoj teškoj situaciji epidemije koronavirusa\, sudjelovanjem na koncertu svi zajedno ćemo\, na simboličan način\, pomoći medicinskom osoblju u daljnjem radu\, budući je sav prihod od koncerta namijenjen Covid odjelu OB Dubrovnik. \nPrekrasan glazbeni repertoar činit će uvijek rado pjevane božićne pjesme\, tradicijski božićni napjevi te svima znane skladbe koje slave Grad. \nUlaznice po cijeni od 70 kuna mogu se kupiti online putem sustava ulaznice.hr\, u Festivalskoj palači danas\, 27. prosinca u jutarnjim satima od 9 do 13 sati te poslijepodne od 18 do 21 sat\, kao i na ulazu dva sata prije početka koncerta\, a prisustvovanje koncertu moguće je jedino uz valjanu EU digitalnu COVID potvrdu. \nKoncert se ostvaruje u suradnji Dubrovačkih ljetnih igara\, Grada Dubrovnika\, Turističke zajednice grada Dubrovnika\, Dubrovačkog simfonijskog orkestra te grupacije Valamar.
URL:https://kalendar.dubrovnik.hr/event/humanitarni-koncert-za-covid-odjel-opce-bolnice-dubrovnik/
LOCATION:Valamar Lacroma Dubrovnik\, Ul. Iva Dulčića 34\, DUBROVNIK\, Dubrovačko - neretvanska županija\, 20000\, Croatia (Local Name: Hrvatska)
ATTACH;FMTTYPE=image/jpeg:https://kalendar.dubrovnik.hr/wp-content/uploads/2022/07/269741797_4749856171801672_701823555307512791_n.jpg
ORGANIZER;CN="Grad%20Dubrovnik":MAILTO:mkaticic@dubrovnik.hr
GEO:42.6601384;18.0624203
X-APPLE-STRUCTURED-LOCATION;VALUE=URI;X-ADDRESS=Valamar Lacroma Dubrovnik Ul. Iva Dulčića 34 DUBROVNIK Dubrovačko - neretvanska županija 20000 Croatia (Local Name: Hrvatska);X-APPLE-RADIUS=500;X-TITLE=Ul. Iva Dulčića 34:geo:18.0624203,42.6601384
END:VEVENT
END:VCALENDAR