BEGIN:VCALENDAR
VERSION:2.0
PRODID:-//Kalendar događanja Dubrovnika - ECPv6.1.1//NONSGML v1.0//EN
CALSCALE:GREGORIAN
METHOD:PUBLISH
X-ORIGINAL-URL:https://kalendar.dubrovnik.hr
X-WR-CALDESC:Događanja za Kalendar događanja Dubrovnika
REFRESH-INTERVAL;VALUE=DURATION:PT1H
X-Robots-Tag:noindex
X-PUBLISHED-TTL:PT1H
BEGIN:VTIMEZONE
TZID:Europe/Zagreb
BEGIN:DAYLIGHT
TZOFFSETFROM:+0100
TZOFFSETTO:+0200
TZNAME:CEST
DTSTART:20230326T010000
END:DAYLIGHT
BEGIN:STANDARD
TZOFFSETFROM:+0200
TZOFFSETTO:+0100
TZNAME:CET
DTSTART:20231029T010000
END:STANDARD
BEGIN:DAYLIGHT
TZOFFSETFROM:+0100
TZOFFSETTO:+0200
TZNAME:CEST
DTSTART:20240331T010000
END:DAYLIGHT
BEGIN:STANDARD
TZOFFSETFROM:+0200
TZOFFSETTO:+0100
TZNAME:CET
DTSTART:20241027T010000
END:STANDARD
BEGIN:DAYLIGHT
TZOFFSETFROM:+0100
TZOFFSETTO:+0200
TZNAME:CEST
DTSTART:20250330T010000
END:DAYLIGHT
BEGIN:STANDARD
TZOFFSETFROM:+0200
TZOFFSETTO:+0100
TZNAME:CET
DTSTART:20251026T010000
END:STANDARD
END:VTIMEZONE
BEGIN:VEVENT
DTSTART;TZID=Europe/Zagreb:20231005T190000
DTEND;TZID=Europe/Zagreb:20231005T210000
DTSTAMP:20260424T225712
CREATED:20231003T081816Z
LAST-MODIFIED:20231003T081818Z
UID:10003209-1696532400-1696539600@kalendar.dubrovnik.hr
SUMMARY:Predstavljanje knjige BEAT: kratki pregled antologijskih pjesama pjesnika Beat generacije u izboru i prijevodu Voja Šindolića
DESCRIPTION:Ovog četvrtka\, 5. listopada s početkom u 19 sati u 3. lađi u Lazaretima Dubrovačka baština i Društvo dubrovačkih pisaca pozivaju na predstavljanje knjige BEAT: kratki pregled antologijskih pjesama pjesnika Beat generacije u izboru i prijevodu Voja Šindolića. \nOsim Voja Šindolića\, u predstavljanju ove zanimljive knjige sudjeluju dubrovački pjesnik i teatrolog Davor Mojaš\, jazz glazbenik Ivan Bonačić na saksofonu i flauti\, te u ime izdavača Boris Njavro. \nKnjigu koja nam nudi vrlo zanimljiv izbor pjesama znanih nam imena Beat pjesnika dizajnirao je i tehnički osmislio Vinko Rožić\, a nakladnik je Društvo dubrovačkih pisaca. \nRadujemo se Vašem dolasku!
URL:https://kalendar.dubrovnik.hr/event/predstavljanje-knjige-beat-kratki-pregled-antologijskih-pjesama-pjesnika-beat-generacije-u-izboru-i-prijevodu-voja-sindolica/
LOCATION:Lazareti\, lađa III\, Dnevni boravak\, Frana Supila 10\, DUBROVNIK\, Dubrovačko - neretvanska županija\, 20000\, Croatia (Local Name: Hrvatska)
CATEGORIES:KULTURA,Predstavljanje knjige
ATTACH;FMTTYPE=image/jpeg:https://kalendar.dubrovnik.hr/wp-content/uploads/2023/10/Naslovna-strana-knjige-BEAT-Drustvo-dubrovackih-pisaca-2023-scaled.jpg
ORGANIZER;CN="Lazareti%20-%20kreativna%20cetvrt%20Dubrovnika":MAILTO:lazareti@dubrovnik.hr
GEO:42.641934;18.1146923
X-APPLE-STRUCTURED-LOCATION;VALUE=URI;X-ADDRESS=Lazareti lađa III Dnevni boravak Frana Supila 10 DUBROVNIK Dubrovačko - neretvanska županija 20000 Croatia (Local Name: Hrvatska);X-APPLE-RADIUS=500;X-TITLE=Frana Supila 10:geo:18.1146923,42.641934
END:VEVENT
BEGIN:VEVENT
DTSTART;TZID=Europe/Zagreb:20231110T190000
DTEND;TZID=Europe/Zagreb:20231110T200000
DTSTAMP:20260424T225712
CREATED:20231026T143117Z
LAST-MODIFIED:20231109T110127Z
UID:10003269-1699642800-1699646400@kalendar.dubrovnik.hr
SUMMARY:Mjesec hrvatske knjige: predstavljanje knjige ''Priča iz pradavnine'' Domagoja Vidovića
DESCRIPTION:U okviru Mjeseca hrvatske knjige\, Društvo dubrovačkih pisaca\, u suradnji s Dubrovačkim knjižnicama\, predstavlja knjigu dr. sc. Domagoja Vidovića Priča iz pradavnine. Predstavljanje će se održati u petak\, 10. studenoga 2023. u 19 sati u Čitaonici Narodne knjižnice Grad (Saloča od zrcala). Uz autora\, na predstavljanju sudjeluju predsjednik Društva Boris Njavro i akademik Luko Paljetak. \nAutor u predgovoru navodi kako knjiga sadržava dužu pripovijetku u formi ‘vrtijeljke’ – priče koja se stalno vraća na svoj početak\, dvije duže pripovijesti u spomen na Itala Calvina\, jedan putopis kroz prostor i vrijeme\, jednu smješnicu i dvije bračarije\, jednu ljubavnu priču te kratak dvodijelni izlet na otok. Naglašava kako je većina cjelina tematski ili ozračjem povezana s dubrovačkim područjem\, a dva su iznimkom\, iako ne potpunom jer je jedna cjelina povezana s Bokom kotorskom koja se s Dubrovnikom stoljećima odmjeravala\, a otočke se uspomene odnose na otok koji je nekoć nosio ime u kojemu se krije grčka riječ élaphos. \nPaljetak pak u pogovoru piše kako ova knjiga Vidovića pokazuje ga kao ‘pre/pričevača drevnih\, i vlastitih\, mitova\, ostvarenih različitim narativnim postupcima i taktikama’. Oni su\, navodi akademik\, ‘i post/modernistični i antički klasični\, vitke rečeničnosti\, učeno združeni s pučkim izričajima u neprestanom\, sizifovski osrećenom naporu odmjeravanja sa svijetom u kojem\, poput Perzefone\, autor rado boravi\, i svijetom gdje je prisiljen boraviti’. \nBoris Njavro će na kraju večeri predstaviti još jednu Vidovićevu knjigu naslova ”Rubrica rediviva” u kojoj se autor bavi hrvatskom jezičnom problematikom\, a knjigu je nedavno objavio Ogranak Matice hrvatske Zadar. \nO autoru: \nDomagoj Vidović rođen je u Metkoviću 1979. Osnovnu je školu pohađao u Metkoviću i Pučišćima na Braču\, a gimnaziju u Metkoviću. Diplomu profesora lingvistike i hrvatskoga jezika i književnosti stekao je 2004. na Filozofskome fakultetu Sveučilišta u Zagrebu. Na istome je fakultetu doktorirao 2011. s temom Antroponimija i toponimija Zažablja. Zaposlen je u Institutu za hrvatski jezik i jezikoslovlje\, u kojemu je voditelj Odjela za onomastiku i etimologiju te metkovske podružnice. Predmetom su njegova užega zanimanja onomastika na rubnim hrvatskim prostorima\, dijalektologija i akcentologija. Objavio je tri samostalne knjige i četiri u suautorstvu te stotinjak znanstvenih radova u različitim časopisima i zbornicima. Za znanstveni je rad primio više nagrada. Književne tekstove ponajprije objavljuje u časopisu Literat. Od 2012. do 2022. uz kraće je prekide pisao jezikoslovnu kolumnu za Hrvatsko slovo\, a od 2022. suradnik je Hrvatskoga tjednika. Zbirka „Priča iz pradavnine“ koju je objavilo Društvo dubrovačkih pisaca u srpnju 2023. njegovo je prvo prozno književno djelo. \n 
URL:https://kalendar.dubrovnik.hr/event/mjesec-hrvatske-knjige-predstavljanje-knjige-prica-iz-pradavnine-domagoja-vidovica/
LOCATION:Dubrovačke knjižnice\, Znanstvena knjižnica\, Ul. Cvijete Zuzorić 4\, DUBROVNIK\, Dubrovačko - neretvanska županija\, 20000\, Croatia (Local Name: Hrvatska)
CATEGORIES:KULTURA,Predstavljanje knjige
ATTACH;FMTTYPE=image/jpeg:https://kalendar.dubrovnik.hr/wp-content/uploads/2023/10/pozivnica-Vidovic.jpg
ORGANIZER;CN="Dru%C5%A1tvo%20dubrova%C4%8Dkih%20pisaca":MAILTO:boris.njavro@du.t-com.hr
GEO:42.6408333;18.1095278
X-APPLE-STRUCTURED-LOCATION;VALUE=URI;X-ADDRESS=Dubrovačke knjižnice Znanstvena knjižnica Ul. Cvijete Zuzorić 4 DUBROVNIK Dubrovačko - neretvanska županija 20000 Croatia (Local Name: Hrvatska);X-APPLE-RADIUS=500;X-TITLE=Znanstvena knjižnica\, Ul. Cvijete Zuzorić 4:geo:18.1095278,42.6408333
END:VEVENT
BEGIN:VEVENT
DTSTART;TZID=Europe/Zagreb:20250613T190000
DTEND;TZID=Europe/Zagreb:20250613T200000
DTSTAMP:20260424T225712
CREATED:20250605T101946Z
LAST-MODIFIED:20250605T102321Z
UID:10007829-1749841200-1749844800@kalendar.dubrovnik.hr
SUMMARY:U izdanju Društva dubrovačkih pisaca Stana Šćapec predstavit će svoju drugu zbirku pjesama "San i val"
DESCRIPTION:U organizaciji Društva dubrovačkih pisaca i Dubrovačkih knjižnica\, u petak\, 13. lipnja 2025. u Saloči od zrcala Narodne knjižnice Grad s početkom u 19 sati\, održat će se promocija zbirke pjesama „San i val“ pjesnikinje Stane Šćapec. \nUz autoricu\, njezine nove pjesme predstavit će autor pogovora dr. sc. Domagoj Vidović\, u ime izdavača zbirke Društva dubrovačkih pisaca Boris Njavro\, a svojom glazbom večer će upotpuniti tenor i kantautor Stijepo Gleđ Markos\, dok će program voditi Nila MIličić Vukosavić. \nPozivaju se svi zaljubljenici u lijepu poeziju da uveličaju predstavljanje nove\, druge zbirke pjesama naše sugrađanke Stane Šćapec. \n  \n 
URL:https://kalendar.dubrovnik.hr/event/u-izdanju-drustva-dubrovackih-pisaca-stane-scapec-predstavit-ce-svoju-drugu-zbirku-pjesama-san-i-val/
LOCATION:Dubrovačke knjižnice\, Znanstvena knjižnica\, Ul. Cvijete Zuzorić 4\, DUBROVNIK\, Dubrovačko - neretvanska županija\, 20000\, Croatia (Local Name: Hrvatska)
CATEGORIES:KULTURA,Predstavljanje knjige
ATTACH;FMTTYPE=image/jpeg:https://kalendar.dubrovnik.hr/wp-content/uploads/2025/06/petak-13.-lipnja-2025.-u-19-sati.jpg
ORGANIZER;CN="Dru%C5%A1tvo%20dubrova%C4%8Dkih%20pisaca":MAILTO:boris.njavro@du.t-com.hr
GEO:42.6408333;18.1095278
X-APPLE-STRUCTURED-LOCATION;VALUE=URI;X-ADDRESS=Dubrovačke knjižnice Znanstvena knjižnica Ul. Cvijete Zuzorić 4 DUBROVNIK Dubrovačko - neretvanska županija 20000 Croatia (Local Name: Hrvatska);X-APPLE-RADIUS=500;X-TITLE=Znanstvena knjižnica\, Ul. Cvijete Zuzorić 4:geo:18.1095278,42.6408333
END:VEVENT
BEGIN:VEVENT
DTSTART;TZID=Europe/Zagreb:20250202T163000
DTEND;TZID=Europe/Zagreb:20250202T173000
DTSTAMP:20260424T225712
CREATED:20250123T124527Z
LAST-MODIFIED:20250123T124528Z
UID:10006048-1738513800-1738517400@kalendar.dubrovnik.hr
SUMMARY:"Mreža ljubavi"\, predstavljanje zbrike pjesama Miha Katičića
DESCRIPTION:Izdavač zbirke je Društvo dubrovačkih pisaca\, a predstavit će je Boris Njavro i Pavo Jančić. Nastupit će Zbor Male braće.
URL:https://kalendar.dubrovnik.hr/event/mreza-ljubavi-predstavljanje-zbrike-pjesama-miha-katicica/
LOCATION:Dvorana Ivana Pavla II\, Dubrovnik\, Croatia (Local Name: Hrvatska)
CATEGORIES:Predstavljanje knjige
ATTACH;FMTTYPE=image/jpeg:https://kalendar.dubrovnik.hr/wp-content/uploads/2025/01/MK-MREZA-LJUBAVI-OMOT-page-001.jpg
ORGANIZER;CN="Dru%C5%A1tvo%20dubrova%C4%8Dkih%20pisaca":MAILTO:boris.njavro@du.t-com.hr
GEO:42.6414178;18.1070562
END:VEVENT
END:VCALENDAR