BEGIN:VCALENDAR
VERSION:2.0
PRODID:-//Kalendar događanja Dubrovnika - ECPv6.1.1//NONSGML v1.0//EN
CALSCALE:GREGORIAN
METHOD:PUBLISH
X-WR-CALNAME:Kalendar događanja Dubrovnika
X-ORIGINAL-URL:https://kalendar.dubrovnik.hr
X-WR-CALDESC:Događanja za Kalendar događanja Dubrovnika
REFRESH-INTERVAL;VALUE=DURATION:PT1H
X-Robots-Tag:noindex
X-PUBLISHED-TTL:PT1H
BEGIN:VTIMEZONE
TZID:Europe/Zagreb
BEGIN:DAYLIGHT
TZOFFSETFROM:+0100
TZOFFSETTO:+0200
TZNAME:CEST
DTSTART:20230326T010000
END:DAYLIGHT
BEGIN:STANDARD
TZOFFSETFROM:+0200
TZOFFSETTO:+0100
TZNAME:CET
DTSTART:20231029T010000
END:STANDARD
BEGIN:DAYLIGHT
TZOFFSETFROM:+0100
TZOFFSETTO:+0200
TZNAME:CEST
DTSTART:20240331T010000
END:DAYLIGHT
BEGIN:STANDARD
TZOFFSETFROM:+0200
TZOFFSETTO:+0100
TZNAME:CET
DTSTART:20241027T010000
END:STANDARD
BEGIN:DAYLIGHT
TZOFFSETFROM:+0100
TZOFFSETTO:+0200
TZNAME:CEST
DTSTART:20250330T010000
END:DAYLIGHT
BEGIN:STANDARD
TZOFFSETFROM:+0200
TZOFFSETTO:+0100
TZNAME:CET
DTSTART:20251026T010000
END:STANDARD
END:VTIMEZONE
BEGIN:VEVENT
DTSTART;TZID=Europe/Zagreb:20231208T180000
DTEND;TZID=Europe/Zagreb:20231208T193000
DTSTAMP:20260419T161443
CREATED:20231205T132248Z
LAST-MODIFIED:20231205T132250Z
UID:10003867-1702058400-1702063800@kalendar.dubrovnik.hr
SUMMARY:Promocija slikovnice ‘Priča o ježu jugašu’ u izdanju DuLista
DESCRIPTION:Pridružite nam se na promociji slikovnice ‘Priča o ježu jugašu’ u izdanju DuLista koja će se održati u petak\, 8. prosinca 2023.\, u sklopu Dubrovačkog zimskog festivala u Lazaretima\, lađa V.\, na adresi Frana Supila 8\, s početkom u 18 sati. \nPriču za najmlađe o najtrofejnijem hrvatskom sportskom kolektivu\, s čak 69 osvojenih trofeja u svojoj povijesti\, napisala je glavna urednica DuLista\, Barbara Đurasović\, a ilustrirala dubrovačka slikarica Iris Lobaš Kukavičić. Punih stotinu godina u kontinuitetu vaterpolisti Juga žive s Gradom i uz Grad te su postali dio identiteta Dubrovnika. \nOvo je DuListov dar klubu i navijačima za Jugov stoti rođendan. \nSvi ste invitani!
URL:https://kalendar.dubrovnik.hr/event/promocija-slikovnice-prica-o-jezu-jugasu-u-izdanju-dulista/
LOCATION:Lazareti\, lađa V\, Frana Supila 10\, DUBROVNIK\, Dubrovačko - neretvanska županija\, 20000\, Croatia (Local Name: Hrvatska)
CATEGORIES:KULTURA,Predstavljanje knjige
ATTACH;FMTTYPE=image/jpeg:https://kalendar.dubrovnik.hr/wp-content/uploads/2023/12/jez-jugas.jpg
ORGANIZER;CN="Dubrova%C4%8Dka%20ba%C5%A1tina%20d.o.o.":MAILTO:zrinka@dubrovackabastina.com
GEO:42.641934;18.1146923
X-APPLE-STRUCTURED-LOCATION;VALUE=URI;X-ADDRESS=Lazareti lađa V Frana Supila 10 DUBROVNIK Dubrovačko - neretvanska županija 20000 Croatia (Local Name: Hrvatska);X-APPLE-RADIUS=500;X-TITLE=Frana Supila 10:geo:18.1146923,42.641934
END:VEVENT
BEGIN:VEVENT
DTSTART;TZID=Europe/Zagreb:20250423T190000
DTEND;TZID=Europe/Zagreb:20250423T203000
DTSTAMP:20260419T161443
CREATED:20250411T130256Z
LAST-MODIFIED:20250411T130316Z
UID:10007223-1745434800-1745440200@kalendar.dubrovnik.hr
SUMMARY:Predstavljanje knjige Pava Jančića "Bez uputa za preživljavanje" u izdanju Du lista
DESCRIPTION:
URL:https://kalendar.dubrovnik.hr/event/predstavljanje-knjige-pava-jancica-bez-uputa-za-prezivljavanje-u-izdanju-du-lista/
LOCATION:Studentski dom Dubrovnik\, Ul. dr. Vladka Mačeka 21\,\, Dubrovnik\, Dubrovnik\, 20000\, Croatia (Local Name: Hrvatska)
CATEGORIES:Predstavljanje knjige
ATTACH;FMTTYPE=image/jpeg:https://kalendar.dubrovnik.hr/wp-content/uploads/2025/04/viber_slika_2025-04-11_14-57-32-219.jpg
ORGANIZER;CN="DuList":MAILTO:info@dulist.hr
GEO:42.6500278;18.084983
X-APPLE-STRUCTURED-LOCATION;VALUE=URI;X-ADDRESS=Studentski dom Dubrovnik Ul. dr. Vladka Mačeka 21 Dubrovnik Dubrovnik 20000 Croatia (Local Name: Hrvatska);X-APPLE-RADIUS=500;X-TITLE=Ul. dr. Vladka Mačeka 21\,:geo:18.084983,42.6500278
END:VEVENT
END:VCALENDAR