BEGIN:VCALENDAR
VERSION:2.0
PRODID:-//Kalendar događanja Dubrovnika - ECPv6.1.1//NONSGML v1.0//EN
CALSCALE:GREGORIAN
METHOD:PUBLISH
X-WR-CALNAME:Kalendar događanja Dubrovnika
X-ORIGINAL-URL:https://kalendar.dubrovnik.hr
X-WR-CALDESC:Događanja za Kalendar događanja Dubrovnika
REFRESH-INTERVAL;VALUE=DURATION:PT1H
X-Robots-Tag:noindex
X-PUBLISHED-TTL:PT1H
BEGIN:VTIMEZONE
TZID:Europe/Paris
BEGIN:DAYLIGHT
TZOFFSETFROM:+0100
TZOFFSETTO:+0200
TZNAME:CEST
DTSTART:20220327T010000
END:DAYLIGHT
BEGIN:STANDARD
TZOFFSETFROM:+0200
TZOFFSETTO:+0100
TZNAME:CET
DTSTART:20221030T010000
END:STANDARD
END:VTIMEZONE
BEGIN:VEVENT
DTSTART;TZID=Europe/Paris:20220827T210000
DTEND;TZID=Europe/Paris:20220827T223000
DTSTAMP:20260424T021015
CREATED:20220824T100011Z
LAST-MODIFIED:20220824T100027Z
UID:10000437-1661634000-1661639400@kalendar.dubrovnik.hr
SUMMARY:ZALAZAK SUNCA  / SUNDOWN
DESCRIPTION:Drama / drama; 82min; MX\,FR\,SE / 2021. ; Režija / Director : Michel Franco \nUl / Stars: Tim Roth\, Albertine Kotting McMillan\, Samuel Bottomley\, Charlotte Gainsbourg
URL:https://kalendar.dubrovnik.hr/event/zalazak-sunca-sundown-2/
LOCATION:Ljetno kino Slavica\, DUBROVNIK\, Dubrovačko - neretvanska županija\, 20000\, Hrvatska
CATEGORIES:FILM
ATTACH;FMTTYPE=image/jpeg:https://kalendar.dubrovnik.hr/wp-content/uploads/2022/08/SUNDOWN.jpg
ORGANIZER;CN="Kinematografi%20Dubrovnik":MAILTO:info@kinematografi.org
GEO:42.6453741;18.0979594
END:VEVENT
BEGIN:VEVENT
DTSTART;TZID=Europe/Paris:20220828T203000
DTEND;TZID=Europe/Paris:20220828T220000
DTSTAMP:20260424T021015
CREATED:20220824T100419Z
LAST-MODIFIED:20220824T100419Z
UID:10000438-1661718600-1661724000@kalendar.dubrovnik.hr
SUMMARY:MALCI 2: KAKO JE GRU POSTAO GRU / MINIONS : THE RISE OF GRU
DESCRIPTION:Animirani / animation; 87min; USA / 2022. \nRežija / Director : Kyle Balda ; Gl / Vo: Rene Bitorajac\, Alen Šalinović\, Mirela Brekalo Popović
URL:https://kalendar.dubrovnik.hr/event/malci-2-kako-je-gru-postao-gru-minions-the-rise-of-gru/
LOCATION:Ljetno kino Jadran\, DUBROVNIK\, Dubrovačko - neretvanska županija\, 20000\, Hrvatska
CATEGORIES:FILM
ATTACH;FMTTYPE=image/jpeg:https://kalendar.dubrovnik.hr/wp-content/uploads/2022/08/MINIONS.jpg
ORGANIZER;CN="Kinematografi%20Dubrovnik":MAILTO:info@kinematografi.org
GEO:42.6410079;18.1072506
END:VEVENT
BEGIN:VEVENT
DTSTART;TZID=Europe/Paris:20220829T203000
DTEND;TZID=Europe/Paris:20220829T223000
DTSTAMP:20260424T021015
CREATED:20220824T100618Z
LAST-MODIFIED:20220824T100618Z
UID:10001476-1661805000-1661812200@kalendar.dubrovnik.hr
SUMMARY:LJETO KADA SAM NAUČILA LETJETI / subtitled in english
DESCRIPTION:Obiteljski\, komedija / family\, comedy; 89min; SRB\,HR\,BG\,SL / 2022 \nRežija / Director : Radivoje Andrić \nUl / Stars: Klara Hrvanović\, Olga Odanović\, Snježana Sinovčić Šiškov\, Ema Kereta Rogić\, Marijana Mićić\, Žarko Laušević\, Luka Bajto\, Benjamín Lacko\, Frano Lasić
URL:https://kalendar.dubrovnik.hr/event/ljeto-kada-sam-naucila-letjeti-subtitled-in-english-4/
LOCATION:Ljetno kino Jadran\, DUBROVNIK\, Dubrovačko - neretvanska županija\, 20000\, Hrvatska
CATEGORIES:FILM
ATTACH;FMTTYPE=image/jpeg:https://kalendar.dubrovnik.hr/wp-content/uploads/2022/08/LJETO.jpg
ORGANIZER;CN="Kinematografi%20Dubrovnik":MAILTO:info@kinematografi.org
GEO:42.6410079;18.1072506
END:VEVENT
BEGIN:VEVENT
DTSTART;TZID=Europe/Paris:20220829T210000
DTEND;TZID=Europe/Paris:20220829T230000
DTSTAMP:20260424T021015
CREATED:20220824T101030Z
LAST-MODIFIED:20220824T101030Z
UID:10001498-1661806800-1661814000@kalendar.dubrovnik.hr
SUMMARY:KINOTEKA POD ZVIJEZDAMA: POSLJEDNJA KINO PREDSTAVA / THE LAST PICTURE SHOW
DESCRIPTION:Drama / drama; 126min; USA / 1971; Režija / Director : Peter Bogdanovich \nUl / Stars: Timothy Bottoms\, Jeff Bridges\, Cybill Shepherd\, Ben Johnson\, Ellen Burstyn
URL:https://kalendar.dubrovnik.hr/event/kinoteka-pod-zvijezdama-posljednja-kino-predstava-the-last-picture-show/
LOCATION:Ljetno kino Slavica\, DUBROVNIK\, Dubrovačko - neretvanska županija\, 20000\, Hrvatska
CATEGORIES:FILM
ATTACH;FMTTYPE=image/jpeg:https://kalendar.dubrovnik.hr/wp-content/uploads/2022/08/POSLJEDNJA-KINO-PREDSTAVA.jpg
ORGANIZER;CN="Kinematografi%20Dubrovnik":MAILTO:info@kinematografi.org
GEO:42.6453741;18.0979594
END:VEVENT
BEGIN:VEVENT
DTSTART;TZID=Europe/Paris:20220830T203000
DTEND;TZID=Europe/Paris:20220830T220000
DTSTAMP:20260424T021015
CREATED:20220824T101403Z
LAST-MODIFIED:20220824T101403Z
UID:10001478-1661891400-1661896800@kalendar.dubrovnik.hr
SUMMARY:MALCI 2: KAKO JE GRU POSTAO GRU / MINIONS : THE RISE OF GRU
DESCRIPTION:Animirani / animation; 87min; USA / 2022. \nRežija / Director : Kyle Balda ; Gl / Vo: Rene Bitorajac\, Alen Šalinović\, Mirela Brekalo Popović
URL:https://kalendar.dubrovnik.hr/event/malci-2-kako-je-gru-postao-gru-minions-the-rise-of-gru-2/
LOCATION:Ljetno kino Slavica\, DUBROVNIK\, Dubrovačko - neretvanska županija\, 20000\, Hrvatska
CATEGORIES:FILM
ATTACH;FMTTYPE=image/jpeg:https://kalendar.dubrovnik.hr/wp-content/uploads/2022/08/MINIONS.jpg
ORGANIZER;CN="Kinematografi%20Dubrovnik":MAILTO:info@kinematografi.org
GEO:42.6453741;18.0979594
END:VEVENT
BEGIN:VEVENT
DTSTART;TZID=Europe/Paris:20220830T203000
DTEND;TZID=Europe/Paris:20220830T223000
DTSTAMP:20260424T021015
CREATED:20220824T101215Z
LAST-MODIFIED:20220824T101215Z
UID:10001500-1661891400-1661898600@kalendar.dubrovnik.hr
SUMMARY:POSLIJE SVEGA: ZAUVIJEK SRETNI / AFTER EVER HAPPY
DESCRIPTION:Ljubavna drama / romance\, drama; 95min; USA / 2022. ; Režija / Director : Castille Landon \nUl / Stars: Josephine Langford\, Hero Fiennes Tiffin\, Kiana Madeira
URL:https://kalendar.dubrovnik.hr/event/poslije-svega-zauvijek-sretni-after-ever-happy-2/
LOCATION:Ljetno kino Jadran\, DUBROVNIK\, Dubrovačko - neretvanska županija\, 20000\, Hrvatska
CATEGORIES:FILM
ATTACH;FMTTYPE=image/jpeg:https://kalendar.dubrovnik.hr/wp-content/uploads/2022/08/POSLIJE-SVEGA.jpg
ORGANIZER;CN="Kinematografi%20Dubrovnik":MAILTO:info@kinematografi.org
GEO:42.6410079;18.1072506
END:VEVENT
BEGIN:VEVENT
DTSTART;TZID=Europe/Paris:20220831T203000
DTEND;TZID=Europe/Paris:20220831T223000
DTSTAMP:20260424T021015
CREATED:20220824T101610Z
LAST-MODIFIED:20220824T101610Z
UID:10001501-1661977800-1661985000@kalendar.dubrovnik.hr
SUMMARY:LJETO KADA SAM NAUČILA LETJETI
DESCRIPTION:Obiteljski\, komedija / family\, comedy; 89min; SRB\,HR\,BG\,SL / 2022 \nRežija / Director : Radivoje Andrić \nUl / Stars: Klara Hrvanović\, Olga Odanović\, Snježana Sinovčić Šiškov\, Ema Kereta Rogić\, Marijana Mićić\, Žarko Laušević\, Luka Bajto\, Benjamín Lacko\, Frano Lasić
URL:https://kalendar.dubrovnik.hr/event/ljeto-kada-sam-naucila-letjeti-2/
LOCATION:Ljetno kino Jadran\, DUBROVNIK\, Dubrovačko - neretvanska županija\, 20000\, Hrvatska
CATEGORIES:FILM
ATTACH;FMTTYPE=image/jpeg:https://kalendar.dubrovnik.hr/wp-content/uploads/2022/08/LJETO.jpg
ORGANIZER;CN="Kinematografi%20Dubrovnik":MAILTO:info@kinematografi.org
GEO:42.6410079;18.1072506
END:VEVENT
BEGIN:VEVENT
DTSTART;TZID=Europe/Paris:20220901T203000
DTEND;TZID=Europe/Paris:20220901T223000
DTSTAMP:20260424T021015
CREATED:20220831T080409Z
LAST-MODIFIED:20220831T080409Z
UID:10001490-1662064200-1662071400@kalendar.dubrovnik.hr
SUMMARY:TRI TISUĆE GODINA ČEŽNJE / Three Thousand Years of Longing
DESCRIPTION:Drama\, fantazija\, romantični/ romance\, drama\, fantasy; 108 min\, USA/2022 \nRežija / Director : George Miller; Ul / Stars: Tilda Swinton\, Idris Elba
URL:https://kalendar.dubrovnik.hr/event/tri-tisuce-godina-ceznje-three-thousand-years-of-longing/
LOCATION:Ljetno kino Jadran\, DUBROVNIK\, Dubrovačko - neretvanska županija\, 20000\, Hrvatska
CATEGORIES:FILM
ATTACH;FMTTYPE=image/jpeg:https://kalendar.dubrovnik.hr/wp-content/uploads/2022/08/Three_Thousand_HR.jpg
ORGANIZER;CN="Kinematografi%20Dubrovnik":MAILTO:info@kinematografi.org
GEO:42.6410079;18.1072506
END:VEVENT
BEGIN:VEVENT
DTSTART;TZID=Europe/Paris:20220901T203000
DTEND;TZID=Europe/Paris:20220901T220000
DTSTAMP:20260424T021015
CREATED:20220831T080631Z
LAST-MODIFIED:20220831T080631Z
UID:10001510-1662064200-1662069600@kalendar.dubrovnik.hr
SUMMARY:VATRENO SRCE / Fireheart
DESCRIPTION:Animirani / animation ; 92 min; FR / 2022. ; Režija / Director : Theodore Ty\, Laurent Zeitoun \nUl / Stars: Zrinka Cvitešić\, Živko Anočić\, Saša Buneta\, Lana Blaće\, Toma Medvešek\, Tin Rožman
URL:https://kalendar.dubrovnik.hr/event/vatreno-srce-fireheart/
LOCATION:Ljetno kino Slavica\, DUBROVNIK\, Dubrovačko - neretvanska županija\, 20000\, Hrvatska
CATEGORIES:FILM
ATTACH;FMTTYPE=image/jpeg:https://kalendar.dubrovnik.hr/wp-content/uploads/2022/08/VATRENO-SRCE.jpg
ORGANIZER;CN="Kinematografi%20Dubrovnik":MAILTO:info@kinematografi.org
GEO:42.6453741;18.0979594
END:VEVENT
BEGIN:VEVENT
DTSTART;TZID=Europe/Paris:20220902T203000
DTEND;TZID=Europe/Paris:20220902T220000
DTSTAMP:20260424T021015
CREATED:20220831T080816Z
LAST-MODIFIED:20220831T080816Z
UID:10001491-1662150600-1662156000@kalendar.dubrovnik.hr
SUMMARY:VATRENO SRCE / Fireheart
DESCRIPTION:Animirani / animation ; 92 min; FR / 2022. ; Režija / Director : Theodore Ty\, Laurent Zeitoun \nUl / Stars: Zrinka Cvitešić\, Živko Anočić\, Saša Buneta\, Lana Blaće\, Toma Medvešek\, Tin Rožman
URL:https://kalendar.dubrovnik.hr/event/vatreno-srce-fireheart-2/
LOCATION:Ljetno kino Jadran\, DUBROVNIK\, Dubrovačko - neretvanska županija\, 20000\, Hrvatska
CATEGORIES:FILM
ATTACH;FMTTYPE=image/jpeg:https://kalendar.dubrovnik.hr/wp-content/uploads/2022/08/VATRENO-SRCE.jpg
ORGANIZER;CN="Kinematografi%20Dubrovnik":MAILTO:info@kinematografi.org
GEO:42.6410079;18.1072506
END:VEVENT
BEGIN:VEVENT
DTSTART;TZID=Europe/Paris:20220902T203000
DTEND;TZID=Europe/Paris:20220902T220000
DTSTAMP:20260424T021015
CREATED:20220831T081013Z
LAST-MODIFIED:20220831T081013Z
UID:10001511-1662150600-1662156000@kalendar.dubrovnik.hr
SUMMARY:MOJ ŽIVOT KAO TIKVICA
DESCRIPTION:Animirani/ animation; 66 min; FR/2016; Režija/Director: Claude Barras \nUl/Stars: Gaspard Schlatter\, Sixtine Murat\, Paulin Jaccoud\, Michel Vuillermoz\, Raul Ribera\, Estelle Hennard\, Elliot Sanchez\, Lou Wick
URL:https://kalendar.dubrovnik.hr/event/moj-zivot-kao-tikvica/
LOCATION:Ljetno kino Slavica\, DUBROVNIK\, Dubrovačko - neretvanska županija\, 20000\, Hrvatska
CATEGORIES:FILM
ATTACH;FMTTYPE=image/jpeg:https://kalendar.dubrovnik.hr/wp-content/uploads/2022/08/MOJ-ZIVOT-KAO-TIKVICA.jpg
ORGANIZER;CN="Kinematografi%20Dubrovnik":MAILTO:info@kinematografi.org
GEO:42.6453741;18.0979594
END:VEVENT
BEGIN:VEVENT
DTSTART;TZID=Europe/Paris:20220903T203000
DTEND;TZID=Europe/Paris:20220903T220000
DTSTAMP:20260424T021015
CREATED:20220831T081354Z
LAST-MODIFIED:20220831T081354Z
UID:10000442-1662237000-1662242400@kalendar.dubrovnik.hr
SUMMARY:VATRENO SRCE / Fireheart
DESCRIPTION:Animirani / animation ; 92 min; FR / 2022. ; Režija / Director : Theodore Ty\, Laurent Zeitoun \nUl / Stars: Zrinka Cvitešić\, Živko Anočić\, Saša Buneta\, Lana Blaće\, Toma Medvešek\, Tin Rožman
URL:https://kalendar.dubrovnik.hr/event/vatreno-srce-fireheart-3/
LOCATION:Ljetno kino Slavica\, DUBROVNIK\, Dubrovačko - neretvanska županija\, 20000\, Hrvatska
CATEGORIES:FILM
ATTACH;FMTTYPE=image/jpeg:https://kalendar.dubrovnik.hr/wp-content/uploads/2022/08/VATRENO-SRCE.jpg
ORGANIZER;CN="Kinematografi%20Dubrovnik":MAILTO:info@kinematografi.org
GEO:42.6453741;18.0979594
END:VEVENT
BEGIN:VEVENT
DTSTART;TZID=Europe/Paris:20220903T203000
DTEND;TZID=Europe/Paris:20220903T223000
DTSTAMP:20260424T021015
CREATED:20220831T081201Z
LAST-MODIFIED:20220831T081201Z
UID:10001513-1662237000-1662244200@kalendar.dubrovnik.hr
SUMMARY:TRI TISUĆE GODINA ČEŽNJE / Three Thousand Years of Longing
DESCRIPTION:Drama\, fantazija\, romantični/ romance\, drama\, fantasy; 108 min\, USA/2022 \nRežija / Director : George Miller; Ul / Stars: Tilda Swinton\, Idris Elba
URL:https://kalendar.dubrovnik.hr/event/tri-tisuce-godina-ceznje-three-thousand-years-of-longing-2/
LOCATION:Ljetno kino Jadran\, DUBROVNIK\, Dubrovačko - neretvanska županija\, 20000\, Hrvatska
CATEGORIES:FILM
ATTACH;FMTTYPE=image/jpeg:https://kalendar.dubrovnik.hr/wp-content/uploads/2022/08/Three_Thousand_HR.jpg
ORGANIZER;CN="Kinematografi%20Dubrovnik":MAILTO:info@kinematografi.org
GEO:42.6410079;18.1072506
END:VEVENT
BEGIN:VEVENT
DTSTART;TZID=Europe/Paris:20220904T203000
DTEND;TZID=Europe/Paris:20220904T220000
DTSTAMP:20260424T021015
CREATED:20220831T081823Z
LAST-MODIFIED:20220831T081823Z
UID:10000443-1662323400-1662328800@kalendar.dubrovnik.hr
SUMMARY:VATRENO SRCE / Fireheart
DESCRIPTION:Animirani / animation ; 92 min; FR / 2022. ; Režija / Director : Theodore Ty\, Laurent Zeitoun \nUl / Stars: Zrinka Cvitešić\, Živko Anočić\, Saša Buneta\, Lana Blaće\, Toma Medvešek\, Tin Rožman
URL:https://kalendar.dubrovnik.hr/event/vatreno-srce-fireheart-4/
LOCATION:Ljetno kino Jadran\, DUBROVNIK\, Dubrovačko - neretvanska županija\, 20000\, Hrvatska
CATEGORIES:FILM
ATTACH;FMTTYPE=image/jpeg:https://kalendar.dubrovnik.hr/wp-content/uploads/2022/08/VATRENO-SRCE.jpg
ORGANIZER;CN="Kinematografi%20Dubrovnik":MAILTO:info@kinematografi.org
GEO:42.6410079;18.1072506
END:VEVENT
BEGIN:VEVENT
DTSTART;TZID=Europe/Paris:20220904T203000
DTEND;TZID=Europe/Paris:20220904T220000
DTSTAMP:20260424T021015
CREATED:20220831T082141Z
LAST-MODIFIED:20220831T082241Z
UID:10000445-1662323400-1662328800@kalendar.dubrovnik.hr
SUMMARY:OPERACIJA SLASTIČARNICA
DESCRIPTION:Animirani/ animation; 78 min; Njemačka/2020.; Režija/Director: Ute von Münchow-Pohl \nUL/Stars: Jella Haase\, Louis Hofmann\, Leon Seidel
URL:https://kalendar.dubrovnik.hr/event/operacija-slasticarnica/
LOCATION:Ljetno kino Slavica\, DUBROVNIK\, Dubrovačko - neretvanska županija\, 20000\, Hrvatska
CATEGORIES:FILM
ATTACH;FMTTYPE=image/jpeg:https://kalendar.dubrovnik.hr/wp-content/uploads/2022/08/OPERACIJA-SL.jpg
ORGANIZER;CN="Kinematografi%20Dubrovnik":MAILTO:info@kinematografi.org
GEO:42.6453741;18.0979594
END:VEVENT
BEGIN:VEVENT
DTSTART;TZID=Europe/Paris:20220905T203000
DTEND;TZID=Europe/Paris:20220905T223000
DTSTAMP:20260424T021015
CREATED:20220831T083723Z
LAST-MODIFIED:20220831T083817Z
UID:10000446-1662409800-1662417000@kalendar.dubrovnik.hr
SUMMARY:AMERICA LATINA /America Latina
DESCRIPTION:Triler / thriller; 90 min; Fra\, It/2021.; Režija/Director: Damiano i Fabio D’Innocenzo \nUl/Stars: Elio Germano\, Astrid Casali\, Sara Ciocca
URL:https://kalendar.dubrovnik.hr/event/america-latina-america-latina/
LOCATION:Ljetno kino Jadran\, DUBROVNIK\, Dubrovačko - neretvanska županija\, 20000\, Hrvatska
CATEGORIES:FILM
ATTACH;FMTTYPE=image/jpeg:https://kalendar.dubrovnik.hr/wp-content/uploads/2022/08/AMERIKA-LATINA.jpg
ORGANIZER;CN="Kinematografi%20Dubrovnik":MAILTO:info@kinematografi.org
GEO:42.6410079;18.1072506
END:VEVENT
BEGIN:VEVENT
DTSTART;TZID=Europe/Paris:20220905T203000
DTEND;TZID=Europe/Paris:20220905T223000
DTSTAMP:20260424T021015
CREATED:20220831T084240Z
LAST-MODIFIED:20220831T084240Z
UID:10000453-1662409800-1662417000@kalendar.dubrovnik.hr
SUMMARY:KINOTEKA POD ZVIJEZDAMA: ZVJEZDANI ČOVJEK / STARMAN
DESCRIPTION:Drama\, romantični\, fantazija/ drama\, romance\, fantasy; 118 min; SAD/1984.; \nRežija/Director: John Carpenter \nUl/Stars: Jeff Bridges \, Karen Allen\, Charles Martin Smith \,Richard Jaeckel
URL:https://kalendar.dubrovnik.hr/event/kinoteka-pod-zvijezdama-zvjezdani-covjek-starman/
LOCATION:Ljetno kino Slavica\, DUBROVNIK\, Dubrovačko - neretvanska županija\, 20000\, Hrvatska
CATEGORIES:FILM
ATTACH;FMTTYPE=image/jpeg:https://kalendar.dubrovnik.hr/wp-content/uploads/2022/08/STARMAN.jpg
ORGANIZER;CN="Kinematografi%20Dubrovnik":MAILTO:info@kinematografi.org
GEO:42.6453741;18.0979594
END:VEVENT
BEGIN:VEVENT
DTSTART;TZID=Europe/Paris:20220906T203000
DTEND;TZID=Europe/Paris:20220906T223000
DTSTAMP:20260424T021015
CREATED:20220831T084456Z
LAST-MODIFIED:20220831T084456Z
UID:10000454-1662496200-1662503400@kalendar.dubrovnik.hr
SUMMARY:TRI TISUĆE GODINA ČEŽNJE / Three Thousand Years of Longing
DESCRIPTION:Drama\, fantazija\, romantični/ romance\, drama\, fantasy; 108 min\, USA/2022 \nRežija / Director : George Miller; Ul / Stars: Tilda Swinton\, Idris Elba
URL:https://kalendar.dubrovnik.hr/event/tri-tisuce-godina-ceznje-three-thousand-years-of-longing-3/
LOCATION:Ljetno kino Jadran\, DUBROVNIK\, Dubrovačko - neretvanska županija\, 20000\, Hrvatska
CATEGORIES:FILM
ATTACH;FMTTYPE=image/jpeg:https://kalendar.dubrovnik.hr/wp-content/uploads/2022/08/Three_Thousand_HR.jpg
ORGANIZER;CN="Kinematografi%20Dubrovnik":MAILTO:info@kinematografi.org
GEO:42.6410079;18.1072506
END:VEVENT
BEGIN:VEVENT
DTSTART;TZID=Europe/Paris:20220906T203000
DTEND;TZID=Europe/Paris:20220906T223000
DTSTAMP:20260424T021015
CREATED:20220831T084655Z
LAST-MODIFIED:20220831T084655Z
UID:10000456-1662496200-1662503400@kalendar.dubrovnik.hr
SUMMARY:DJEVOJKA IZ MOČVARE / WHERE THE CRAWDADS SING
DESCRIPTION:Drama\, triler\, misterij / drama\, thriller\,mystery ; 125min; USA / 2022. \nRežija / Director : Olivia Newman \nUl / Stars: Daisy Edgar-Jones\, Taylor John Smith\, Harris Dickinson\, Michael Hyatt\, Sterling Macer Jr.\, David Strathairn
URL:https://kalendar.dubrovnik.hr/event/djevojka-iz-mocvare-where-the-crawdads-sing-3/
LOCATION:Ljetno kino Slavica\, DUBROVNIK\, Dubrovačko - neretvanska županija\, 20000\, Hrvatska
CATEGORIES:FILM
ATTACH;FMTTYPE=image/jpeg:https://kalendar.dubrovnik.hr/wp-content/uploads/2022/08/djevojka-iz-mocvare.jpg
ORGANIZER;CN="Kinematografi%20Dubrovnik":MAILTO:info@kinematografi.org
GEO:42.6453741;18.0979594
END:VEVENT
BEGIN:VEVENT
DTSTART;TZID=Europe/Paris:20220907T203000
DTEND;TZID=Europe/Paris:20220907T223000
DTSTAMP:20260424T021015
CREATED:20220831T092921Z
LAST-MODIFIED:20220831T092921Z
UID:10000457-1662582600-1662589800@kalendar.dubrovnik.hr
SUMMARY:AMERICA LATINA / America Latina
DESCRIPTION:Triler / thriller; 90 min; Fra\, It/2021.; Režija/Director: Damiano i Fabio D’Innocenzo \nUl/Stars: Elio Germano\, Astrid Casali\, Sara Ciocca
URL:https://kalendar.dubrovnik.hr/event/america-latina-america-latina-2/
LOCATION:Ljetno kino Jadran\, DUBROVNIK\, Dubrovačko - neretvanska županija\, 20000\, Hrvatska
CATEGORIES:FILM
ATTACH;FMTTYPE=image/jpeg:https://kalendar.dubrovnik.hr/wp-content/uploads/2022/08/AMERIKA-LATINA.jpg
ORGANIZER;CN="Kinematografi%20Dubrovnik":MAILTO:info@kinematografi.org
GEO:42.6410079;18.1072506
END:VEVENT
BEGIN:VEVENT
DTSTART;TZID=Europe/Paris:20220907T203000
DTEND;TZID=Europe/Paris:20220907T223000
DTSTAMP:20260424T021015
CREATED:20220831T093136Z
LAST-MODIFIED:20220831T093136Z
UID:10001494-1662582600-1662589800@kalendar.dubrovnik.hr
SUMMARY:CIKLUS ŠPANJOLSKOG FILMA: PRVACI / CAMPEONES
DESCRIPTION:Komedija\, drama/ comedy\, drama; 124 min; ESP/2018.; Režija/Director: Javier Fesser \nUl/ Stars: Javier Gutiérrez\, Jesús Vidal\, Daniel Freire\, Athenea Mata\, Roberto Chinchilla
URL:https://kalendar.dubrovnik.hr/event/ciklus-spanjolskog-filma-prvaci-campeones/
LOCATION:Ljetno kino Slavica\, DUBROVNIK\, Dubrovačko - neretvanska županija\, 20000\, Hrvatska
CATEGORIES:FILM
ATTACH;FMTTYPE=image/jpeg:https://kalendar.dubrovnik.hr/wp-content/uploads/2022/08/CAMPEONES-scaled.jpg
ORGANIZER;CN="Kinematografi%20Dubrovnik":MAILTO:info@kinematografi.org
GEO:42.6453741;18.0979594
END:VEVENT
BEGIN:VEVENT
DTSTART;TZID=Europe/Paris:20220908T203000
DTEND;TZID=Europe/Paris:20220908T223000
DTSTAMP:20260424T021015
CREATED:20220907T074332Z
LAST-MODIFIED:20220907T074332Z
UID:10001497-1662669000-1662676200@kalendar.dubrovnik.hr
SUMMARY:JA SAM ZLATAN / I AM ZLATAN
DESCRIPTION:Biografski\, drama\, sportski/ biography\, drama\, sport; 100 min\, Švedska/2021 \nRežija / Director : Jens Sjögren ; Ul / Stars: Granit Rushiti\, Čedomir Glisović\, Merima Dizdarević
URL:https://kalendar.dubrovnik.hr/event/ja-sam-zlatan-i-am-zlatan/
LOCATION:Ljetno kino Jadran\, DUBROVNIK\, Dubrovačko - neretvanska županija\, 20000\, Hrvatska
CATEGORIES:FILM
ATTACH;FMTTYPE=image/jpeg:https://kalendar.dubrovnik.hr/wp-content/uploads/2022/09/ZLATAN.jpg
ORGANIZER;CN="Kinematografi%20Dubrovnik":MAILTO:info@kinematografi.org
GEO:42.6410079;18.1072506
END:VEVENT
BEGIN:VEVENT
DTSTART;TZID=Europe/Paris:20220908T203000
DTEND;TZID=Europe/Paris:20220908T223000
DTSTAMP:20260424T021015
CREATED:20220907T074543Z
LAST-MODIFIED:20220907T074543Z
UID:10001518-1662669000-1662676200@kalendar.dubrovnik.hr
SUMMARY:CIKLUS ŠPANJOLSKOG FILMA: PRIČA JEDNOG KINEZA
DESCRIPTION:Drama\, komedija / drama\, comedy; 93 min/ Argentina \nRežija / Director: Sebastián Borensztein \nUl / Stars: Ricardo Darín\, Muriel Santa Ana\, Ignacio Huang
URL:https://kalendar.dubrovnik.hr/event/ciklus-spanjolskog-filma-prica-jednog-kineza/
LOCATION:Ljetno kino Slavica\, DUBROVNIK\, Dubrovačko - neretvanska županija\, 20000\, Hrvatska
CATEGORIES:FILM
ATTACH;FMTTYPE=image/jpeg:https://kalendar.dubrovnik.hr/wp-content/uploads/2022/09/UN-CUENTO.jpg
ORGANIZER;CN="Kinematografi%20Dubrovnik":MAILTO:info@kinematografi.org
GEO:42.6453741;18.0979594
END:VEVENT
BEGIN:VEVENT
DTSTART;TZID=Europe/Paris:20220909T203000
DTEND;TZID=Europe/Paris:20220909T220000
DTSTAMP:20260424T021015
CREATED:20220907T074743Z
LAST-MODIFIED:20220907T074743Z
UID:10001519-1662755400-1662760800@kalendar.dubrovnik.hr
SUMMARY:VATRENO SRCE / Fireheart
DESCRIPTION:Animirani / animation ; 92 min; FR / 2022. ; Režija / Director : Theodore Ty\, Laurent Zeitoun \nUl / Stars: Zrinka Cvitešić\, Živko Anočić\, Saša Buneta\, Lana Blaće\, Toma Medvešek\, Tin Rožman
URL:https://kalendar.dubrovnik.hr/event/vatreno-srce-fireheart-5/
LOCATION:Ljetno kino Jadran\, DUBROVNIK\, Dubrovačko - neretvanska županija\, 20000\, Hrvatska
CATEGORIES:FILM
ATTACH;FMTTYPE=image/jpeg:https://kalendar.dubrovnik.hr/wp-content/uploads/2022/08/VATRENO-SRCE.jpg
ORGANIZER;CN="Kinematografi%20Dubrovnik":MAILTO:info@kinematografi.org
GEO:42.6410079;18.1072506
END:VEVENT
BEGIN:VEVENT
DTSTART;TZID=Europe/Paris:20220909T203000
DTEND;TZID=Europe/Paris:20220909T223000
DTSTAMP:20260424T021015
CREATED:20220907T080400Z
LAST-MODIFIED:20220907T080442Z
UID:10001521-1662755400-1662762600@kalendar.dubrovnik.hr
SUMMARY:CIKLUS ŠPANJOLSKOG FILMA: I KIŠA\, TAKOĐER
DESCRIPTION:  \nDrama / drama; 103 min; ESP 2011; Režija / Director : Icíar Bollaín \nUl / Stars: Gael García Bernal\, Luis Tosar\, Karra Elejalde
URL:https://kalendar.dubrovnik.hr/event/ciklus-spanjolskog-filma-i-kisa-takoder/
LOCATION:Ljetno kino Slavica\, DUBROVNIK\, Dubrovačko - neretvanska županija\, 20000\, Hrvatska
CATEGORIES:FILM
ATTACH;FMTTYPE=image/jpeg:https://kalendar.dubrovnik.hr/wp-content/uploads/2022/09/I-KISA-TAKODER.jpg
ORGANIZER;CN="Kinematografi%20Dubrovnik":MAILTO:info@kinematografi.org
GEO:42.6453741;18.0979594
END:VEVENT
BEGIN:VEVENT
DTSTART;TZID=Europe/Paris:20220910T203000
DTEND;TZID=Europe/Paris:20220910T223000
DTSTAMP:20260424T021015
CREATED:20220907T080741Z
LAST-MODIFIED:20220907T082041Z
UID:10001499-1662841800-1662849000@kalendar.dubrovnik.hr
SUMMARY:JA SAM ZLATAN / I AM ZLATAN
DESCRIPTION:Biografski\, drama\, sportski/ biography\, drama\, sport; 100 min\, Švedska/2021 \nRežija / Director : Jens Sjögren ; Ul / Stars: Granit Rushiti\, Čedomir Glisović\, Merima Dizdarević
URL:https://kalendar.dubrovnik.hr/event/ja-sam-zlatan-i-am-zlatan-2/
LOCATION:Ljetno kino Jadran\, DUBROVNIK\, Dubrovačko - neretvanska županija\, 20000\, Hrvatska
CATEGORIES:FILM
ATTACH;FMTTYPE=image/jpeg:https://kalendar.dubrovnik.hr/wp-content/uploads/2022/09/ZLATAN-1.jpg
ORGANIZER;CN="Kinematografi%20Dubrovnik":MAILTO:info@kinematografi.org
GEO:42.6410079;18.1072506
END:VEVENT
BEGIN:VEVENT
DTSTART;TZID=Europe/Paris:20220911T203000
DTEND;TZID=Europe/Paris:20220911T223000
DTSTAMP:20260424T021015
CREATED:20220907T082254Z
LAST-MODIFIED:20220907T082254Z
UID:10001522-1662928200-1662935400@kalendar.dubrovnik.hr
SUMMARY:LJETO KADA SAM NAUČILA LETJETI
DESCRIPTION:Obiteljski\, komedija / family\, comedy; 89min; SRB\,HR\,BG\,SL / 2022 \nRežija / Director : Radivoje Andrić \nUl / Stars: Klara Hrvanović\, Olga Odanović\, Snježana Sinovčić Šiškov\, Ema Kereta Rogić\, Marijana Mićić\, Žarko Laušević\, Luka Bajto\, Benjamín Lacko\, Frano Lasić
URL:https://kalendar.dubrovnik.hr/event/ljeto-kada-sam-naucila-letjeti-3/
LOCATION:Ljetno kino Jadran\, DUBROVNIK\, Dubrovačko - neretvanska županija\, 20000\, Hrvatska
CATEGORIES:FILM
ATTACH;FMTTYPE=image/jpeg:https://kalendar.dubrovnik.hr/wp-content/uploads/2022/08/LJETO.jpg
ORGANIZER;CN="Kinematografi%20Dubrovnik":MAILTO:info@kinematografi.org
GEO:42.6410079;18.1072506
END:VEVENT
BEGIN:VEVENT
DTSTART;TZID=Europe/Paris:20220912T203000
DTEND;TZID=Europe/Paris:20220912T223000
DTSTAMP:20260424T021015
CREATED:20220907T084042Z
LAST-MODIFIED:20220907T084042Z
UID:10001502-1663014600-1663021800@kalendar.dubrovnik.hr
SUMMARY:TRI TISUĆE GODINA ČEŽNJE / Three Thousand Years of Longing
DESCRIPTION:Drama\, fantazija\, romantični/ romance\, drama\, fantasy; 108 min\, USA/2022 \nRežija / Director : George Miller; Ul / Stars: Tilda Swinton\, Idris Elba
URL:https://kalendar.dubrovnik.hr/event/tri-tisuce-godina-ceznje-three-thousand-years-of-longing-4/
LOCATION:Ljetno kino Jadran\, DUBROVNIK\, Dubrovačko - neretvanska županija\, 20000\, Hrvatska
CATEGORIES:FILM
ATTACH;FMTTYPE=image/jpeg:https://kalendar.dubrovnik.hr/wp-content/uploads/2022/08/Three_Thousand_HR.jpg
ORGANIZER;CN="Kinematografi%20Dubrovnik":MAILTO:info@kinematografi.org
GEO:42.6410079;18.1072506
END:VEVENT
BEGIN:VEVENT
DTSTART;TZID=Europe/Paris:20220912T203000
DTEND;TZID=Europe/Paris:20220912T223000
DTSTAMP:20260424T021015
CREATED:20220907T084247Z
LAST-MODIFIED:20220907T084247Z
UID:10001524-1663014600-1663021800@kalendar.dubrovnik.hr
SUMMARY:KINOTEKA POD ZVIJEZDAMA:  MEMENTO / MEMENTO
DESCRIPTION:Triler/ thriller; 113 min / USA/ 2000; Režija / Director: Christopher Nolan \nUl / Stars: Guy Pearce\, Carrie-Anne Moss\, Joe Pantoliano
URL:https://kalendar.dubrovnik.hr/event/kinoteka-pod-zvijezdama-memento-memento/
LOCATION:Ljetno kino Slavica\, DUBROVNIK\, Dubrovačko - neretvanska županija\, 20000\, Hrvatska
CATEGORIES:FILM
ATTACH;FMTTYPE=image/jpeg:https://kalendar.dubrovnik.hr/wp-content/uploads/2022/09/MEMENTO.jpg
ORGANIZER;CN="Kinematografi%20Dubrovnik":MAILTO:info@kinematografi.org
GEO:42.6453741;18.0979594
END:VEVENT
BEGIN:VEVENT
DTSTART;TZID=Europe/Paris:20220913T203000
DTEND;TZID=Europe/Paris:20220913T223000
DTSTAMP:20260424T021015
CREATED:20220907T084622Z
LAST-MODIFIED:20220907T084622Z
UID:10001506-1663101000-1663108200@kalendar.dubrovnik.hr
SUMMARY:NJEŽNO / GENTLE
DESCRIPTION:Drama / drama; 92 min\, Mađarska/ 2021; Režija / Director: Laszlo Czuja i Ana Nemesz \nUl / Stars: Eszter Csonka\, György Turós\, Csaba Krisztik
URL:https://kalendar.dubrovnik.hr/event/njezno-gentle/
LOCATION:Ljetno kino Slavica\, DUBROVNIK\, Dubrovačko - neretvanska županija\, 20000\, Hrvatska
CATEGORIES:FILM
ATTACH;FMTTYPE=image/jpeg:https://kalendar.dubrovnik.hr/wp-content/uploads/2022/09/GENTLE.jpg
ORGANIZER;CN="Kinematografi%20Dubrovnik":MAILTO:info@kinematografi.org
GEO:42.6453741;18.0979594
END:VEVENT
END:VCALENDAR