BEGIN:VCALENDAR
VERSION:2.0
PRODID:-//Kalendar događanja Dubrovnika - ECPv6.1.1//NONSGML v1.0//EN
CALSCALE:GREGORIAN
METHOD:PUBLISH
X-ORIGINAL-URL:https://kalendar.dubrovnik.hr
X-WR-CALDESC:Događanja za Kalendar događanja Dubrovnika
REFRESH-INTERVAL;VALUE=DURATION:PT1H
X-Robots-Tag:noindex
X-PUBLISHED-TTL:PT1H
BEGIN:VTIMEZONE
TZID:Europe/Zagreb
BEGIN:DAYLIGHT
TZOFFSETFROM:+0100
TZOFFSETTO:+0200
TZNAME:CEST
DTSTART:20230326T010000
END:DAYLIGHT
BEGIN:STANDARD
TZOFFSETFROM:+0200
TZOFFSETTO:+0100
TZNAME:CET
DTSTART:20231029T010000
END:STANDARD
END:VTIMEZONE
BEGIN:VEVENT
DTSTART;TZID=Europe/Zagreb:20230108T140000
DTEND;TZID=Europe/Zagreb:20230108T153000
DTSTAMP:20260425T233914
CREATED:20230105T112813Z
LAST-MODIFIED:20230105T112813Z
UID:10001830-1673186400-1673191800@kalendar.dubrovnik.hr
SUMMARY:Moj prvi film : MAMA MOO SE VRAĆA KUĆI
DESCRIPTION:Animirani; 70min\, Švedska /2021 \nRežija: Christian Ryltenius\, Tomas Tivemark
URL:https://kalendar.dubrovnik.hr/event/moj-prvi-film-mama-moo-se-vraca-kuci-2/
LOCATION:Kino Sloboda\, DUBROVNIK\, Dubrovačko - neretvanska županija\, 20000\, Hrvatska
ATTACH;FMTTYPE=image/jpeg:https://kalendar.dubrovnik.hr/wp-content/uploads/2023/01/mamma-mu.jpg
ORGANIZER;CN="Kinematografi%20Dubrovnik":MAILTO:info@kinematografi.org
GEO:42.6409191;18.1106732
END:VEVENT
BEGIN:VEVENT
DTSTART;TZID=Europe/Zagreb:20230108T153000
DTEND;TZID=Europe/Zagreb:20230108T170000
DTSTAMP:20260425T233914
CREATED:20230105T113434Z
LAST-MODIFIED:20230105T113434Z
UID:10001852-1673191800-1673197200@kalendar.dubrovnik.hr
SUMMARY:CVRČAK I MRAVICA
DESCRIPTION:Animirana avantura; 82min; Hrvatska / 2022; Režija: Luka Rukavina \nGl: Tara Thaller\, Marko Petrić\, Filip Vidović\, Jadranka Krajina\, Katarina Madirazza Strahinić\, Dušan Bućan\, Mladen Vasary\, Luka Petrušić\, Domagoj Janković\, Ivan Đurić\, Hrvoje Kečkeš
URL:https://kalendar.dubrovnik.hr/event/cvrcak-i-mravica-4/
LOCATION:Kino Sloboda\, DUBROVNIK\, Dubrovačko - neretvanska županija\, 20000\, Hrvatska
CATEGORIES:FILM
ATTACH;FMTTYPE=image/jpeg:https://kalendar.dubrovnik.hr/wp-content/uploads/2023/01/CVRCAK-I-MRAVICA-face.jpg
ORGANIZER;CN="Kinematografi%20Dubrovnik":MAILTO:info@kinematografi.org
GEO:42.6409191;18.1106732
END:VEVENT
BEGIN:VEVENT
DTSTART;TZID=Europe/Zagreb:20230108T183000
DTEND;TZID=Europe/Zagreb:20230108T203000
DTSTAMP:20260425T233914
CREATED:20230105T115231Z
LAST-MODIFIED:20230105T115231Z
UID:10001838-1673202600-1673209800@kalendar.dubrovnik.hr
SUMMARY:OBJE STRANE OŠTRICE
DESCRIPTION:Drama\, romantični\,triler; 116min; Francuska /2022 ; Režija: Claire Denis \nUl: Juliette Binoche\, Vincent Lindon\, Grégoire Colin
URL:https://kalendar.dubrovnik.hr/event/obje-strane-ostrice-3/
LOCATION:Dvorana Visia\, DUBROVNIK\, Dubrovačko - neretvanska županija\, 20000\, Croatia (Local Name: Hrvatska)
CATEGORIES:FILM
ATTACH;FMTTYPE=image/jpeg:https://kalendar.dubrovnik.hr/wp-content/uploads/2023/01/objestraneostrice.jpg
ORGANIZER;CN="Kinematografi%20Dubrovnik":MAILTO:info@kinematografi.org
GEO:42.6586378;18.1013637
END:VEVENT
BEGIN:VEVENT
DTSTART;TZID=Europe/Zagreb:20230108T190000
DTEND;TZID=Europe/Zagreb:20230108T210000
DTSTAMP:20260425T233914
CREATED:20230105T113709Z
LAST-MODIFIED:20230105T113709Z
UID:10001835-1673204400-1673211600@kalendar.dubrovnik.hr
SUMMARY:LIL\, LIL\, KROKODIL
DESCRIPTION:Igrano-animirana glazbena komedija; 110min; SAD/2022 \nRežija : Will Speck and Josh Gordon \nUl: Franko Mašković\, Darin Pavišić\, Goran Malus\, Marko Makovičić\, Vanda Winter
URL:https://kalendar.dubrovnik.hr/event/lil-lil-krokodil-4/
LOCATION:Kino Sloboda\, DUBROVNIK\, Dubrovačko - neretvanska županija\, 20000\, Hrvatska
CATEGORIES:FILM
ATTACH;FMTTYPE=image/jpeg:https://kalendar.dubrovnik.hr/wp-content/uploads/2023/01/CROCODILE.jpg
ORGANIZER;CN="Kinematografi%20Dubrovnik":MAILTO:info@kinematografi.org
GEO:42.6409191;18.1106732
END:VEVENT
BEGIN:VEVENT
DTSTART;TZID=Europe/Zagreb:20230108T190000
DTEND;TZID=Europe/Zagreb:20230108T210000
DTSTAMP:20260425T233914
CREATED:20230105T113930Z
LAST-MODIFIED:20230105T113955Z
UID:10001853-1673204400-1673211600@kalendar.dubrovnik.hr
SUMMARY:VJENČANJE ZA UMRIJETI
DESCRIPTION:Romantični\, akcija\, komedija; 100min; SAD/2022 \nRežija : Jason Moore \nUl: Jennifer Lopez\, Josh Duhamel\, Jennifer Coolidge
URL:https://kalendar.dubrovnik.hr/event/vjencanje-za-umrijeti-3/
LOCATION:Kino Sloboda\, DUBROVNIK\, Dubrovačko - neretvanska županija\, 20000\, Hrvatska
CATEGORIES:FILM
ATTACH;FMTTYPE=image/jpeg:https://kalendar.dubrovnik.hr/wp-content/uploads/2023/01/vjencanje-za-umrijeti-2-417x600-1.jpg
ORGANIZER;CN="Kinematografi%20Dubrovnik":MAILTO:info@kinematografi.org
GEO:42.6409191;18.1106732
END:VEVENT
BEGIN:VEVENT
DTSTART;TZID=Europe/Zagreb:20230108T210000
DTEND;TZID=Europe/Zagreb:20230108T230000
DTSTAMP:20260425T233914
CREATED:20230105T114205Z
LAST-MODIFIED:20230105T114205Z
UID:10001855-1673211600-1673218800@kalendar.dubrovnik.hr
SUMMARY:OPERACIJA FORTUNE : PREVARA STOLJEĆA 
DESCRIPTION:Triler\, komedija\, akcija; 114min; Kina\, UK\, SAD/2022; Režija: Guy Ritchie \nUl: Aubrey Plaza\, Jason Statham\, Cary Elwes\, Hugh Grant\, Josh Hartnett
URL:https://kalendar.dubrovnik.hr/event/operacija-fortune-prevara-stoljeca-4/
LOCATION:Kino Sloboda\, DUBROVNIK\, Dubrovačko - neretvanska županija\, 20000\, Hrvatska
CATEGORIES:FILM
ATTACH;FMTTYPE=image/jpeg:https://kalendar.dubrovnik.hr/wp-content/uploads/2023/01/operation-fortune-poster.jpg
ORGANIZER;CN="Kinematografi%20Dubrovnik":MAILTO:info@kinematografi.org
GEO:42.6409191;18.1106732
END:VEVENT
BEGIN:VEVENT
DTSTART;TZID=Europe/Zagreb:20230110T153000
DTEND;TZID=Europe/Zagreb:20230110T170000
DTSTAMP:20260425T233914
CREATED:20230110T100136Z
LAST-MODIFIED:20230110T100136Z
UID:10000805-1673364600-1673370000@kalendar.dubrovnik.hr
SUMMARY:CVRČAK I MRAVICA
DESCRIPTION:Animirana avantura; 82min; Hrvatska / 2022; Režija: Luka Rukavina \nGl: Tara Thaller\, Marko Petrić\, Filip Vidović\, Jadranka Krajina\, Katarina Madirazza Strahinić\, Dušan Bućan\, Mladen Vasary\, Luka Petrušić\, Domagoj Janković\, Ivan Đurić\, Hrvoje Kečkeš
URL:https://kalendar.dubrovnik.hr/event/cvrcak-i-mravica-5/
LOCATION:Kino Sloboda\, DUBROVNIK\, Dubrovačko - neretvanska županija\, 20000\, Hrvatska
CATEGORIES:FILM
ATTACH;FMTTYPE=image/jpeg:https://kalendar.dubrovnik.hr/wp-content/uploads/2023/01/CVRCAK-I-MRAVICA-face.jpg
ORGANIZER;CN="Kinematografi%20Dubrovnik":MAILTO:info@kinematografi.org
GEO:42.6409191;18.1106732
END:VEVENT
BEGIN:VEVENT
DTSTART;TZID=Europe/Zagreb:20230110T153000
DTEND;TZID=Europe/Zagreb:20230110T170000
DTSTAMP:20260425T233914
CREATED:20230110T101305Z
LAST-MODIFIED:20230110T101305Z
UID:10000813-1673364600-1673370000@kalendar.dubrovnik.hr
SUMMARY:CVRČAK I MRAVICA
DESCRIPTION:Animirana avantura; 82min; Hrvatska / 2022; Režija: Luka Rukavina \nGl: Tara Thaller\, Marko Petrić\, Filip Vidović\, Jadranka Krajina\, Katarina Madirazza Strahinić\, Dušan Bućan\, Mladen Vasary\, Luka Petrušić\, Domagoj Janković\, Ivan Đurić\, Hrvoje Kečkeš
URL:https://kalendar.dubrovnik.hr/event/cvrcak-i-mravica-6/
LOCATION:Kino Sloboda\, DUBROVNIK\, Dubrovačko - neretvanska županija\, 20000\, Hrvatska
CATEGORIES:FILM
ATTACH;FMTTYPE=image/jpeg:https://kalendar.dubrovnik.hr/wp-content/uploads/2023/01/CVRCAK-I-MRAVICA-face.jpg
ORGANIZER;CN="Kinematografi%20Dubrovnik":MAILTO:info@kinematografi.org
GEO:42.6409191;18.1106732
END:VEVENT
BEGIN:VEVENT
DTSTART;TZID=Europe/Zagreb:20230110T170000
DTEND;TZID=Europe/Zagreb:20230110T190000
DTSTAMP:20260425T233914
CREATED:20230110T100322Z
LAST-MODIFIED:20230110T100322Z
UID:10000806-1673370000-1673377200@kalendar.dubrovnik.hr
SUMMARY:MAČAK U ČIZMAMA
DESCRIPTION:Animirana avantura\, komedija; 101min; SAD/2022; \nRežija: Joel Crawford\, Januel Mercado \nUl: Ervin Baučić\, Iskra Jirsak\, Nikola Nedić\, Dražen Bratulić\, Mirela Videk Hranjec\, Jan Kerekeš\, Jadranka Krajina\, Robert Ugrina\, Aleksandar Cvjetković\, Jasna Bilušić
URL:https://kalendar.dubrovnik.hr/event/macak-u-cizmama-6/
LOCATION:Kino Sloboda\, DUBROVNIK\, Dubrovačko - neretvanska županija\, 20000\, Hrvatska
CATEGORIES:FILM
ATTACH;FMTTYPE=image/jpeg:https://kalendar.dubrovnik.hr/wp-content/uploads/2022/12/MACAK.jpg
ORGANIZER;CN="Kinematografi%20Dubrovnik":MAILTO:info@kinematografi.org
GEO:42.6409191;18.1106732
END:VEVENT
BEGIN:VEVENT
DTSTART;TZID=Europe/Zagreb:20230110T180000
DTEND;TZID=Europe/Zagreb:20230110T203000
DTSTAMP:20260425T233914
CREATED:20230110T100935Z
LAST-MODIFIED:20230110T100935Z
UID:10000810-1673373600-1673382600@kalendar.dubrovnik.hr
SUMMARY:TROKUT TUGE
DESCRIPTION:Drama\, komedija; 142min; Švedska\, Njemačka\, Francuska\, Danska/2022 \nRežija: Ruben Östlund ; Ul: Harris Dickinson\, Charlbi Dean\, Woody Harrelson\, Vicki Berlin\, Henrik Dorsin\, Zlatko Burić\, Jean-Christophe Folly\, Iris Berben\, Dolly De Leon\, Sunnyi Melles\, Amanda Walker
URL:https://kalendar.dubrovnik.hr/event/trokut-tuge-6/
LOCATION:Dvorana Visia\, DUBROVNIK\, Dubrovačko - neretvanska županija\, 20000\, Croatia (Local Name: Hrvatska)
CATEGORIES:FILM
ATTACH;FMTTYPE=image/jpeg:https://kalendar.dubrovnik.hr/wp-content/uploads/2022/11/TROKUT-TUGE.jpeg
ORGANIZER;CN="Kinematografi%20Dubrovnik":MAILTO:info@kinematografi.org
GEO:42.6586378;18.1013637
END:VEVENT
BEGIN:VEVENT
DTSTART;TZID=Europe/Zagreb:20230110T190000
DTEND;TZID=Europe/Zagreb:20230110T210000
DTSTAMP:20260425T233914
CREATED:20230110T100527Z
LAST-MODIFIED:20230110T100527Z
UID:10000808-1673377200-1673384400@kalendar.dubrovnik.hr
SUMMARY:OPERACIJA FORTUNE : PREVARA STOLJEĆA 
DESCRIPTION:Triler\, komedija\, akcija; 114min; Kina\, UK\, SAD/2022; Režija: Guy Ritchie \nUl: Aubrey Plaza\, Jason Statham\, Cary Elwes\, Hugh Grant\, Josh Hartnett
URL:https://kalendar.dubrovnik.hr/event/operacija-fortune-prevara-stoljeca-5/
LOCATION:Kino Sloboda\, DUBROVNIK\, Dubrovačko - neretvanska županija\, 20000\, Hrvatska
CATEGORIES:FILM
ATTACH;FMTTYPE=image/jpeg:https://kalendar.dubrovnik.hr/wp-content/uploads/2023/01/operation-fortune-poster.jpg
ORGANIZER;CN="Kinematografi%20Dubrovnik":MAILTO:info@kinematografi.org
GEO:42.6409191;18.1106732
END:VEVENT
BEGIN:VEVENT
DTSTART;TZID=Europe/Zagreb:20230110T203000
DTEND;TZID=Europe/Zagreb:20230110T223000
DTSTAMP:20260425T233914
CREATED:20230110T101124Z
LAST-MODIFIED:20230110T101124Z
UID:10000812-1673382600-1673389800@kalendar.dubrovnik.hr
SUMMARY:OBJE STRANE OŠTRICE
DESCRIPTION:Drama\, romantični\,triler; 116min; Francuska /2022 ; Režija: Claire Denis \nUl: Juliette Binoche\, Vincent Lindon\, Grégoire Colin
URL:https://kalendar.dubrovnik.hr/event/obje-strane-ostrice-4/
LOCATION:Dvorana Visia\, DUBROVNIK\, Dubrovačko - neretvanska županija\, 20000\, Croatia (Local Name: Hrvatska)
CATEGORIES:FILM
ATTACH;FMTTYPE=image/jpeg:https://kalendar.dubrovnik.hr/wp-content/uploads/2023/01/objestraneostrice.jpg
ORGANIZER;CN="Kinematografi%20Dubrovnik":MAILTO:info@kinematografi.org
GEO:42.6586378;18.1013637
END:VEVENT
BEGIN:VEVENT
DTSTART;TZID=Europe/Zagreb:20230110T210000
DTEND;TZID=Europe/Zagreb:20230110T230000
DTSTAMP:20260425T233914
CREATED:20230110T100740Z
LAST-MODIFIED:20230110T100740Z
UID:10000809-1673384400-1673391600@kalendar.dubrovnik.hr
SUMMARY:VJENČANJE ZA UMRIJETI
DESCRIPTION:Romantični\, akcija\, komedija; 100min; SAD/2022 \nRežija : Jason Moore \nUl: Jennifer Lopez\, Josh Duhamel\, Jennifer Coolidge
URL:https://kalendar.dubrovnik.hr/event/vjencanje-za-umrijeti-4/
LOCATION:Kino Sloboda\, DUBROVNIK\, Dubrovačko - neretvanska županija\, 20000\, Hrvatska
CATEGORIES:FILM
ATTACH;FMTTYPE=image/jpeg:https://kalendar.dubrovnik.hr/wp-content/uploads/2023/01/vjencanje-za-umrijeti-2-417x600-1.jpg
ORGANIZER;CN="Kinematografi%20Dubrovnik":MAILTO:info@kinematografi.org
GEO:42.6409191;18.1106732
END:VEVENT
BEGIN:VEVENT
DTSTART;TZID=Europe/Zagreb:20230111T170000
DTEND;TZID=Europe/Zagreb:20230111T190000
DTSTAMP:20260425T233914
CREATED:20230110T101454Z
LAST-MODIFIED:20230110T101454Z
UID:10000815-1673456400-1673463600@kalendar.dubrovnik.hr
SUMMARY:LIL\, LIL\, KROKODIL
DESCRIPTION:Igrano-animirana glazbena komedija; 110min; SAD/2022 \nRežija : Will Speck and Josh Gordon \nUl: Franko Mašković\, Darin Pavišić\, Goran Malus\, Marko Makovičić\, Vanda Winter
URL:https://kalendar.dubrovnik.hr/event/lil-lil-krokodil-5/
LOCATION:Kino Sloboda\, DUBROVNIK\, Dubrovačko - neretvanska županija\, 20000\, Hrvatska
CATEGORIES:FILM
ATTACH;FMTTYPE=image/jpeg:https://kalendar.dubrovnik.hr/wp-content/uploads/2023/01/CROCODILE.jpg
ORGANIZER;CN="Kinematografi%20Dubrovnik":MAILTO:info@kinematografi.org
GEO:42.6409191;18.1106732
END:VEVENT
BEGIN:VEVENT
DTSTART;TZID=Europe/Zagreb:20230111T180000
DTEND;TZID=Europe/Zagreb:20230111T200000
DTSTAMP:20260425T233914
CREATED:20230110T102019Z
LAST-MODIFIED:20230110T102019Z
UID:10001860-1673460000-1673467200@kalendar.dubrovnik.hr
SUMMARY:KRIVOTVORITELJ
DESCRIPTION:Biografski\, drama; 116min; Njemačka\, Luksemburg /2022 \nRežija: Maggie Peren; Ul: Louis Hoffman\, Jonathan Berlin\, Luna Wedler
URL:https://kalendar.dubrovnik.hr/event/krivotvoritelj-3/
LOCATION:Dvorana Visia\, DUBROVNIK\, Dubrovačko - neretvanska županija\, 20000\, Croatia (Local Name: Hrvatska)
CATEGORIES:FILM
ATTACH;FMTTYPE=image/jpeg:https://kalendar.dubrovnik.hr/wp-content/uploads/2023/01/KRIVOTVORITELJ-plakat-e1672133291800.jpg
ORGANIZER;CN="Kinematografi%20Dubrovnik":MAILTO:info@kinematografi.org
GEO:42.6586378;18.1013637
END:VEVENT
BEGIN:VEVENT
DTSTART;TZID=Europe/Zagreb:20230111T190000
DTEND;TZID=Europe/Zagreb:20230111T210000
DTSTAMP:20260425T233914
CREATED:20230110T101644Z
LAST-MODIFIED:20230110T101644Z
UID:10000816-1673463600-1673470800@kalendar.dubrovnik.hr
SUMMARY:OPERACIJA FORTUNE : PREVARA STOLJEĆA
DESCRIPTION:Triler\, komedija\, akcija; 114min; Kina\, UK\, SAD/2022; Režija: Guy Ritchie \nUl: Aubrey Plaza\, Jason Statham\, Cary Elwes\, Hugh Grant\, Josh Hartnett
URL:https://kalendar.dubrovnik.hr/event/operacija-fortune-prevara-stoljeca-6/
LOCATION:Kino Sloboda\, DUBROVNIK\, Dubrovačko - neretvanska županija\, 20000\, Hrvatska
CATEGORIES:FILM
ATTACH;FMTTYPE=image/jpeg:https://kalendar.dubrovnik.hr/wp-content/uploads/2023/01/operation-fortune-poster.jpg
ORGANIZER;CN="Kinematografi%20Dubrovnik":MAILTO:info@kinematografi.org
GEO:42.6409191;18.1106732
END:VEVENT
BEGIN:VEVENT
DTSTART;TZID=Europe/Zagreb:20230111T200000
DTEND;TZID=Europe/Zagreb:20230111T220000
DTSTAMP:20260425T233914
CREATED:20230110T102157Z
LAST-MODIFIED:20230110T102157Z
UID:10001828-1673467200-1673474400@kalendar.dubrovnik.hr
SUMMARY:OBJE STRANE OŠTRICE
DESCRIPTION:Drama\, romantični\,triler; 116min; Francuska /2022 ; Režija: Claire Denis \nUl: Juliette Binoche\, Vincent Lindon\, Grégoire Colin
URL:https://kalendar.dubrovnik.hr/event/obje-strane-ostrice-5/
LOCATION:Dvorana Visia\, DUBROVNIK\, Dubrovačko - neretvanska županija\, 20000\, Croatia (Local Name: Hrvatska)
CATEGORIES:FILM
ATTACH;FMTTYPE=image/jpeg:https://kalendar.dubrovnik.hr/wp-content/uploads/2023/01/objestraneostrice.jpg
ORGANIZER;CN="Kinematografi%20Dubrovnik":MAILTO:info@kinematografi.org
GEO:42.6586378;18.1013637
END:VEVENT
BEGIN:VEVENT
DTSTART;TZID=Europe/Zagreb:20230111T210000
DTEND;TZID=Europe/Zagreb:20230111T223000
DTSTAMP:20260425T233914
CREATED:20230110T101830Z
LAST-MODIFIED:20230110T101830Z
UID:10001841-1673470800-1673476200@kalendar.dubrovnik.hr
SUMMARY:VJENČANJE ZA UMRIJETI
DESCRIPTION:Romantični\, akcija\, komedija; 100min; SAD/2022 \nRežija : Jason Moore \nUl: Jennifer Lopez\, Josh Duhamel\, Jennifer Coolidge
URL:https://kalendar.dubrovnik.hr/event/vjencanje-za-umrijeti-5/
LOCATION:Kino Sloboda\, DUBROVNIK\, Dubrovačko - neretvanska županija\, 20000\, Hrvatska
CATEGORIES:FILM
ATTACH;FMTTYPE=image/jpeg:https://kalendar.dubrovnik.hr/wp-content/uploads/2023/01/vjencanje-za-umrijeti-2-417x600-1.jpg
ORGANIZER;CN="Kinematografi%20Dubrovnik":MAILTO:info@kinematografi.org
GEO:42.6409191;18.1106732
END:VEVENT
BEGIN:VEVENT
DTSTART;TZID=Europe/Zagreb:20230112T160000
DTEND;TZID=Europe/Zagreb:20230112T180000
DTSTAMP:20260425T233914
CREATED:20230110T102758Z
LAST-MODIFIED:20230110T102758Z
UID:10001861-1673539200-1673546400@kalendar.dubrovnik.hr
SUMMARY:BELLE I SEBASTIJAN: NOVA GENERACIJA
DESCRIPTION:Obiteljska avantura; 96min; Francuska / 2022; Režija: Pierre Coré \nUl: Alice David\, Michèle Laroque\, Robinson Mensah Rouanet
URL:https://kalendar.dubrovnik.hr/event/belle-i-sebastijan-nova-generacija/
LOCATION:Kino Sloboda\, DUBROVNIK\, Dubrovačko - neretvanska županija\, 20000\, Hrvatska
CATEGORIES:FILM
ATTACH;FMTTYPE=image/jpeg:https://kalendar.dubrovnik.hr/wp-content/uploads/2023/01/BELLE-I-SEBASTIJAN.jpg
ORGANIZER;CN="Kinematografi%20Dubrovnik":MAILTO:info@kinematografi.org
GEO:42.6409191;18.1106732
END:VEVENT
BEGIN:VEVENT
DTSTART;TZID=Europe/Zagreb:20230112T180000
DTEND;TZID=Europe/Zagreb:20230112T204500
DTSTAMP:20260425T233914
CREATED:20230110T102944Z
LAST-MODIFIED:20230110T102944Z
UID:10001844-1673546400-1673556300@kalendar.dubrovnik.hr
SUMMARY:FABELMANOVI
DESCRIPTION:Drama; 151min; SAD/2022; Režija: Steven Spielberg \nUl: Gabriel LaBelle\, Judd Hirsch\, Michelle Williams\, Paul Dano\, Seth
URL:https://kalendar.dubrovnik.hr/event/fabelmanovi/
LOCATION:Kino Sloboda\, DUBROVNIK\, Dubrovačko - neretvanska županija\, 20000\, Hrvatska
CATEGORIES:FILM
ATTACH;FMTTYPE=image/jpeg:https://kalendar.dubrovnik.hr/wp-content/uploads/2023/01/Fabelmans-cover.jpg
ORGANIZER;CN="Kinematografi%20Dubrovnik":MAILTO:info@kinematografi.org
GEO:42.6409191;18.1106732
END:VEVENT
BEGIN:VEVENT
DTSTART;TZID=Europe/Zagreb:20230112T183000
DTEND;TZID=Europe/Zagreb:20230112T203000
DTSTAMP:20260425T233914
CREATED:20230110T103502Z
LAST-MODIFIED:20230110T103502Z
UID:10001864-1673548200-1673555400@kalendar.dubrovnik.hr
SUMMARY:TRAGOVI
DESCRIPTION:Drama; 98min; Hrvatska /2023 ; Režija: Dubravka Turić \nUl: Lana Barić\, Marija Škaričić\, Nikša Butijer
URL:https://kalendar.dubrovnik.hr/event/tragovi/
LOCATION:Dvorana Visia\, DUBROVNIK\, Dubrovačko - neretvanska županija\, 20000\, Croatia (Local Name: Hrvatska)
CATEGORIES:FILM
ATTACH;FMTTYPE=image/jpeg:https://kalendar.dubrovnik.hr/wp-content/uploads/2023/01/tragovi.jpg
ORGANIZER;CN="Kinematografi%20Dubrovnik":MAILTO:info@kinematografi.org
GEO:42.6586378;18.1013637
END:VEVENT
BEGIN:VEVENT
DTSTART;TZID=Europe/Zagreb:20230112T203000
DTEND;TZID=Europe/Zagreb:20230112T220000
DTSTAMP:20260425T233914
CREATED:20230110T103728Z
LAST-MODIFIED:20230110T103728Z
UID:10001847-1673555400-1673560800@kalendar.dubrovnik.hr
SUMMARY:ZBOGOM LEONORA
DESCRIPTION:Drama; 90min; Italija/2022; Režija: Paolo Taviani \nUl: Dania Marino\, Fabrizio Ferracane\, Matteo Pittiruti
URL:https://kalendar.dubrovnik.hr/event/zbogom-leonora/
LOCATION:Dvorana Visia\, DUBROVNIK\, Dubrovačko - neretvanska županija\, 20000\, Croatia (Local Name: Hrvatska)
CATEGORIES:FILM
ATTACH;FMTTYPE=image/jpeg:https://kalendar.dubrovnik.hr/wp-content/uploads/2023/01/zbogom-leonora-05-768x768-1.jpg
ORGANIZER;CN="Kinematografi%20Dubrovnik":MAILTO:info@kinematografi.org
GEO:42.6586378;18.1013637
END:VEVENT
BEGIN:VEVENT
DTSTART;TZID=Europe/Zagreb:20230112T204500
DTEND;TZID=Europe/Zagreb:20230112T230000
DTSTAMP:20260425T233914
CREATED:20230110T103304Z
LAST-MODIFIED:20230110T103304Z
UID:10001863-1673556300-1673564400@kalendar.dubrovnik.hr
SUMMARY:OPERACIJA FORTUNE : PREVARA STOLJEĆA
DESCRIPTION:Triler\, komedija\, akcija; 114min; Kina\, UK\, SAD/2022 \nRežija: Guy Ritchie \nUl: Aubrey Plaza\, Jason Statham\, Cary Elwes\, Hugh Grant\, Josh Hartnett
URL:https://kalendar.dubrovnik.hr/event/operacija-fortune-prevara-stoljeca-7/
LOCATION:Kino Sloboda\, DUBROVNIK\, Dubrovačko - neretvanska županija\, 20000\, Hrvatska
CATEGORIES:FILM
ATTACH;FMTTYPE=image/jpeg:https://kalendar.dubrovnik.hr/wp-content/uploads/2023/01/operation-fortune-poster.jpg
ORGANIZER;CN="Kinematografi%20Dubrovnik":MAILTO:info@kinematografi.org
GEO:42.6409191;18.1106732
END:VEVENT
BEGIN:VEVENT
DTSTART;TZID=Europe/Zagreb:20230113T160000
DTEND;TZID=Europe/Zagreb:20230113T180000
DTSTAMP:20260425T233914
CREATED:20230110T104251Z
LAST-MODIFIED:20230110T104251Z
UID:10001866-1673625600-1673632800@kalendar.dubrovnik.hr
SUMMARY:BELLE I SEBASTIJAN: NOVA GENERACIJA
DESCRIPTION:Obiteljska avantura; 96min; Francuska / 2022; Režija: Pierre Coré \nUl: Alice David\, Michèle Laroque\, Robinson Mensah Rouanet
URL:https://kalendar.dubrovnik.hr/event/belle-i-sebastijan-nova-generacija-2/
LOCATION:Kino Sloboda\, DUBROVNIK\, Dubrovačko - neretvanska županija\, 20000\, Hrvatska
CATEGORIES:FILM
ATTACH;FMTTYPE=image/jpeg:https://kalendar.dubrovnik.hr/wp-content/uploads/2023/01/BELLE-I-SEBASTIJAN.jpg
ORGANIZER;CN="Kinematografi%20Dubrovnik":MAILTO:info@kinematografi.org
GEO:42.6409191;18.1106732
END:VEVENT
BEGIN:VEVENT
DTSTART;TZID=Europe/Zagreb:20230113T180000
DTEND;TZID=Europe/Zagreb:20230113T210000
DTSTAMP:20260425T233914
CREATED:20230110T104504Z
LAST-MODIFIED:20230110T104504Z
UID:10001849-1673632800-1673643600@kalendar.dubrovnik.hr
SUMMARY:FABELMANOVI
DESCRIPTION:Drama; 151min; SAD/2022; Režija: Steven Spielberg \nUl: Gabriel LaBelle\, Judd Hirsch\, Michelle Williams\, Paul Dano\, Seth \n 
URL:https://kalendar.dubrovnik.hr/event/fabelmanovi-2/
LOCATION:Kino Sloboda\, DUBROVNIK\, Dubrovačko - neretvanska županija\, 20000\, Hrvatska
CATEGORIES:FILM
ATTACH;FMTTYPE=image/jpeg:https://kalendar.dubrovnik.hr/wp-content/uploads/2023/01/Fabelmans-cover.jpg
ORGANIZER;CN="Kinematografi%20Dubrovnik":MAILTO:info@kinematografi.org
GEO:42.6409191;18.1106732
END:VEVENT
BEGIN:VEVENT
DTSTART;TZID=Europe/Zagreb:20230113T180000
DTEND;TZID=Europe/Zagreb:20230113T200000
DTSTAMP:20260425T233914
CREATED:20230110T105602Z
LAST-MODIFIED:20230110T105602Z
UID:10001851-1673632800-1673640000@kalendar.dubrovnik.hr
SUMMARY:OBJE STRANE OŠTRICE
DESCRIPTION:Drama\, romantični\,triler; 116min; Francuska /2022 ; Režija: Claire Denis \nUl: Juliette Binoche\, Vincent Lindon\, Grégoire Colin
URL:https://kalendar.dubrovnik.hr/event/obje-strane-ostrice-6/
LOCATION:Dvorana Visia\, DUBROVNIK\, Dubrovačko - neretvanska županija\, 20000\, Croatia (Local Name: Hrvatska)
CATEGORIES:FILM
ATTACH;FMTTYPE=image/jpeg:https://kalendar.dubrovnik.hr/wp-content/uploads/2023/01/objestraneostrice.jpg
ORGANIZER;CN="Kinematografi%20Dubrovnik":MAILTO:info@kinematografi.org
GEO:42.6586378;18.1013637
END:VEVENT
BEGIN:VEVENT
DTSTART;TZID=Europe/Zagreb:20230113T210000
DTEND;TZID=Europe/Zagreb:20230113T230000
DTSTAMP:20260425T233914
CREATED:20230110T105414Z
LAST-MODIFIED:20230110T105414Z
UID:10001868-1673643600-1673650800@kalendar.dubrovnik.hr
SUMMARY:M3GAN
DESCRIPTION:Horor\, triler\, znanstvena fantastika;  102min; SAD/2022 \nRežija: Gerard Johnstone \nUl: Allison Williams\, Amie Donald\, Brian Jordan Alvarez\, Ronny Chieng\, Violet McGraw
URL:https://kalendar.dubrovnik.hr/event/m3gan/
LOCATION:Kino Sloboda\, DUBROVNIK\, Dubrovačko - neretvanska županija\, 20000\, Hrvatska
CATEGORIES:FILM
ATTACH;FMTTYPE=image/jpeg:https://kalendar.dubrovnik.hr/wp-content/uploads/2023/01/M3GAN.jpg
ORGANIZER;CN="Kinematografi%20Dubrovnik":MAILTO:info@kinematografi.org
GEO:42.6409191;18.1106732
END:VEVENT
BEGIN:VEVENT
DTSTART;TZID=Europe/Zagreb:20230114T143000
DTEND;TZID=Europe/Zagreb:20230114T160000
DTSTAMP:20260425T233914
CREATED:20230110T105814Z
LAST-MODIFIED:20230110T105814Z
UID:10001870-1673706600-1673712000@kalendar.dubrovnik.hr
SUMMARY:CVRČAK I MRAVICA
DESCRIPTION:Animirana avantura; 82min; Hrvatska / 2022; Režija: Luka Rukavina \nGl: Tara Thaller\, Marko Petrić\, Filip Vidović\, Jadranka Krajina\, Katarina Madirazza Strahinić\, Dušan Bućan\, Mladen Vasary\, Luka Petrušić\, Domagoj Janković\, Ivan Đurić\, Hrvoje Kečkeš
URL:https://kalendar.dubrovnik.hr/event/cvrcak-i-mravica-7/
LOCATION:Kino Sloboda\, DUBROVNIK\, Dubrovačko - neretvanska županija\, 20000\, Hrvatska
CATEGORIES:FILM
ATTACH;FMTTYPE=image/jpeg:https://kalendar.dubrovnik.hr/wp-content/uploads/2023/01/CVRCAK-I-MRAVICA-face.jpg
ORGANIZER;CN="Kinematografi%20Dubrovnik":MAILTO:info@kinematografi.org
GEO:42.6409191;18.1106732
END:VEVENT
BEGIN:VEVENT
DTSTART;TZID=Europe/Zagreb:20230114T160000
DTEND;TZID=Europe/Zagreb:20230114T180000
DTSTAMP:20260425T233914
CREATED:20230110T110005Z
LAST-MODIFIED:20230110T110005Z
UID:10001871-1673712000-1673719200@kalendar.dubrovnik.hr
SUMMARY:BELLE I SEBASTIJAN: NOVA GENERACIJA
DESCRIPTION:Obiteljska avantura; 96min; Francuska / 2022; Režija: Pierre Coré \nUl: Alice David\, Michèle Laroque\, Robinson Mensah Rouanet
URL:https://kalendar.dubrovnik.hr/event/belle-i-sebastijan-nova-generacija-3/
LOCATION:Kino Sloboda\, DUBROVNIK\, Dubrovačko - neretvanska županija\, 20000\, Hrvatska
CATEGORIES:FILM
ATTACH;FMTTYPE=image/jpeg:https://kalendar.dubrovnik.hr/wp-content/uploads/2023/01/BELLE-I-SEBASTIJAN.jpg
ORGANIZER;CN="Kinematografi%20Dubrovnik":MAILTO:info@kinematografi.org
GEO:42.6409191;18.1106732
END:VEVENT
BEGIN:VEVENT
DTSTART;TZID=Europe/Zagreb:20230114T180000
DTEND;TZID=Europe/Zagreb:20230114T200000
DTSTAMP:20260425T233914
CREATED:20230110T110650Z
LAST-MODIFIED:20230110T110650Z
UID:10000820-1673719200-1673726400@kalendar.dubrovnik.hr
SUMMARY:TRAGOVI 
DESCRIPTION:Drama; 98min; Hrvatska /2023 ; Režija: Dubravka Turić \nUl: Lana Barić\, Marija Škaričić\, Nikša Butijer
URL:https://kalendar.dubrovnik.hr/event/tragovi-2/
LOCATION:Dvorana Visia\, DUBROVNIK\, Dubrovačko - neretvanska županija\, 20000\, Croatia (Local Name: Hrvatska)
CATEGORIES:FILM
ATTACH;FMTTYPE=image/jpeg:https://kalendar.dubrovnik.hr/wp-content/uploads/2023/01/tragovi.jpg
ORGANIZER;CN="Kinematografi%20Dubrovnik":MAILTO:info@kinematografi.org
GEO:42.6586378;18.1013637
END:VEVENT
END:VCALENDAR