BEGIN:VCALENDAR
VERSION:2.0
PRODID:-//Kalendar događanja Dubrovnika - ECPv6.1.1//NONSGML v1.0//EN
CALSCALE:GREGORIAN
METHOD:PUBLISH
X-WR-CALNAME:Kalendar događanja Dubrovnika
X-ORIGINAL-URL:https://kalendar.dubrovnik.hr
X-WR-CALDESC:Događanja za Kalendar događanja Dubrovnika
REFRESH-INTERVAL;VALUE=DURATION:PT1H
X-Robots-Tag:noindex
X-PUBLISHED-TTL:PT1H
BEGIN:VTIMEZONE
TZID:Europe/Zagreb
BEGIN:DAYLIGHT
TZOFFSETFROM:+0100
TZOFFSETTO:+0200
TZNAME:CEST
DTSTART:20240331T010000
END:DAYLIGHT
BEGIN:STANDARD
TZOFFSETFROM:+0200
TZOFFSETTO:+0100
TZNAME:CET
DTSTART:20241027T010000
END:STANDARD
BEGIN:DAYLIGHT
TZOFFSETFROM:+0100
TZOFFSETTO:+0200
TZNAME:CEST
DTSTART:20250330T010000
END:DAYLIGHT
BEGIN:STANDARD
TZOFFSETFROM:+0200
TZOFFSETTO:+0100
TZNAME:CET
DTSTART:20251026T010000
END:STANDARD
TZID:Europe/Paris
BEGIN:DAYLIGHT
TZOFFSETFROM:+0100
TZOFFSETTO:+0200
TZNAME:CEST
DTSTART:20220327T010000
END:DAYLIGHT
BEGIN:STANDARD
TZOFFSETFROM:+0200
TZOFFSETTO:+0100
TZNAME:CET
DTSTART:20221030T010000
END:STANDARD
END:VTIMEZONE
BEGIN:VEVENT
DTSTART;TZID=Europe/Zagreb:20240703T210000
DTEND;TZID=Europe/Zagreb:20240703T230000
DTSTAMP:20260420T220908
CREATED:20240701T135751Z
LAST-MODIFIED:20240701T135751Z
UID:10004820-1720040400-1720047600@kalendar.dubrovnik.hr
SUMMARY:Otvorenje izložbe; "Dvadeset godina Le Petit Festivala kroz objektive Željka Tutnjevića"
DESCRIPTION:Pozivamo vas u srijedu 3. srpnja u 21 sat na otvorenje izložbe i druženje s Le Petit Festivalom. \nIzložba “Dvadeset godina Le Petit Festivala kroz objektive Željka Tutnjevića” predstavit će Željka i njegove objektive kao kroničara ovog malog i neobičnog Festivala. \nŽeljko je fotograf starog kova\, ali i novih ideja\, a njegove nježno romantične\, a i pomalo drske “click-click-click” vodi istraživački duh i talent vječnog dječaka. \nIzložba se može pogledati radnim danima do 8. srpnja od 12 do 20 h u Art radionici Lazareti / lađa 10 /
URL:https://kalendar.dubrovnik.hr/event/otvorenje-izlozbe-dvadeset-godina-le-petit-festivala-kroz-objektive-zeljka-tutnjevica/
LOCATION:Lazaret\, DUBROVNIK\, Dubrovačko - neretvanska županija\, 20000\, Croatia (Local Name: Hrvatska)
CATEGORIES:Festivali,Izložbe,KULTURA,Suvremene umjetničke prakse
ATTACH;FMTTYPE=image/jpeg:https://kalendar.dubrovnik.hr/wp-content/uploads/2024/07/ZT.jpg
ORGANIZER;CN="Le%20Petit%20Festival%20du%20Theatre":MAILTO:lepetitfestival@gmail.com
GEO:42.6586378;18.1013637
END:VEVENT
BEGIN:VEVENT
DTSTART;TZID=Europe/Zagreb:20240705T213000
DTEND;TZID=Europe/Zagreb:20240705T230000
DTSTAMP:20260420T220908
CREATED:20240701T140158Z
LAST-MODIFIED:20240701T140308Z
UID:10004821-1720215000-1720220400@kalendar.dubrovnik.hr
SUMMARY:Koncert: "Iz tuđine" Dubrovački kavaljeri i sopranistica Ljiljana Lišković
DESCRIPTION:Dubrovački kavaljeri na Le Petit Festivalu predstavljaju svoj aktualni program “Iz tuđine”. Zajedno sa svojom zvjezdanom gošćom\, opernom pjevačicom Liljanom Lišković\, Kavaljeri su zaplovili na glazbeno putovanje od folklora do klasike i modernog. Polazeći od svojih dalmatinskih korijena\, spajaju lokalni kolorit starih narodnih pjesama i Prve hrvatske simfonije s posebnim skladbama klasičnih skladatelja\, autorskim skladbama na tekstove Anke Petričević (Sestra Marije od Presvetoga Srca) i Anđelke Petričević Čenić te međunarodnim hitovima. . Široki buket mirisnog i šarenog cvijeća\, kao stvoren za temu ljubavi. \nVive la amour! \nUlaz na sva događanja Le petit festivala je besplatan* \n*zbog ograničenog prostora i broja sjedala\, u publici\, potrebno je napraviti rezervaciju ulaznica na info@lepetitfestival.com / lepetitfestival@gmail.com \n 
URL:https://kalendar.dubrovnik.hr/event/koncert-iz-tudine-dubrovacki-kavaljeri-ljiljana-liskovic/
LOCATION:Knežev dvor\, DUBROVNIK\, Dubrovačko - neretvanska županija\, 20000\, Hrvatska
CATEGORIES:Festivali,Koncerti,Ostala glazbeno-scenska,Suvremene umjetničke prakse
ATTACH;FMTTYPE=image/jpeg:https://kalendar.dubrovnik.hr/wp-content/uploads/2024/07/lpf.jpg
ORGANIZER;CN="Le%20Petit%20Festival%20du%20Theatre":MAILTO:lepetitfestival@gmail.com
GEO:42.6403741;18.1107474
END:VEVENT
BEGIN:VEVENT
DTSTART;TZID=Europe/Zagreb:20240707T213000
DTEND;TZID=Europe/Zagreb:20240707T223000
DTSTAMP:20260420T220908
CREATED:20240701T141455Z
LAST-MODIFIED:20240701T141455Z
UID:10004823-1720387800-1720391400@kalendar.dubrovnik.hr
SUMMARY:Koncert - Plavi nomadi svjetskoga jazza: Sophia Charai\, Rehann Duplessy
DESCRIPTION:U sklopu Le petit festivala u nedjelju 7. srpnja u 21:30 u Kneževom Dvoru održat će se koncert pod nazivom Plavi nomadi svjetskog jazza. \nArhitektica\, fotografkinja\, stilistica… Sophia Charaï\, rođena u Maroku\, konačno se posvetila glazbi 2004. sa svojim debitantskim albumom “Mouja”\, nakon čega je uslijedio nastup uživo u Satellite Caféu. Početkom 2011. objavila je svoj drugi album\, “Pichu”\, koji je poznat po pikantnim prizvucima world musica. Objavivši tri albuma pod Universalom\, Sophia Charaï čvrsto se etablirala kao jazz pjevačica koja se okušala u svjetskoj glazbi. Obučena za glazbenu terapiji u Međunarodnom centru za glazbenu terapiju (C.I.M.) u Noisy-Le-Grandu\, posebno je zainteresirana za energetsku i duhovnu dimenziju glasa. Njezine radionice vokalne prakse nude višeosjetilno iskustvo\, omogućujući sudionicima postizanje osjećaja blagostanja i ispunjenja\, a istovremeno razvijaju vještine slušanja i samopouzdanje.\nNa dubrovačkom koncertu za klavirom će je pratiti njen devetnaestogodišnji sin\, pijanist i pjesnik Rehann Duplessy. Njegova glazba izvire iz jazza\, bluesa\, Brazila on će pratiti glas svoje majke po svjetskim drumovima jazza\, a ona će izvoditi pjesme na arapskom\, engleskom\, francuskom\, španjolskom\, portugalskom… kao uvijek tražeći energetsku i duhovnu dimenziju zvuka. \nUlaz na sva događanja Le petit festivala je besplatan* \n*zbog ograničenog prostora i broja sjedala\, u publici\, potrebno je napraviti rezervaciju ulaznica na info@lepetitfestival.com / lepetitfestival@gmail.com \n 
URL:https://kalendar.dubrovnik.hr/event/koncert-plavi-nomadi-svjetskoga-jazza-sophia-charai-rehann-duplessy/
LOCATION:Knežev dvor\, DUBROVNIK\, Dubrovačko - neretvanska županija\, 20000\, Hrvatska
CATEGORIES:Festivali,Koncerti,KULTURA,Ostala glazbeno-scenska,Suvremene umjetničke prakse
ATTACH;FMTTYPE=image/jpeg:https://kalendar.dubrovnik.hr/wp-content/uploads/2024/07/lpf-2.jpg
ORGANIZER;CN="Le%20Petit%20Festival%20du%20Theatre":MAILTO:lepetitfestival@gmail.com
GEO:42.6403741;18.1107474
END:VEVENT
BEGIN:VEVENT
DTSTART;TZID=Europe/Zagreb:20250603T210000
DTEND;TZID=Europe/Zagreb:20250603T230000
DTSTAMP:20260420T220908
CREATED:20250602T090712Z
LAST-MODIFIED:20250602T091012Z
UID:10007814-1748984400-1748991600@kalendar.dubrovnik.hr
SUMMARY:XXI Le petit festival
DESCRIPTION:XXI Le petit festival \nTema dvadeset i prvog Malog festivala je \nTraženje ljepote i sreće u teškim vremenima \nTeška vremena su univerzalni dio ljudskog iskustva. Ova fraza odjekuje kod mnogih ljudi\, podsjećajući nas da patnja i radost mogu koegzistirati. Ljepota u tuzi\, bogatstvo sreće u oskudici… Stvara osjećaj zajedništva i dijeljenog iskustva\, jer se svatko suočava s vlastitim izazovima. \nČesto\, mučni trenuci mogu dovesti do značajnog osobnog rasta. Traženje ljepote i sreće u teškim vremenima može biti prosvijetljujući proces koji pomaže pojedincima da otkriju nove snage\, vrijednosti ili strasti koje možda nisu prepoznali ranije. U sažetku\, ideja traženja ljepote i sreće u teškim vremenima snažan je podsjetnik da čak i u nevolji postoji potencijal za pozitivnost\, rast i povezanost. Potiče aktivno traganje za radošću i smislom\, što može na kraju dovesti do ispunjenijeg života… jer na samom kraju ipak je najvažnije ono “koliko sam volio i voljen bio” \nJESTE LI ZNALI ?? \nSnježne pahulje su nekada bile plavi dijamanti. Ti plavi dijamanti bili su toliko sjajni da su stvorili nebo. To se dogodilo prije mnogo stotina godina\, možda čak i tisuće milijuna godina. Dok snježne pahulje padaju\, sjećaju se sreće i ljepote kada su bile plavi dijamanti. Ti isti nostalgični uspomeni djeluju kao prijatelji koji dolaze izliječiti tugu. Baš kao kada posljednji jesenski cvijet dodirne snijeg…ne umre\, već još veličanstvenije cvjeta. \n  \nZNATE LI ZBOG ČEGA?? \nTo je zato što posljednje cvjetanje prenosi sreću i otkriva ljepotu drevne tuge plavih dijamanata. \n  \nProgram: \n  \nSrijeda\, 28. svibnja  \nStudio Pulitika u 21h \nIzložba –  Traženje ljepote i sreće u teškim vremenima \nAlberto Leon\, Miloš Glavuritić\, Vladimir Dodig Trokut \n  \n  \nUtorak\, 3. lipnja  \nKnežev dvor u 21h \nKnjiževno-glazbena večer: Nogometna priča jednog malog dubrovačkog tima \nMali tim iz Dubrovnika odlučuje sudjelovati na prvom svjetskom amaterskom nogometnom prvenstvu\, kako bi skupio sredstva za skupu i složenu operaciju srca jedne voljene majke \nMi nemamo nikakve šanse za pobjedu\, ali ćemo je ipak pokušati iskoristiti. \n  \nSubota 7. lipnja \nKnežev dvor u 21h \nMuzički performans: Gudalo i kist \nUmjetnička predstava koja osmišljava novu glazbu inspiriranu slikama i skulpturama. Njena misija je povezati različite umjetničke forme i stvoriti jedinstvena glazbena djela koja slave ljepotu vizualne umjetnosti. \nIzvodi: Dan Flanagan \nNedjelja 8. lipnja \nFranjevački samostan u 20:30 h \nKnjiževno i glazbeno večer: Pod pariškim nebom \nHibridna forma koja spaja elemente drame\, poezije i glazbe. \nIzvode: Freeda Nera Immortalle / Nera Stipičević & Tomislav Parmać \nPonedjeljak 9.⁠ ⁠lipnja \nKnežev dvor u 21 h \nZemlja snova: Akrobacije i ples \nIzvode: Riia Kivimäki & Saku Mäkelä. \n  \n40 godina Dubrovačkih kavaljera \nMuzika koja donosi jedinstvenu mješavinu žanrova. \nIzvode: Dubrovački kavaljeri. \n 
URL:https://kalendar.dubrovnik.hr/event/xxi-le-petit-festival/2025-06-03/
LOCATION:Knežev dvor\, DUBROVNIK\, Dubrovačko - neretvanska županija\, 20000\, Hrvatska
CATEGORIES:KULTURA
ATTACH;FMTTYPE=image/jpeg:https://kalendar.dubrovnik.hr/wp-content/uploads/2025/06/IMG_3218.jpg
ORGANIZER;CN="Le%20Petit%20Festival%20du%20Theatre":MAILTO:lepetitfestival@gmail.com
GEO:42.6403741;18.1107474
END:VEVENT
BEGIN:VEVENT
DTSTART;TZID=Europe/Zagreb:20240706T213000
DTEND;TZID=Europe/Zagreb:20240706T223000
DTSTAMP:20260420T220908
CREATED:20240701T140834Z
LAST-MODIFIED:20240701T140834Z
UID:10004822-1720301400-1720305000@kalendar.dubrovnik.hr
SUMMARY:Koncert; Nera Stipičević i Travershe - "Voilà à la Travershe"
DESCRIPTION:Francuska glazbena priča Nera Stipičević & Travershe \nJedinstveni kolaž program poznate francuske klasične i suvremene glazbe koji na autentično intiman\, emotivan\, teatralan i pripovjedački način izvode Nera Stipičević / FreeDA Nera Immortelle (F-N-I) i sastav TRAVERSHE\, podsjeća nas na važnost umjetnosti i njezinog ljekovito- katarzičnog utjecaja.\nTermin Travershe (dalm. Pregače) zajednički je naziv za sve suradnike umjetnice F-N-I koji svakodnevno živeći svoju strast\, svojim talentima služe i doprinose društvu. Odjeveni u pregače\, Travershe promoviraju nužnost svakodnevnog kreativnog djelovanja pojedinca u svrhu održavanja njegovog mentalnog zdravlja.\nČetiri muškatira… Tomislav Parmaća na klaviru\, Mirko Prišlin i gitara\, Petar Haluza s violinom\, Neven Šverko i njegov čelo\, te ona\, kao da je pobjegla iz romana Alexandra Dumasa\, tajanstvena i uvijek intrigantna Nera Stipičević će vas ukrasti… pripovjedačkim ushitom novih načina iscjeliteljske energije koju krije samo divota iskonskog stvaralaštva. Ti romantični lupeži će vam pokloniti ono najljepše što ima francuska klasična i suvremena muzika i poezija. \nUlaz na sva događanja Le petit festivala je besplatan* \n*zbog ograničenog prostora i broja sjedala\, u publici\, potrebno je napraviti rezervaciju ulaznica na info@lepetitfestival.com / lepetitfestival@gmail.com \nVive l’Amour!
URL:https://kalendar.dubrovnik.hr/event/koncert-nera-stipicevic-i-travershe-voila-a-la-travershe/
LOCATION:Knežev dvor\, DUBROVNIK\, Dubrovačko - neretvanska županija\, 20000\, Hrvatska
CATEGORIES:Festivali,Folklor,Ostala glazbeno-scenska,Suvremene umjetničke prakse
ATTACH;FMTTYPE=image/jpeg:https://kalendar.dubrovnik.hr/wp-content/uploads/2024/07/lpf-1.jpg
ORGANIZER;CN="Le%20Petit%20Festival%20du%20Theatre":MAILTO:lepetitfestival@gmail.com
GEO:42.6403741;18.1107474
END:VEVENT
BEGIN:VEVENT
DTSTART;TZID=Europe/Paris:20220624T210000
DTEND;TZID=Europe/Paris:20220704T220000
DTSTAMP:20260420T220908
CREATED:20220715T220000Z
LAST-MODIFIED:20220719T041726Z
UID:10001370-1656104400-1656972000@kalendar.dubrovnik.hr
SUMMARY:Le Petit Festival du Théâtre Dubrovnik
DESCRIPTION:Poštovane Dame i Gospodo\, \nOsamnaesti Le Petit Festival du Théâtre otvara se sa živahnošću koju imaju zaljubljena djeca i usamljeni pustinjaci. \nRazumijete li ovu nediscipliniranu metaforu? \nOna bi u stvari željelela biti suprotno od onog tajanstvenog paradoksa: “Žudjeti je uvijek imati ono što nemamo.” \nPriroda to ima\, i daje nam svakodnevno i nesebično\, a mi je ne razumijemo\, već je okrutno iskorištavamo. \nTako je teško shvatiti greške koje su postale navika. \nGdje li je naše ganuće i suosjećanje? \n„Mi nismo naslijedili ovu Zemlju od naših predaka već smo je samo posudili od naših potomka“. \nBaš zato… \nKrenimo\, došlo je vrijeme – preobrazimo san u nadahnuće i ljepotu i sve nedorečenosti pokušajmo ponovo oživjeti\, a sve u inat genetski modificiranom… \nLe Petit predstavlja svoj program otvaranjem  izložbe čiji naziv je i glavna tema Festivala \nRetour à la Nature – Povratak Prirodi \n24. lipnja u 21:00 – Tvrđava sv. Ivana; Atelier Pulitika \n IZLOŽBA: Povratak Prirodi\n \nautori: Ekrem Yalcindag (Turska)\, Marija Graša (Hrvatska)\, Thomas Henrikson (Švedska) i Tyra Vladic (Hrvatska) \nOd 26. lipnja do 2. srpnja – Lokrum i Elafiti  \nRad slovenskog umjetnika Radovana Jenka poster koji titra okrepljavajućom energijom: “Voli prirodu kao svoju majku\, ne okreći joj leđa” \, umjetnici Le Petit Festivala\, predstavit će se ove godine i na dubrovačkim otocima te publici prenjeti ovu snažnu poruku Ljubavi. Kao i svake godine Le Petit je spreman za posjet Domu za starije i nemoćne osoba u Dubrovniku gdje će se uz pjesmu i performance poruku prenjeti i  štičenicima doma. \n3. srprnja u 21:00 – Knežev Dvor \nZaboravljene Božje biljke ili lijekovi farmaceutske industrije \nFranka Prizmić (Hrvatska)\, Anastasia Remy i Ines Bouallegue (Švicarska) „tri mušketira“\, zajedno imaju trideset ljeta\, najaviti će noć posvećenu zdravlju \nAnne Vervick (Belgija) – pionirka homopatije u Beneluxu   \ndr.Saša Lučić (Hrvatska-Italija)  \n4. srpnja u 21:00 \nSjećanje na hrvatskoga kompozitora i pjesnika Juru Stanića \nMartin Ladika (Hrvatska)\, Vinko Prizmic (Hrvatska) \nGudački kvartet – Karmen Begić\, Marta\, Džive i Paula Čatić (Hrvatska)  \n pobjednica prvog “Worldvision song contest Le Petit Festivala” – Karla Gabrieri. \nwww.lepetitfestival.com \nMemories are… the most magical and the most painful kisses of Time. \nVive L’Amour  \n  \n  \n  \n  \n  \n  \n  \n 
URL:https://kalendar.dubrovnik.hr/event/le-petit-festival-du-theatre-dubrovnik-24-6-4-7-2022/
LOCATION:Dubrovnik\, DUBROVNIK\, Dubrovačko - neretvanska županija\, 20000\, Hrvatska
ATTACH;FMTTYPE=image/jpeg:https://kalendar.dubrovnik.hr/wp-content/uploads/2022/07/Retour_a_la_Nature_Dubrovnik.jpg
ORGANIZER;CN="Le%20Petit%20Festival%20du%20Theatre":MAILTO:lepetitfestival@gmail.com
GEO:42.6586378;18.1013637
END:VEVENT
END:VCALENDAR