BEGIN:VCALENDAR
VERSION:2.0
PRODID:-//Kalendar događanja Dubrovnika - ECPv6.1.1//NONSGML v1.0//EN
CALSCALE:GREGORIAN
METHOD:PUBLISH
X-WR-CALNAME:Kalendar događanja Dubrovnika
X-ORIGINAL-URL:https://kalendar.dubrovnik.hr
X-WR-CALDESC:Događanja za Kalendar događanja Dubrovnika
REFRESH-INTERVAL;VALUE=DURATION:PT1H
X-Robots-Tag:noindex
X-PUBLISHED-TTL:PT1H
BEGIN:VTIMEZONE
TZID:Europe/Zagreb
BEGIN:DAYLIGHT
TZOFFSETFROM:+0100
TZOFFSETTO:+0200
TZNAME:CEST
DTSTART:20240331T010000
END:DAYLIGHT
BEGIN:STANDARD
TZOFFSETFROM:+0200
TZOFFSETTO:+0100
TZNAME:CET
DTSTART:20241027T010000
END:STANDARD
BEGIN:DAYLIGHT
TZOFFSETFROM:+0100
TZOFFSETTO:+0200
TZNAME:CEST
DTSTART:20250330T010000
END:DAYLIGHT
BEGIN:STANDARD
TZOFFSETFROM:+0200
TZOFFSETTO:+0100
TZNAME:CET
DTSTART:20251026T010000
END:STANDARD
END:VTIMEZONE
BEGIN:VEVENT
DTSTART;TZID=Europe/Zagreb:20241110T190000
DTEND;TZID=Europe/Zagreb:20241110T230000
DTSTAMP:20260422T002501
CREATED:20241105T124951Z
LAST-MODIFIED:20241105T145321Z
UID:10005414-1731265200-1731279600@kalendar.dubrovnik.hr
SUMMARY:Lumiart Dubrovnik - Light Festival
DESCRIPTION:Svega nekoliko dana dijeli nas od još jednog izdanja festivala svjetlosti LUMIART koji slavi očaravajuću igru svjetla\, umjetnosti i tehnologije. U organizaciji Turističke zajednice Grada Dubrovnika i produkciji tvrtke Pixel dizajn\, od 8. do 10. studenog sudionici će doživjeti bogat program impresivnih umjetničkih instalacija\, projekcija 3D mapiranja i interaktivnih izložbi na najljepšim lokacijama u gradu. \nFestival započinje 8. studenog u 19:00 sati Svečanim otvorenjem ispred palače Sponza\, na kojoj će biti premijerno prikazan 3D mapping spektakl “Evolucija svjetlosti” domaćina Pixel dizajn. Ovo živopisno putovanje transformativnom snagom svjetlosti odvijat će se po rotirajućem rasporedu kroz tri noći festivala u 19:00\, 20:00 i 21:00. \nIz programa LUMIART 2024. izdvajamo: \n\nPalača Sponza kao centralna pozornica Lumiarta ugostit će brojne projekcije uključujući “LIFE”\, fantazijsku videoumjetničku projekciju Emila Petra s glazbom Sashe Lattuce\, nudeći gledateljima nadrealno putovanje u prirodu i ljudsko iskustvo. Na fasadi Sponze odvijat će se I retrospektiva 3D mappinga Pixel dizajna\, kao i audiovizualno putovanje uz glazbu. U atriju Sponze nalazit će se impresivna instalacija rumunjskog umjetnika Ignata Radu – radi se o trometarskoj metalnoj maski na koju se projiciraju animacije te se čini da maska stalno mijenja oblik\, boju i materijal.\nStradun će oživjeti uz “White Light Stilt Angels”\, uličnu predstavu Morene i Martina iz Martiniuss Cirkusa\, koja će središnju dubrovačku šetnicu ispuniti eteričnim svjetlom i pokretom.\nInteraktivne instalacije Visualia grupe “Megaball” i “I need a break” na Držićevoj poljani pozvat će publiku da se uključe\, donoseći festivalu razigranu dinamiku.\nProslava tehnoloških ikona: Posebna prezentacija na zidu café bara Cele odat će se u čast Hedy Lamarr\, ističući njezine doprinose tehnologiji\, a predstavlja je Ekonomska i trgovačka škola Dubrovnik. Na istoj lokaciji bit će prikazani i dječji radovi u suradnji s Prirodoslovnim muzejem Dubrovnik.\n1700 godina sv. Vlaha: Katedralu će obasjati 3D mapping sakralne tematike pripremljen u prigodi 1700. obljetnice mučeničke smrti sv. Vlaha\n\n  \nSvake večeri gosti će moći uživati ​​u živopisnim dijaprojekcijama kolektiva Night projection na Stradunu\, kao i interaktivnoj svjetlosnoj instalaciji „Leaf Motion – Kaleidoscope” na vratima od Pila\, zahvaljujući grupi FényHangÁr iz Mađarske. \n  \nS dubrovačkom drevnom arhitekturom kao platnom\, LUMIART Festival 2024. obećava jedinstvenu proslavu umjetnosti\, inovacije i duha zajednice a sve u sklopu obilježavanja Međunarodnog dana izumitelja 09. studenog. \n  \nZa potpuni užitak u ovim prekrasnim dubrovačkim noćima pobrinuli su se café bar Cele koji za razdoblje od 8. do 10. studenog u vremenu od 19:00 do 22:00 sata odobrava 20% popusta na svoju ponudu\, Stradoon 30% popusta na sva pića\, a La Bodega 25 % na svoju ponudu. \n  \nZa više informacija i novosti posjetite web stranicu https://www.lumiart-dubrovnik.com/ i pratite nas na društvenim mrežama. \n 
URL:https://kalendar.dubrovnik.hr/event/dubrovnik-se-priprema-za-lumiart-spektakl-najavljujemo-bogati-program-kroz-tri-festivalske-veceri/2024-11-10/
LOCATION:Stradun Dubrovnik\, Croatia (Local Name: Hrvatska)
CATEGORIES:Festivali
ATTACH;FMTTYPE=image/jpeg:https://kalendar.dubrovnik.hr/wp-content/uploads/2024/11/lumiart-citylight-1-002-scaled.jpg
GEO:45.1;15.2000001
END:VEVENT
BEGIN:VEVENT
DTSTART;TZID=Europe/Zagreb:20251107T183000
DTEND;TZID=Europe/Zagreb:20251109T230000
DTSTAMP:20260422T002501
CREATED:20251103T111500Z
LAST-MODIFIED:20251103T111503Z
UID:10008294-1762540200-1762729200@kalendar.dubrovnik.hr
SUMMARY:Lumiart Dubrovnik - Festival svjetlosti
DESCRIPTION:
URL:https://kalendar.dubrovnik.hr/event/lumiart-dubrovnik-festival-svjetlosti/
LOCATION:Stradun\, DUBROVNIK\, Dubrovačko - neretvanska županija\, 20000\, Hrvatska
ATTACH;FMTTYPE=image/jpeg:https://kalendar.dubrovnik.hr/wp-content/uploads/2025/11/537915367_754478817470626_5386039578123277057_n.jpg
GEO:42.6413421;18.1090464
END:VEVENT
END:VCALENDAR