BEGIN:VCALENDAR
VERSION:2.0
PRODID:-//Kalendar događanja Dubrovnika - ECPv6.1.1//NONSGML v1.0//EN
CALSCALE:GREGORIAN
METHOD:PUBLISH
X-WR-CALNAME:Kalendar događanja Dubrovnika
X-ORIGINAL-URL:https://kalendar.dubrovnik.hr
X-WR-CALDESC:Događanja za Kalendar događanja Dubrovnika
REFRESH-INTERVAL;VALUE=DURATION:PT1H
X-Robots-Tag:noindex
X-PUBLISHED-TTL:PT1H
BEGIN:VTIMEZONE
TZID:Europe/Zagreb
BEGIN:DAYLIGHT
TZOFFSETFROM:+0100
TZOFFSETTO:+0200
TZNAME:CEST
DTSTART:20220327T010000
END:DAYLIGHT
BEGIN:STANDARD
TZOFFSETFROM:+0200
TZOFFSETTO:+0100
TZNAME:CET
DTSTART:20221030T010000
END:STANDARD
END:VTIMEZONE
BEGIN:VEVENT
DTSTART;TZID=Europe/Zagreb:20221117T190000
DTEND;TZID=Europe/Zagreb:20221117T203000
DTSTAMP:20260421T054533
CREATED:20221025T134205Z
LAST-MODIFIED:20221025T134206Z
UID:10000624-1668711600-1668717000@kalendar.dubrovnik.hr
SUMMARY:Pianaforat – ciklus klavirskih recitala
DESCRIPTION:Ciklusom klavirskih recitala Pianaforat Glazbena radionica Sorgo nastavlja s predstavljanjem dubrovačkih pijanista mlađe i srednje generacije. Ciklus se odvija tokom cijele 2022. godine. \nProgrami recitala koncipirani su različito u klasičnim\, ali i u neuobičajenim formama\, a ovom ciklusu Glazbena radionica Sorgo daje novi okvir prostorom Kreativne četvrti Lazareti te ostvaruje s suradnju Dubrovačkom baštinom d.o.o.. Umjetnička škola Luke Sorkočevića\, čiji su profesori mahom pijanisti ciklusa također podupire ciklus Pianaforat. \nUlaz je slobodan.
URL:https://kalendar.dubrovnik.hr/event/pianaforat-ciklus-klavirskih-recitala/
LOCATION:Lazareti\, lađa IV\, Frana Supila 10\, DUBROVNIK\, Dubrovačko - neretvanska županija\, 20000\, Croatia (Local Name: Hrvatska)
CATEGORIES:Koncerti,KULTURA
ATTACH;FMTTYPE=image/jpeg:https://kalendar.dubrovnik.hr/wp-content/uploads/2022/10/Pianaforat.jpg
ORGANIZER;CN="Radionica%20Sorgo":MAILTO:marija_g_t@yahoo.com
GEO:42.641934;18.1146923
X-APPLE-STRUCTURED-LOCATION;VALUE=URI;X-ADDRESS=Lazareti lađa IV Frana Supila 10 DUBROVNIK Dubrovačko - neretvanska županija 20000 Croatia (Local Name: Hrvatska);X-APPLE-RADIUS=500;X-TITLE=Frana Supila 10:geo:18.1146923,42.641934
END:VEVENT
END:VCALENDAR