BEGIN:VCALENDAR
VERSION:2.0
PRODID:-//Kalendar događanja Dubrovnika - ECPv6.1.1//NONSGML v1.0//EN
CALSCALE:GREGORIAN
METHOD:PUBLISH
X-ORIGINAL-URL:https://kalendar.dubrovnik.hr
X-WR-CALDESC:Događanja za Kalendar događanja Dubrovnika
REFRESH-INTERVAL;VALUE=DURATION:PT1H
X-Robots-Tag:noindex
X-PUBLISHED-TTL:PT1H
BEGIN:VTIMEZONE
TZID:Europe/Zagreb
BEGIN:DAYLIGHT
TZOFFSETFROM:+0100
TZOFFSETTO:+0200
TZNAME:CEST
DTSTART:20220327T010000
END:DAYLIGHT
BEGIN:STANDARD
TZOFFSETFROM:+0200
TZOFFSETTO:+0100
TZNAME:CET
DTSTART:20221030T010000
END:STANDARD
BEGIN:DAYLIGHT
TZOFFSETFROM:+0100
TZOFFSETTO:+0200
TZNAME:CEST
DTSTART:20230326T010000
END:DAYLIGHT
BEGIN:STANDARD
TZOFFSETFROM:+0200
TZOFFSETTO:+0100
TZNAME:CET
DTSTART:20231029T010000
END:STANDARD
BEGIN:DAYLIGHT
TZOFFSETFROM:+0100
TZOFFSETTO:+0200
TZNAME:CEST
DTSTART:20240331T010000
END:DAYLIGHT
BEGIN:STANDARD
TZOFFSETFROM:+0200
TZOFFSETTO:+0100
TZNAME:CET
DTSTART:20241027T010000
END:STANDARD
END:VTIMEZONE
BEGIN:VEVENT
DTSTART;TZID=Europe/Zagreb:20221125T200000
DTEND;TZID=Europe/Zagreb:20221125T233000
DTSTAMP:20260421T040754
CREATED:20221116T122116Z
LAST-MODIFIED:20221116T122126Z
UID:10001698-1669406400-1669419000@kalendar.dubrovnik.hr
SUMMARY:Advent na Vojnoviću: Pravila igre\, koncert
DESCRIPTION:
URL:https://kalendar.dubrovnik.hr/event/advent-na-vojnovicu-pravila-igre-koncert/
LOCATION:Studentski dom Dubrovnik\, Ul. dr. Vladka Mačeka 21\,\, Dubrovnik\, Dubrovnik\, 20000\, Croatia (Local Name: Hrvatska)
CATEGORIES:Festivali,Koncerti,Zimski festival
ORGANIZER;CN="Studentski%20centar%20Dubrovnik":MAILTO:akademis@scdu.hr
GEO:42.6500278;18.084983
X-APPLE-STRUCTURED-LOCATION;VALUE=URI;X-ADDRESS=Studentski dom Dubrovnik Ul. dr. Vladka Mačeka 21 Dubrovnik Dubrovnik 20000 Croatia (Local Name: Hrvatska);X-APPLE-RADIUS=500;X-TITLE=Ul. dr. Vladka Mačeka 21\,:geo:18.084983,42.6500278
END:VEVENT
BEGIN:VEVENT
DTSTART;TZID=Europe/Zagreb:20221202T200000
DTEND;TZID=Europe/Zagreb:20221202T233000
DTSTAMP:20260421T040754
CREATED:20221116T122302Z
LAST-MODIFIED:20221129T102655Z
UID:10001735-1670011200-1670023800@kalendar.dubrovnik.hr
SUMMARY:Advent na Vojnoviću: Bosutski bećari\, koncert
DESCRIPTION:
URL:https://kalendar.dubrovnik.hr/event/advent-na-vojnovicu-bosutski-becari-koncert/
LOCATION:Studentski dom Dubrovnik\, Ul. dr. Vladka Mačeka 21\,\, Dubrovnik\, Dubrovnik\, 20000\, Croatia (Local Name: Hrvatska)
CATEGORIES:Festivali,Koncerti,Zimski festival
ATTACH;FMTTYPE=image/jpeg:https://kalendar.dubrovnik.hr/wp-content/uploads/2022/11/315991147_115115614751538_3845410049105836940_n.jpg
ORGANIZER;CN="Studentski%20centar%20Dubrovnik":MAILTO:akademis@scdu.hr
GEO:42.6500278;18.084983
X-APPLE-STRUCTURED-LOCATION;VALUE=URI;X-ADDRESS=Studentski dom Dubrovnik Ul. dr. Vladka Mačeka 21 Dubrovnik Dubrovnik 20000 Croatia (Local Name: Hrvatska);X-APPLE-RADIUS=500;X-TITLE=Ul. dr. Vladka Mačeka 21\,:geo:18.084983,42.6500278
END:VEVENT
BEGIN:VEVENT
DTSTART;TZID=Europe/Zagreb:20221203T200000
DTEND;TZID=Europe/Zagreb:20221203T233000
DTSTAMP:20260421T040754
CREATED:20221116T122510Z
LAST-MODIFIED:20221129T102701Z
UID:10001738-1670097600-1670110200@kalendar.dubrovnik.hr
SUMMARY:Advent na Vojnoviću: Matko i Brane\, koncert
DESCRIPTION:
URL:https://kalendar.dubrovnik.hr/event/advent-na-vojnovicu-matko-i-brane-koncert/
LOCATION:Studentski dom Dubrovnik\, Ul. dr. Vladka Mačeka 21\,\, Dubrovnik\, Dubrovnik\, 20000\, Croatia (Local Name: Hrvatska)
CATEGORIES:Festivali,Koncerti,Zimski festival
ATTACH;FMTTYPE=image/jpeg:https://kalendar.dubrovnik.hr/wp-content/uploads/2022/11/315991147_115115614751538_3845410049105836940_n.jpg
ORGANIZER;CN="Studentski%20centar%20Dubrovnik":MAILTO:akademis@scdu.hr
GEO:42.6500278;18.084983
X-APPLE-STRUCTURED-LOCATION;VALUE=URI;X-ADDRESS=Studentski dom Dubrovnik Ul. dr. Vladka Mačeka 21 Dubrovnik Dubrovnik 20000 Croatia (Local Name: Hrvatska);X-APPLE-RADIUS=500;X-TITLE=Ul. dr. Vladka Mačeka 21\,:geo:18.084983,42.6500278
END:VEVENT
BEGIN:VEVENT
DTSTART;TZID=Europe/Zagreb:20221215T200000
DTEND;TZID=Europe/Zagreb:20221215T233000
DTSTAMP:20260421T040754
CREATED:20221116T122716Z
LAST-MODIFIED:20221129T102706Z
UID:10001701-1671134400-1671147000@kalendar.dubrovnik.hr
SUMMARY:Advent na Vojnoviću: Đani Stipaničev\, koncert
DESCRIPTION:
URL:https://kalendar.dubrovnik.hr/event/advent-na-vojnovicu-dani-stipanicev-koncert/
LOCATION:Studentski dom Dubrovnik\, Ul. dr. Vladka Mačeka 21\,\, Dubrovnik\, Dubrovnik\, 20000\, Croatia (Local Name: Hrvatska)
CATEGORIES:Festivali,Koncerti,Zimski festival
ATTACH;FMTTYPE=image/jpeg:https://kalendar.dubrovnik.hr/wp-content/uploads/2022/11/315991147_115115614751538_3845410049105836940_n.jpg
ORGANIZER;CN="Studentski%20centar%20Dubrovnik":MAILTO:akademis@scdu.hr
GEO:42.6500278;18.084983
X-APPLE-STRUCTURED-LOCATION;VALUE=URI;X-ADDRESS=Studentski dom Dubrovnik Ul. dr. Vladka Mačeka 21 Dubrovnik Dubrovnik 20000 Croatia (Local Name: Hrvatska);X-APPLE-RADIUS=500;X-TITLE=Ul. dr. Vladka Mačeka 21\,:geo:18.084983,42.6500278
END:VEVENT
BEGIN:VEVENT
DTSTART;TZID=Europe/Zagreb:20221216T200000
DTEND;TZID=Europe/Zagreb:20221216T233000
DTSTAMP:20260421T040754
CREATED:20221116T123418Z
LAST-MODIFIED:20221129T102711Z
UID:10001739-1671220800-1671233400@kalendar.dubrovnik.hr
SUMMARY:Advent na Vojnoviću: Matija Cvek\, koncert
DESCRIPTION:
URL:https://kalendar.dubrovnik.hr/event/advent-na-vojnovicu-matija-cvek-koncert/
LOCATION:Studentski dom Dubrovnik\, Ul. dr. Vladka Mačeka 21\,\, Dubrovnik\, Dubrovnik\, 20000\, Croatia (Local Name: Hrvatska)
CATEGORIES:Festivali,Koncerti,Zimski festival
ATTACH;FMTTYPE=image/jpeg:https://kalendar.dubrovnik.hr/wp-content/uploads/2022/11/315991147_115115614751538_3845410049105836940_n.jpg
ORGANIZER;CN="Studentski%20centar%20Dubrovnik":MAILTO:akademis@scdu.hr
GEO:42.6500278;18.084983
X-APPLE-STRUCTURED-LOCATION;VALUE=URI;X-ADDRESS=Studentski dom Dubrovnik Ul. dr. Vladka Mačeka 21 Dubrovnik Dubrovnik 20000 Croatia (Local Name: Hrvatska);X-APPLE-RADIUS=500;X-TITLE=Ul. dr. Vladka Mačeka 21\,:geo:18.084983,42.6500278
END:VEVENT
BEGIN:VEVENT
DTSTART;TZID=Europe/Zagreb:20221223T200000
DTEND;TZID=Europe/Zagreb:20221223T233000
DTSTAMP:20260421T040754
CREATED:20221116T124144Z
LAST-MODIFIED:20221129T102713Z
UID:10001741-1671825600-1671838200@kalendar.dubrovnik.hr
SUMMARY:Advent na Vojnoviću: Giuliano & Diktatori\, koncert
DESCRIPTION:
URL:https://kalendar.dubrovnik.hr/event/advent-na-vojnovicu-giuliano-diktatori-koncert/
LOCATION:Studentski dom Dubrovnik\, Ul. dr. Vladka Mačeka 21\,\, Dubrovnik\, Dubrovnik\, 20000\, Croatia (Local Name: Hrvatska)
CATEGORIES:Festivali,Koncerti,Zimski festival
ATTACH;FMTTYPE=image/jpeg:https://kalendar.dubrovnik.hr/wp-content/uploads/2022/11/315991147_115115614751538_3845410049105836940_n.jpg
ORGANIZER;CN="Studentski%20centar%20Dubrovnik":MAILTO:akademis@scdu.hr
GEO:42.6500278;18.084983
X-APPLE-STRUCTURED-LOCATION;VALUE=URI;X-ADDRESS=Studentski dom Dubrovnik Ul. dr. Vladka Mačeka 21 Dubrovnik Dubrovnik 20000 Croatia (Local Name: Hrvatska);X-APPLE-RADIUS=500;X-TITLE=Ul. dr. Vladka Mačeka 21\,:geo:18.084983,42.6500278
END:VEVENT
BEGIN:VEVENT
DTSTART;TZID=Europe/Zagreb:20230221T200000
DTEND;TZID=Europe/Zagreb:20230221T233000
DTSTAMP:20260421T040754
CREATED:20230126T124203Z
LAST-MODIFIED:20230220T095218Z
UID:10001902-1677009600-1677022200@kalendar.dubrovnik.hr
SUMMARY:Ultimi u Studentskom domu uz grupu Amadeus
DESCRIPTION:  \n 
URL:https://kalendar.dubrovnik.hr/event/ultimi-od-karnevala-veljun-uz-talire/
LOCATION:Studentski dom Dubrovnik\, Ul. dr. Vladka Mačeka 21\,\, Dubrovnik\, Dubrovnik\, 20000\, Croatia (Local Name: Hrvatska)
CATEGORIES:Zabava
ATTACH;FMTTYPE=image/jpeg:https://kalendar.dubrovnik.hr/wp-content/uploads/2023/02/734-1024-1.jpg
ORGANIZER;CN="Grad%20Dubrovnik":MAILTO:mkaticic@dubrovnik.hr
GEO:42.6500278;18.084983
X-APPLE-STRUCTURED-LOCATION;VALUE=URI;X-ADDRESS=Studentski dom Dubrovnik Ul. dr. Vladka Mačeka 21 Dubrovnik Dubrovnik 20000 Croatia (Local Name: Hrvatska);X-APPLE-RADIUS=500;X-TITLE=Ul. dr. Vladka Mačeka 21\,:geo:18.084983,42.6500278
END:VEVENT
BEGIN:VEVENT
DTSTART;TZID=Europe/Zagreb:20231128T200000
DTEND;TZID=Europe/Zagreb:20231128T233000
DTSTAMP:20260421T040754
CREATED:20231117T115917Z
LAST-MODIFIED:20231117T115931Z
UID:10003423-1701201600-1701214200@kalendar.dubrovnik.hr
SUMMARY:ADVENT NA VOJNOVIĆU: Diktatori
DESCRIPTION:
URL:https://kalendar.dubrovnik.hr/event/advent-na-vojnovicu-diktatori/
LOCATION:Studentski dom Dubrovnik\, Ul. dr. Vladka Mačeka 21\,\, Dubrovnik\, Dubrovnik\, 20000\, Croatia (Local Name: Hrvatska)
CATEGORIES:Zimski festival
ATTACH;FMTTYPE=image/jpeg:https://kalendar.dubrovnik.hr/wp-content/uploads/2023/11/402853425_18001729415471003_102334390529245454_n.jpg
ORGANIZER;CN="Studentski%20centar%20Dubrovnik":MAILTO:akademis@scdu.hr
GEO:42.6500278;18.084983
X-APPLE-STRUCTURED-LOCATION;VALUE=URI;X-ADDRESS=Studentski dom Dubrovnik Ul. dr. Vladka Mačeka 21 Dubrovnik Dubrovnik 20000 Croatia (Local Name: Hrvatska);X-APPLE-RADIUS=500;X-TITLE=Ul. dr. Vladka Mačeka 21\,:geo:18.084983,42.6500278
END:VEVENT
BEGIN:VEVENT
DTSTART;TZID=Europe/Zagreb:20231201T200000
DTEND;TZID=Europe/Zagreb:20231201T233000
DTSTAMP:20260421T040754
CREATED:20231117T120352Z
LAST-MODIFIED:20231117T120408Z
UID:10003424-1701460800-1701473400@kalendar.dubrovnik.hr
SUMMARY:ADVENT NA VOJNOVIĆU: Bosutski bećari
DESCRIPTION:
URL:https://kalendar.dubrovnik.hr/event/advent-na-vojnovicu-bosutski-becari/
LOCATION:Studentski dom Dubrovnik\, Ul. dr. Vladka Mačeka 21\,\, Dubrovnik\, Dubrovnik\, 20000\, Croatia (Local Name: Hrvatska)
CATEGORIES:Zimski festival
ATTACH;FMTTYPE=image/jpeg:https://kalendar.dubrovnik.hr/wp-content/uploads/2023/11/402853425_18001729415471003_102334390529245454_n.jpg
ORGANIZER;CN="Studentski%20centar%20Dubrovnik":MAILTO:akademis@scdu.hr
GEO:42.6500278;18.084983
X-APPLE-STRUCTURED-LOCATION;VALUE=URI;X-ADDRESS=Studentski dom Dubrovnik Ul. dr. Vladka Mačeka 21 Dubrovnik Dubrovnik 20000 Croatia (Local Name: Hrvatska);X-APPLE-RADIUS=500;X-TITLE=Ul. dr. Vladka Mačeka 21\,:geo:18.084983,42.6500278
END:VEVENT
BEGIN:VEVENT
DTSTART;TZID=Europe/Zagreb:20231208T200000
DTEND;TZID=Europe/Zagreb:20231208T233000
DTSTAMP:20260421T040754
CREATED:20231117T120826Z
LAST-MODIFIED:20231117T120843Z
UID:10003425-1702065600-1702078200@kalendar.dubrovnik.hr
SUMMARY:ADVENT NA VOJNOVIĆU: Vojko V
DESCRIPTION:
URL:https://kalendar.dubrovnik.hr/event/advent-na-vojnovicu-vojko-v/
LOCATION:Studentski dom Dubrovnik\, Ul. dr. Vladka Mačeka 21\,\, Dubrovnik\, Dubrovnik\, 20000\, Croatia (Local Name: Hrvatska)
CATEGORIES:Zimski festival
ATTACH;FMTTYPE=image/jpeg:https://kalendar.dubrovnik.hr/wp-content/uploads/2023/11/402853425_18001729415471003_102334390529245454_n.jpg
ORGANIZER;CN="Studentski%20centar%20Dubrovnik":MAILTO:akademis@scdu.hr
GEO:42.6500278;18.084983
X-APPLE-STRUCTURED-LOCATION;VALUE=URI;X-ADDRESS=Studentski dom Dubrovnik Ul. dr. Vladka Mačeka 21 Dubrovnik Dubrovnik 20000 Croatia (Local Name: Hrvatska);X-APPLE-RADIUS=500;X-TITLE=Ul. dr. Vladka Mačeka 21\,:geo:18.084983,42.6500278
END:VEVENT
BEGIN:VEVENT
DTSTART;TZID=Europe/Zagreb:20231210T200000
DTEND;TZID=Europe/Zagreb:20231210T233000
DTSTAMP:20260421T040754
CREATED:20231117T121214Z
LAST-MODIFIED:20231117T123040Z
UID:10003426-1702238400-1702251000@kalendar.dubrovnik.hr
SUMMARY:ADVENT NA VOJNOVIĆU: Matko i Brane
DESCRIPTION:
URL:https://kalendar.dubrovnik.hr/event/advent-na-vojnovicu-matko-i-brane/
LOCATION:Studentski dom Dubrovnik\, Ul. dr. Vladka Mačeka 21\,\, Dubrovnik\, Dubrovnik\, 20000\, Croatia (Local Name: Hrvatska)
CATEGORIES:Zimski festival
ATTACH;FMTTYPE=image/jpeg:https://kalendar.dubrovnik.hr/wp-content/uploads/2023/11/402853425_18001729415471003_102334390529245454_n.jpg
ORGANIZER;CN="Studentski%20centar%20Dubrovnik":MAILTO:akademis@scdu.hr
GEO:42.6500278;18.084983
X-APPLE-STRUCTURED-LOCATION;VALUE=URI;X-ADDRESS=Studentski dom Dubrovnik Ul. dr. Vladka Mačeka 21 Dubrovnik Dubrovnik 20000 Croatia (Local Name: Hrvatska);X-APPLE-RADIUS=500;X-TITLE=Ul. dr. Vladka Mačeka 21\,:geo:18.084983,42.6500278
END:VEVENT
BEGIN:VEVENT
DTSTART;TZID=Europe/Zagreb:20231215T200000
DTEND;TZID=Europe/Zagreb:20231215T233000
DTSTAMP:20260421T040754
CREATED:20231117T131500Z
LAST-MODIFIED:20231123T092145Z
UID:10003427-1702670400-1702683000@kalendar.dubrovnik.hr
SUMMARY:ADVENT NA VOJNOVIĆU: Mate Bulić
DESCRIPTION:
URL:https://kalendar.dubrovnik.hr/event/advent-na-vojnovicu-mate-bulic/
LOCATION:Studentski dom Dubrovnik\, Ul. dr. Vladka Mačeka 21\,\, Dubrovnik\, Dubrovnik\, 20000\, Croatia (Local Name: Hrvatska)
CATEGORIES:Zimski festival
ORGANIZER;CN="Studentski%20centar%20Dubrovnik":MAILTO:akademis@scdu.hr
GEO:42.6500278;18.084983
X-APPLE-STRUCTURED-LOCATION;VALUE=URI;X-ADDRESS=Studentski dom Dubrovnik Ul. dr. Vladka Mačeka 21 Dubrovnik Dubrovnik 20000 Croatia (Local Name: Hrvatska);X-APPLE-RADIUS=500;X-TITLE=Ul. dr. Vladka Mačeka 21\,:geo:18.084983,42.6500278
END:VEVENT
BEGIN:VEVENT
DTSTART;TZID=Europe/Zagreb:20231217T200000
DTEND;TZID=Europe/Zagreb:20231217T233000
DTSTAMP:20260421T040754
CREATED:20231117T115751Z
LAST-MODIFIED:20231124T085815Z
UID:10003422-1702843200-1702855800@kalendar.dubrovnik.hr
SUMMARY:ADVENT NA VOJNOVIĆU: Dalmatino
DESCRIPTION:Koncert uz 60 godina Studentskog centra Dubrovnik \n 
URL:https://kalendar.dubrovnik.hr/event/advent-na-vojnovicu-dalmatino/
LOCATION:Studentski dom Dubrovnik\, Ul. dr. Vladka Mačeka 21\,\, Dubrovnik\, Dubrovnik\, 20000\, Croatia (Local Name: Hrvatska)
CATEGORIES:Zimski festival
ATTACH;FMTTYPE=image/jpeg:https://kalendar.dubrovnik.hr/wp-content/uploads/2023/11/402853425_18001729415471003_102334390529245454_n.jpg
ORGANIZER;CN="Studentski%20centar%20Dubrovnik":MAILTO:akademis@scdu.hr
GEO:42.6500278;18.084983
X-APPLE-STRUCTURED-LOCATION;VALUE=URI;X-ADDRESS=Studentski dom Dubrovnik Ul. dr. Vladka Mačeka 21 Dubrovnik Dubrovnik 20000 Croatia (Local Name: Hrvatska);X-APPLE-RADIUS=500;X-TITLE=Ul. dr. Vladka Mačeka 21\,:geo:18.084983,42.6500278
END:VEVENT
BEGIN:VEVENT
DTSTART;TZID=Europe/Zagreb:20231222T200000
DTEND;TZID=Europe/Zagreb:20231222T233000
DTSTAMP:20260421T040754
CREATED:20231117T132454Z
LAST-MODIFIED:20231117T132505Z
UID:10003428-1703275200-1703287800@kalendar.dubrovnik.hr
SUMMARY:ADVENT NA VOJNOVIĆU: Zsa Zsa
DESCRIPTION:
URL:https://kalendar.dubrovnik.hr/event/advent-na-vojnovicu-zsa-zsa/
LOCATION:Studentski dom Dubrovnik\, Ul. dr. Vladka Mačeka 21\,\, Dubrovnik\, Dubrovnik\, 20000\, Croatia (Local Name: Hrvatska)
CATEGORIES:Zimski festival
ATTACH;FMTTYPE=image/jpeg:https://kalendar.dubrovnik.hr/wp-content/uploads/2023/11/402853425_18001729415471003_102334390529245454_n.jpg
ORGANIZER;CN="Studentski%20centar%20Dubrovnik":MAILTO:akademis@scdu.hr
GEO:42.6500278;18.084983
X-APPLE-STRUCTURED-LOCATION;VALUE=URI;X-ADDRESS=Studentski dom Dubrovnik Ul. dr. Vladka Mačeka 21 Dubrovnik Dubrovnik 20000 Croatia (Local Name: Hrvatska);X-APPLE-RADIUS=500;X-TITLE=Ul. dr. Vladka Mačeka 21\,:geo:18.084983,42.6500278
END:VEVENT
BEGIN:VEVENT
DTSTART;TZID=Europe/Zagreb:20231227T200000
DTEND;TZID=Europe/Zagreb:20231227T233000
DTSTAMP:20260421T040754
CREATED:20231117T132710Z
LAST-MODIFIED:20231117T132713Z
UID:10003429-1703707200-1703719800@kalendar.dubrovnik.hr
SUMMARY:ADVENT NA VOJNOVIĆU: Jole
DESCRIPTION:
URL:https://kalendar.dubrovnik.hr/event/advent-na-vojnovicu-jole/
LOCATION:Studentski dom Dubrovnik\, Ul. dr. Vladka Mačeka 21\,\, Dubrovnik\, Dubrovnik\, 20000\, Croatia (Local Name: Hrvatska)
CATEGORIES:Zimski festival
ATTACH;FMTTYPE=image/jpeg:https://kalendar.dubrovnik.hr/wp-content/uploads/2023/11/402853425_18001729415471003_102334390529245454_n.jpg
ORGANIZER;CN="Studentski%20centar%20Dubrovnik":MAILTO:akademis@scdu.hr
GEO:42.6500278;18.084983
X-APPLE-STRUCTURED-LOCATION;VALUE=URI;X-ADDRESS=Studentski dom Dubrovnik Ul. dr. Vladka Mačeka 21 Dubrovnik Dubrovnik 20000 Croatia (Local Name: Hrvatska);X-APPLE-RADIUS=500;X-TITLE=Ul. dr. Vladka Mačeka 21\,:geo:18.084983,42.6500278
END:VEVENT
BEGIN:VEVENT
DTSTART;TZID=Europe/Zagreb:20241230T200000
DTEND;TZID=Europe/Zagreb:20241230T233000
DTSTAMP:20260421T040754
CREATED:20241125T072528Z
LAST-MODIFIED:20241125T073147Z
UID:10005504-1735588800-1735601400@kalendar.dubrovnik.hr
SUMMARY:Advent na Vojnoviću
DESCRIPTION:29.11.2024. – Otvaranje Adventa\, nastup Maje Šuput\n03.12.2024. – Početak “Vonki utorka”\, nastup benda Diktatori \n10.12.2024. – Nastup Matka i Brane\n13.12.2024. – Koncert Mate Bulića\n17.12.2024. – Nastup Ivice Sikirića Iće\n20.12.2024. – Koncert Halida Bešlića\n30.12.2024. – Proslava Nove godine\, nastupaju Maja Bajamić\, Giuliano i Diktatori \n  \nViše informacija \nFacebook \nInstagram \n  \n 
URL:https://kalendar.dubrovnik.hr/event/advent-na-vojnovicu/2024-12-30/
LOCATION:Studentski dom Dubrovnik\, Ul. dr. Vladka Mačeka 21\,\, Dubrovnik\, Dubrovnik\, 20000\, Croatia (Local Name: Hrvatska)
ATTACH;FMTTYPE=image/png:https://kalendar.dubrovnik.hr/wp-content/uploads/2024/11/Snimka-zaslona-2024-11-25-083109.png
ORGANIZER;CN="Studentski%20centar%20Dubrovnik":MAILTO:akademis@scdu.hr
GEO:42.6500278;18.084983
X-APPLE-STRUCTURED-LOCATION;VALUE=URI;X-ADDRESS=Studentski dom Dubrovnik Ul. dr. Vladka Mačeka 21 Dubrovnik Dubrovnik 20000 Croatia (Local Name: Hrvatska);X-APPLE-RADIUS=500;X-TITLE=Ul. dr. Vladka Mačeka 21\,:geo:18.084983,42.6500278
END:VEVENT
BEGIN:VEVENT
DTSTART;TZID=Europe/Zagreb:20221230T200000
DTEND;TZID=Europe/Zagreb:20221230T233000
DTSTAMP:20260421T040754
CREATED:20221116T124520Z
LAST-MODIFIED:20221129T102720Z
UID:10001704-1672430400-1672443000@kalendar.dubrovnik.hr
SUMMARY:Advent na Vojnoviću: Matko i brane\, koncert
DESCRIPTION:
URL:https://kalendar.dubrovnik.hr/event/advent-na-vojnovicu-koncert/
LOCATION:Studentski dom Dubrovnik\, Ul. dr. Vladka Mačeka 21\,\, Dubrovnik\, Dubrovnik\, 20000\, Croatia (Local Name: Hrvatska)
CATEGORIES:Festivali,Koncerti,Zimski festival
ATTACH;FMTTYPE=image/jpeg:https://kalendar.dubrovnik.hr/wp-content/uploads/2022/11/315991147_115115614751538_3845410049105836940_n.jpg
ORGANIZER;CN="Studentski%20centar%20Dubrovnik":MAILTO:akademis@scdu.hr
GEO:42.6500278;18.084983
X-APPLE-STRUCTURED-LOCATION;VALUE=URI;X-ADDRESS=Studentski dom Dubrovnik Ul. dr. Vladka Mačeka 21 Dubrovnik Dubrovnik 20000 Croatia (Local Name: Hrvatska);X-APPLE-RADIUS=500;X-TITLE=Ul. dr. Vladka Mačeka 21\,:geo:18.084983,42.6500278
END:VEVENT
END:VCALENDAR