BEGIN:VCALENDAR
VERSION:2.0
PRODID:-//Kalendar događanja Dubrovnika - ECPv6.1.1//NONSGML v1.0//EN
CALSCALE:GREGORIAN
METHOD:PUBLISH
X-WR-CALNAME:Kalendar događanja Dubrovnika
X-ORIGINAL-URL:https://kalendar.dubrovnik.hr
X-WR-CALDESC:Događanja za Kalendar događanja Dubrovnika
REFRESH-INTERVAL;VALUE=DURATION:PT1H
X-Robots-Tag:noindex
X-PUBLISHED-TTL:PT1H
BEGIN:VTIMEZONE
TZID:Europe/Zagreb
BEGIN:DAYLIGHT
TZOFFSETFROM:+0100
TZOFFSETTO:+0200
TZNAME:CEST
DTSTART:20230326T010000
END:DAYLIGHT
BEGIN:STANDARD
TZOFFSETFROM:+0200
TZOFFSETTO:+0100
TZNAME:CET
DTSTART:20231029T010000
END:STANDARD
END:VTIMEZONE
BEGIN:VEVENT
DTSTART;TZID=Europe/Zagreb:20231103T170000
DTEND;TZID=Europe/Zagreb:20231103T183000
DTSTAMP:20260424T020442
CREATED:20231026T141944Z
LAST-MODIFIED:20231027T091548Z
UID:10003268-1699030800-1699036200@kalendar.dubrovnik.hr
SUMMARY:17. Revija kratkog filma "Ispod tepiha"
DESCRIPTION:17. Revija kratkog filma “Ispod tepiha” održati će se u petak\, 3. studenoga 2023.\, u 17 sati u Saloči od zrcala Narodne knjižnice Grad. \nDebelim morem sad me vozi stari ruzinavi brod…refren je jedne popularne pjesme\, a filmovi Udruge “Ispod tepiha” bave se ruzinavom stvarnošću iz raznih kutova – kaosa grada\, mistike zla\, svjetla i tame samoće\, stanovnika zatvora boljih od mnogih stanovnika slobode\, ili pak leša/leševa ispod crvenog tepiha na olimpskim vrhuncima uspjeha i moći… \nNa programu su filmovi Maše Šarović\, The Hashemi Brothersa\, Smilje Stanislave Stijepović\, Jovana Sarkanjca\, Cannura Daskirana i Seada Šabotića. \nProgram filmova je raznovrstan i zanimljiv. Završava dokumentarcem o grupi zatvorenika koji je snimljen u zatvoru. Ulazak je slobodan za sve.
URL:https://kalendar.dubrovnik.hr/event/17-revija-kratkog-filma-ispod-tepiha/
LOCATION:Dubrovačke knjižnice\, Znanstvena knjižnica\, Ul. Cvijete Zuzorić 4\, DUBROVNIK\, Dubrovačko - neretvanska županija\, 20000\, Croatia (Local Name: Hrvatska)
CATEGORIES:FILM,KULTURA
ATTACH;FMTTYPE=image/jpeg:https://kalendar.dubrovnik.hr/wp-content/uploads/2023/10/Screenshot_20231017_010907_Gallery.jpg
ORGANIZER;CN="Udruga%20Crveni%20tepih":MAILTO:smiljatadic@net.hr
GEO:42.6408333;18.1095278
X-APPLE-STRUCTURED-LOCATION;VALUE=URI;X-ADDRESS=Dubrovačke knjižnice Znanstvena knjižnica Ul. Cvijete Zuzorić 4 DUBROVNIK Dubrovačko - neretvanska županija 20000 Croatia (Local Name: Hrvatska);X-APPLE-RADIUS=500;X-TITLE=Znanstvena knjižnica\, Ul. Cvijete Zuzorić 4:geo:18.1095278,42.6408333
END:VEVENT
END:VCALENDAR